Workbook

Sheet Сведения о независимой оценке
A1: Количественные результаты независимой оценки качества оказания услуг организациями
A2: Шаблон сформирован 02.12.2020 13:41
A3: Публично-правовое образование | C3: 82606000 - Ахтынский муниципальный район
A4: Сфера деятельности | C4: 2 - Образование
A5: Период проведения независимой оценки | C5: 2020 год
A6: Основание для определения перечня показателей | C6: Единый порядок расчета (Приказ Минтруда № 344н от 31.05.2018 г.)
A8: Пожалуйста, введите значения выполнения индикаторов
A9: № п.п. | B9: Организация | C9: Численность получателей услуг организации | D9: Количество респондентов | E9: Доля респондентов | F9: Общие критерии оценки
F10: 1 - критерий открытости и доступности информации об организации | U10: 2 - критерий комфортности условий предоставления услуги, в том числе время ожидания ее предоставления | AA10: 3 - критерий доступности услуг для инвалидов | AJ10: 4 - критерий доброжелательности, вежливости работников организации | AS10: 5 - критерий удовлетворенности условиями оказания услуг
F11: Показатели | U11: Показатели | AA11: Показатели | AJ11: Показатели | AS11: Показатели
F12: 1.1 Соответствие информации о деятельности организации социальной сферы, размещенной на общедоступных информационных ресурсах, ее содержанию и порядку (форме), установленным законодательными и иными нормативными правовыми актами Российской Федерации | L12: 1.2 Наличие на официальном сайте организации социальной сферы информации о дистанционных способах обратной связи и взаимодействия с получателями услуг и их функционирование | O12: 1.3 Доля получателей услуг, удовлетворенных открытостью, полнотой и доступностью информации о деятельности организации социальной сферы | U12: 2.1 Обеспечение в организации социальной сферы комфортных условий предоставления услуг | X12: 2.3 Доля получателей услуг удовлетворенных комфортностью предоставления услуг организацией социальной сферы | AA12: 3.1 Оборудование помещений организации социальной сферы и прилегающей к ней территории с учетом доступности для инвалидов | AD12: 3.2 Обеспечение в организации социальной сферы условий доступности, позволяющих инвалидам получать услуги наравне с другими | AG12: 3.3 Доля получателей услуг, удовлетворенных доступностью услуг для инвалидов | AJ12: 4.1 Доля получателей услуг, удовлетворенных доброжелательностью, вежливостью работников организации социальной сферы, обеспечивающих первичный контакт и информирование получателя услуги при непосредственном обращении в организацию социальной сферы | AM12: 4.2 Доля получателей услуг, удовлетворенных доброжелательностью, вежливостью работников организации социальной сферы, обеспечивающих непосредственное оказание услуги при обращении в организацию социальной сферы | AP12: 4.3 Доля получателей услуг, удовлетворенных доброжелательностью, вежливостью работников организации социальной сферы при использовании дистанционных форм взаимодействия | AS12: 5.1 Доля получателей услуг, которые готовы рекомендовать организацию социальной сферы родственникам и знакомым (могли бы ее рекомендовать, если бы была возможность выбора организации социальной сферы) | AV12: 5.2 Доля получателей услуг, удовлетворенных организационными условиями предоставления услуг | AY12: 5.3 Доля получателей услуг, удовлетворенных в целом условиями оказания услуг в организации социальной сферы
F13: 1.1.1 - Соответствие информации о деятельности организации социальной сферы, размещенной на информационных стендах в помещении организации социальной сферы, ее содержанию и порядку (форме), установленным нормативными правовыми актами. | I13: 1.1.2 - Соответствие информации о деятельности организации социальной сферы, размещенной на официальном сайте организации социальной сферы, ее содержанию и порядку (форме), установленным нормативными правовыми актами. | L13: 1.2.1 - Наличие и функционирование на официальном сайте организации информации о дистанционных способах взаимодействия с получателями услуг: телефона; электронной почты; электронных сервисов (форма для подачи электронного обращения (жалобы, предложения), получение консультации по оказываемым услугам и пр.); раздела «Часто задаваемые вопросы»; технической возможности выражения получателем услуг мнения о качестве условий оказания услуг организацией социальной сферы (наличие анкеты для опроса граждан или гиперссылки на нее); иного дистанционного способа взаимодействия. | O13: 1.3.1 - Удовлетворенность качеством, полнотой и доступностью информации о деятельности организации социальной сферы, размещенной на информационных стендах в помещении организации социальной сферы. | R13: 1.3.2 - Удовлетворенность качеством, полнотой и доступностью информации о деятельности организации социальной сферы, размещенной на официальном сайте организации социальной сферы в сети «Интернет». | U13: 2.1.1 - Наличие комфортных условий для предоставления услуг, например: наличие комфортной зоны отдыха (ожидания), оборудованной соответствующей мебелью; наличие и понятность навигации внутри организации социальной сферы; наличие и доступность питьевой воды; наличие и доступность санитарно-гигиенических помещений; санитарное состояние помещений организации социальной сферы; транспортная доступность (возможность доехать до организации социальной сферы на общественном транспорте, наличие парковки); доступность записи на получение услуги (по телефону, на официальном сайте организации социальной сферы в сети Интернет, посредством Единого портала государственных и муниципальных услуг, при личном посещении в регистратуре или у специалиста организации социальной сферы и пр.); иные параметры комфортных условий, установленные ведомственным актом уполномоченного федерального органа исполнительной власти. | X13: 2.3.1 - Удовлетворенность комфортностью предоставления услуг организацией социальной сферы. | AA13: 3.1.1 - Наличие в помещениях организации социальной сферы и на прилегающей к ней территории: оборудованных входных групп пандусами (подъемными платформами); выделенных стоянок для автотранспортных средств инвалидов; адаптированных лифтов, поручней, расширенных дверных проемов; сменных кресел-колясок; специально оборудованных санитарно-гигиенических помещений в организации социальной сферы. | AD13: 3.2.1 - Наличие в организации социальной сферы условий доступности, позволяющих инвалидам получать услуги наравне с другими: дублирование для инвалидов по слуху и зрению звуковой и зрительной информации; дублирование надписей, знаков и иной текстовой и графической информации знаками, выполненными рельефно-точечным шрифтом Брайля; возможность предоставления инвалидам по слуху (слуху и зрению) услуг сурдопереводчика (тифлосурдопереводчика); наличие альтернативной версии официального сайта организации социальной сферы в сети Интернет для инвалидов по зрению; помощь, оказываемая работниками организации социальной сферы, прошедшими необходимое обучение (инструктирование) по сопровождению инвалидов в помещениях организации социальной сферы и на прилегающей территории; наличие возможности предоставления услуги в дистанционном режиме или на дому. | AG13: 3.3.1 - Удовлетворенность доступностью услуг для инвалидов. | AJ13: 4.1.1 - Удовлетворенность доброжелательностью, вежливостью работников организации социальной сферы, обеспечивающих первичный контакт и информирование получателя услуги (работники справочной, приемного отделения, регистратуры, кассы и прочие работники) при непосредственном обращении в организацию социальной сферы. | AM13: 4.2.1 - Удовлетворенность доброжелательностью, вежливостью работников организации социальной сферы, обеспечивающих непосредственное оказание услуги (врачи, социальные работники, работники, осуществляющие экспертно-реабилитационную диагностику, преподаватели, тренеры, инструкторы, библиотекари, экскурсоводы и прочие работники) при обращении в организацию социальной сферы. | AP13: 4.3.1 - Удовлетворенность доброжелательностью, вежливостью работников организации социальной сферы при использовании дистанционных форм взаимодействия (по телефону, по электронной почте, с помощью электронных сервисов (подачи электронного обращения (жалобы, предложения), получения консультации по оказываемым услугам и пр.). | AS13: 5.1.1 - Готовность получателей услуг рекомендовать организацию социальной сферы родственникам и знакомым. | AV13: 5.2.1 - Удовлетворенность получателей услуг организационными условиями оказания услуг, например: наличием и понятностью навигации внутри организации социальной сферы; графиком работы организации социальной сферы (подразделения, отдельных специалистов, графиком прихода социального работника на дом и пр.). | AY13: 5.3.1 - Удовлетворенность получателей услуг в целом условиями оказания услуг в организации социальной сферы.
F14: Наименование индикатора | G14: Выполнение индикатора | I14: Наименование индикатора | J14: Выполнение индикатора | L14: Наименование индикатора | M14: Выполнение индикатора | O14: Наименование индикатора | P14: Выполнение индикатора | R14: Наименование индикатора | S14: Выполнение индикатора | U14: Наименование индикатора | V14: Выполнение индикатора | X14: Наименование индикатора | Y14: Выполнение индикатора | AA14: Наименование индикатора | AB14: Выполнение индикатора | AD14: Наименование индикатора | AE14: Выполнение индикатора | AG14: Наименование индикатора | AH14: Выполнение индикатора | AJ14: Наименование индикатора | AK14: Выполнение индикатора | AM14: Наименование индикатора | AN14: Выполнение индикатора | AP14: Наименование индикатора | AQ14: Выполнение индикатора | AS14: Наименование индикатора | AT14: Выполнение индикатора | AV14: Наименование индикатора | AW14: Выполнение индикатора | AY14: Наименование индикатора | AZ14: Выполнение индикатора
A15: 1 | B15: МУНИЦИПАЛЬНОЕ КАЗЕННОЕ ОБЩЕОБРАЗОВАТЕЛЬНОЕ УЧРЕЖДЕНИЕ "ФИЙСКАЯ СРЕДНЯЯ ОБЩЕОБРАЗОВАТЕЛЬНАЯ ШКОЛА", 0504006227, организации, осуществляющие образовательную деятельность | C15: 40 | D15: 16 | E15: 40.0 | F15: объем информации (количество материалов/единиц информации), размещенной на информационных стендах в помещении организации по отношению к количеству материалов, размещение которых установлено нормативными правовыми актами | G15: 6 | H15: =INDEX(Индикаторы!H15:H16,MATCH('Сведения о независимой оценке'!F15,Индикаторы!F15:F16,0)) -> 13 | I15: Объем информации (количество материалов/единиц информации), размещенной на официальном сайте организации по отношению к количеству материалов, размещение которых установлено нормативными правовыми актами | J15: 20 | K15: =INDEX(Индикаторы!K15:K16,MATCH('Сведения о независимой оценке'!I15,Индикаторы!I15:I16,0)) -> 38 | L15: Количество функционирующих дистанционных способов взаимодействия (от одного до трех способов включительно) | M15: 2 | N15: =INDEX(Индикаторы!N15:N17,MATCH('Сведения о независимой оценке'!L15,Индикаторы!L15:L17,0)) -> 30 | O15: Число получателей услуг, удовлетворенных качеством, полнотой и доступностью информации о деятельности организации социальной сферы, размещенной на информационных стендах в помещении организации социальной сферы по отношению к числу опрошенных получателей услуг, ответивших на соответствующий вопрос анкеты | P15: 14 | Q15: 14 | R15: число получателей услуг, удовлетворенных качеством, полнотой и доступностью информации о деятельности организации социальной сферы, размещенной на официальном сайте организации социальной сферы по отношению к числу опрошенных получателей услуг, ответивших на соответствующий вопрос анкеты | S15: 15 | T15: 16 | U15: Количество комфортных условий для предоставления услуг (от одного до четырех включительно) | V15: 3 | W15: =INDEX(Индикаторы!W15:W17,MATCH('Сведения о независимой оценке'!U15,Индикаторы!U15:U17,0)) -> 20 | X15: Число получателей услуг, удовлетворенных комфортностью предоставления услуг организацией социальной сферы, по отношению к числу опрошенных получателей услуг, ответивших на данный вопрос | Y15: 15 | Z15: 16 | AA15: Отсутствуют условия доступности для инвалидов | AC15: =INDEX(Индикаторы!AC15:AC17,MATCH('Сведения о независимой оценке'!AA15,Индикаторы!AA15:AA17,0)) -> 0 | AD15: Количество условий доступности, позволяющих инвалидам получать услуги наравне с другими (от одного до четырех) | AE15: 1 | AF15: =INDEX(Индикаторы!AF15:AF17,MATCH('Сведения о независимой оценке'!AD15,Индикаторы!AD15:AD17,0)) -> 20 | AG15: Число получателей услуг-инвалидов, удовлетворенных доступностью услуг для инвалидов, по отношению к числу опрошенных получателей услуг- инвалидов, ответивших на соответствующий вопрос анкеты | AH15: 2 | AI15: 3 | AJ15: Число получателей услуг, удовлетворенных доброжелательностью, вежливостью работников организации социальной сферы, обеспечивающих первичный контакт и информирование получателя услуги, по отношению к числу опрошенныхполучателей услуг, ответивших на соответствующий вопрос анкеты | AK15: 15 | AL15: 16 | AM15: Число получателей услуг, удовлетворенных доброжелательностью, вежливостью работников организации социальной сферы, обеспечивающих непосредственное оказание услуги, по отношению к числу опрошенных получателей услуг, ответивших на соответствующий вопрос анкеты | AN15: 15 | AO15: 16 | AP15: Число получателей услуг, удовлетворенных доброжелательностью, вежливостью работников организации социальной сферы при использовании дистанционных форм взаимодействия, по отношению к числу опрошенных получателей услуг, ответивших на соответствующий вопрос анкеты | AQ15: 13 | AR15: 14 | AS15: Число получателей услуг, которые готовы рекомендовать организацию родственникам и знакомым (могли бы ее рекомендовать, если бы была возможность выбора организации, по отношению к числу опрошенных получателей услуг, ответивших на соответствующий вопрос анкеты | AT15: 15 | AU15: 16 | AV15: Число получателей услуг, удовлетворенных организационными условиями предоставления услуг, по отношению к числу опрошенных получателей услуг ответивших на соответствующий вопрос анкеты | AW15: 15 | AX15: 16 | AY15: Число получателей услуг, удовлетворенных в целом условиями оказания услуг в организации социальной сферы, по отношению к числу опрошенных получателей услуг, ответивших на соответствующий вопрос анкеты | AZ15: 15 | BA15: 16
A16: 2 | B16: МУНИЦИПАЛЬНОЕ КАЗЕННОЕ ОБЩЕОБРАЗОВАТЕЛЬНОЕ УЧРЕЖДЕНИЕ "ДЖАБИНСКАЯ СРЕДНЯЯ ОБЩЕОБРАЗОВАТЕЛЬНАЯ ШКОЛА ИМ.М.Д.КУРБАНОВА", 0504005569, организации, осуществляющие образовательную деятельность | C16: 40 | D16: 16 | E16: 40.0 | F16: отсутствует информация о деятельности организации социальной сферы | H16: =INDEX(Индикаторы!H18:H19,MATCH('Сведения о независимой оценке'!F16,Индикаторы!F18:F19,0)) -> 0 | I16: Отсутствует информация о деятельности организации социальной сферы на ее официальном сайте | K16: =INDEX(Индикаторы!K18:K19,MATCH('Сведения о независимой оценке'!I16,Индикаторы!I18:I19,0)) -> 0 | L16: Отсутствуют или не функционируют дистанционные способы взаимодействия | N16: =INDEX(Индикаторы!N18:N20,MATCH('Сведения о независимой оценке'!L16,Индикаторы!L18:L20,0)) -> 0 | O16: Число получателей услуг, удовлетворенных качеством, полнотой и доступностью информации о деятельности организации социальной сферы, размещенной на информационных стендах в помещении организации социальной сферы по отношению к числу опрошенных получателей услуг, ответивших на соответствующий вопрос анкеты | P16: 15 | Q16: 15 | R16: число получателей услуг, удовлетворенных качеством, полнотой и доступностью информации о деятельности организации социальной сферы, размещенной на официальном сайте организации социальной сферы по отношению к числу опрошенных получателей услуг, ответивших на соответствующий вопрос анкеты | S16: 15 | T16: 15 | U16: Отсутствуют комфортные условия | W16: =INDEX(Индикаторы!W18:W20,MATCH('Сведения о независимой оценке'!U16,Индикаторы!U18:U20,0)) -> 0 | X16: Число получателей услуг, удовлетворенных комфортностью предоставления услуг организацией социальной сферы, по отношению к числу опрошенных получателей услуг, ответивших на данный вопрос | Y16: 16 | Z16: 16 | AA16: Отсутствуют условия доступности для инвалидов | AC16: =INDEX(Индикаторы!AC18:AC20,MATCH('Сведения о независимой оценке'!AA16,Индикаторы!AA18:AA20,0)) -> 0 | AD16: Отсутствуют условия доступности, позволяющие инвалидам получать услуги наравне с другими | AF16: =INDEX(Индикаторы!AF18:AF20,MATCH('Сведения о независимой оценке'!AD16,Индикаторы!AD18:AD20,0)) -> 0 | AG16: Число получателей услуг-инвалидов, удовлетворенных доступностью услуг для инвалидов, по отношению к числу опрошенных получателей услуг- инвалидов, ответивших на соответствующий вопрос анкеты | AH16: 2 | AI16: 2 | AJ16: Число получателей услуг, удовлетворенных доброжелательностью, вежливостью работников организации социальной сферы, обеспечивающих первичный контакт и информирование получателя услуги, по отношению к числу опрошенныхполучателей услуг, ответивших на соответствующий вопрос анкеты | AK16: 16 | AL16: 16 | AM16: Число получателей услуг, удовлетворенных доброжелательностью, вежливостью работников организации социальной сферы, обеспечивающих непосредственное оказание услуги, по отношению к числу опрошенных получателей услуг, ответивших на соответствующий вопрос анкеты | AN16: 16 | AO16: 16 | AP16: Число получателей услуг, удовлетворенных доброжелательностью, вежливостью работников организации социальной сферы при использовании дистанционных форм взаимодействия, по отношению к числу опрошенных получателей услуг, ответивших на соответствующий вопрос анкеты | AQ16: 16 | AR16: 16 | AS16: Число получателей услуг, которые готовы рекомендовать организацию родственникам и знакомым (могли бы ее рекомендовать, если бы была возможность выбора организации, по отношению к числу опрошенных получателей услуг, ответивших на соответствующий вопрос анкеты | AT16: 16 | AU16: 16 | AV16: Число получателей услуг, удовлетворенных организационными условиями предоставления услуг, по отношению к числу опрошенных получателей услуг ответивших на соответствующий вопрос анкеты | AW16: 16 | AX16: 16 | AY16: Число получателей услуг, удовлетворенных в целом условиями оказания услуг в организации социальной сферы, по отношению к числу опрошенных получателей услуг, ответивших на соответствующий вопрос анкеты | AZ16: 16 | BA16: 16
A17: 3 | B17: МУНИЦИПАЛЬНОЕ КАЗЕННОЕ ОБЩЕОБРАЗОВАТЕЛЬНОЕ УЧРЕЖДЕНИЕ "ГОГАЗСКАЯ СРЕДНЯЯ ОБЩЕОБРАЗОВАТЕЛЬНАЯ ШКОЛА", 0504006474, организации, осуществляющие образовательную деятельность | C17: 40 | D17: 18 | E17: 40.0 | F17: отсутствует информация о деятельности организации социальной сферы | H17: =INDEX(Индикаторы!H21:H22,MATCH('Сведения о независимой оценке'!F17,Индикаторы!F21:F22,0)) -> 0 | I17: Отсутствует информация о деятельности организации социальной сферы на ее официальном сайте | K17: =INDEX(Индикаторы!K21:K22,MATCH('Сведения о независимой оценке'!I17,Индикаторы!I21:I22,0)) -> 0 | L17: Отсутствуют или не функционируют дистанционные способы взаимодействия | N17: =INDEX(Индикаторы!N21:N23,MATCH('Сведения о независимой оценке'!L17,Индикаторы!L21:L23,0)) -> 0 | O17: Число получателей услуг, удовлетворенных качеством, полнотой и доступностью информации о деятельности организации социальной сферы, размещенной на информационных стендах в помещении организации социальной сферы по отношению к числу опрошенных получателей услуг, ответивших на соответствующий вопрос анкеты | P17: 18 | Q17: 18 | R17: число получателей услуг, удовлетворенных качеством, полнотой и доступностью информации о деятельности организации социальной сферы, размещенной на официальном сайте организации социальной сферы по отношению к числу опрошенных получателей услуг, ответивших на соответствующий вопрос анкеты | S17: 18 | T17: 18 | U17: Отсутствуют комфортные условия | W17: =INDEX(Индикаторы!W21:W23,MATCH('Сведения о независимой оценке'!U17,Индикаторы!U21:U23,0)) -> 0 | X17: Число получателей услуг, удовлетворенных комфортностью предоставления услуг организацией социальной сферы, по отношению к числу опрошенных получателей услуг, ответивших на данный вопрос | Y17: 15 | Z17: 18 | AA17: Отсутствуют условия доступности для инвалидов | AC17: =INDEX(Индикаторы!AC21:AC23,MATCH('Сведения о независимой оценке'!AA17,Индикаторы!AA21:AA23,0)) -> 0 | AD17: Отсутствуют условия доступности, позволяющие инвалидам получать услуги наравне с другими | AF17: =INDEX(Индикаторы!AF21:AF23,MATCH('Сведения о независимой оценке'!AD17,Индикаторы!AD21:AD23,0)) -> 0 | AG17: Число получателей услуг-инвалидов, удовлетворенных доступностью услуг для инвалидов, по отношению к числу опрошенных получателей услуг- инвалидов, ответивших на соответствующий вопрос анкеты | AH17: 4 | AI17: 5 | AJ17: Число получателей услуг, удовлетворенных доброжелательностью, вежливостью работников организации социальной сферы, обеспечивающих первичный контакт и информирование получателя услуги, по отношению к числу опрошенныхполучателей услуг, ответивших на соответствующий вопрос анкеты | AK17: 18 | AL17: 18 | AM17: Число получателей услуг, удовлетворенных доброжелательностью, вежливостью работников организации социальной сферы, обеспечивающих непосредственное оказание услуги, по отношению к числу опрошенных получателей услуг, ответивших на соответствующий вопрос анкеты | AN17: 18 | AO17: 18 | AP17: Число получателей услуг, удовлетворенных доброжелательностью, вежливостью работников организации социальной сферы при использовании дистанционных форм взаимодействия, по отношению к числу опрошенных получателей услуг, ответивших на соответствующий вопрос анкеты | AQ17: 18 | AR17: 18 | AS17: Число получателей услуг, которые готовы рекомендовать организацию родственникам и знакомым (могли бы ее рекомендовать, если бы была возможность выбора организации, по отношению к числу опрошенных получателей услуг, ответивших на соответствующий вопрос анкеты | AT17: 17 | AU17: 18 | AV17: Число получателей услуг, удовлетворенных организационными условиями предоставления услуг, по отношению к числу опрошенных получателей услуг ответивших на соответствующий вопрос анкеты | AW17: 16 | AX17: 18 | AY17: Число получателей услуг, удовлетворенных в целом условиями оказания услуг в организации социальной сферы, по отношению к числу опрошенных получателей услуг, ответивших на соответствующий вопрос анкеты | AZ17: 16 | BA17: 18
A18: 4 | B18: МУНИЦИПАЛЬНОЕ КАЗЕННОЕ ОБЩЕОБРАЗОВАТЕЛЬНОЕ УЧРЕЖДЕНИЕ "АХТЫНСКАЯ ОСНОВНАЯ ОБЩЕОБРАЗОВАТЕЛЬНАЯ ШКОЛА", 0504006379, организации, осуществляющие образовательную деятельность | C18: 40 | D18: 49 | E18: 40.0 | F18: отсутствует информация о деятельности организации социальной сферы | H18: =INDEX(Индикаторы!H24:H25,MATCH('Сведения о независимой оценке'!F18,Индикаторы!F24:F25,0)) -> 0 | I18: Отсутствует информация о деятельности организации социальной сферы на ее официальном сайте | K18: =INDEX(Индикаторы!K24:K25,MATCH('Сведения о независимой оценке'!I18,Индикаторы!I24:I25,0)) -> 0 | L18: Отсутствуют или не функционируют дистанционные способы взаимодействия | N18: =INDEX(Индикаторы!N24:N26,MATCH('Сведения о независимой оценке'!L18,Индикаторы!L24:L26,0)) -> 0 | O18: Число получателей услуг, удовлетворенных качеством, полнотой и доступностью информации о деятельности организации социальной сферы, размещенной на информационных стендах в помещении организации социальной сферы по отношению к числу опрошенных получателей услуг, ответивших на соответствующий вопрос анкеты | P18: 14 | Q18: 16 | R18: число получателей услуг, удовлетворенных качеством, полнотой и доступностью информации о деятельности организации социальной сферы, размещенной на официальном сайте организации социальной сферы по отношению к числу опрошенных получателей услуг, ответивших на соответствующий вопрос анкеты | S18: 14 | T18: 15 | U18: Отсутствуют комфортные условия | W18: =INDEX(Индикаторы!W24:W26,MATCH('Сведения о независимой оценке'!U18,Индикаторы!U24:U26,0)) -> 0 | X18: Число получателей услуг, удовлетворенных комфортностью предоставления услуг организацией социальной сферы, по отношению к числу опрошенных получателей услуг, ответивших на данный вопрос | Y18: 29 | Z18: 49 | AA18: Отсутствуют условия доступности для инвалидов | AC18: =INDEX(Индикаторы!AC24:AC26,MATCH('Сведения о независимой оценке'!AA18,Индикаторы!AA24:AA26,0)) -> 0 | AD18: Отсутствуют условия доступности, позволяющие инвалидам получать услуги наравне с другими | AF18: =INDEX(Индикаторы!AF24:AF26,MATCH('Сведения о независимой оценке'!AD18,Индикаторы!AD24:AD26,0)) -> 0 | AG18: Число получателей услуг-инвалидов, удовлетворенных доступностью услуг для инвалидов, по отношению к числу опрошенных получателей услуг- инвалидов, ответивших на соответствующий вопрос анкеты | AH18: 2 | AI18: 5 | AJ18: Число получателей услуг, удовлетворенных доброжелательностью, вежливостью работников организации социальной сферы, обеспечивающих первичный контакт и информирование получателя услуги, по отношению к числу опрошенныхполучателей услуг, ответивших на соответствующий вопрос анкеты | AK18: 45 | AL18: 49 | AM18: Число получателей услуг, удовлетворенных доброжелательностью, вежливостью работников организации социальной сферы, обеспечивающих непосредственное оказание услуги, по отношению к числу опрошенных получателей услуг, ответивших на соответствующий вопрос анкеты | AN18: 46 | AO18: 49 | AP18: Число получателей услуг, удовлетворенных доброжелательностью, вежливостью работников организации социальной сферы при использовании дистанционных форм взаимодействия, по отношению к числу опрошенных получателей услуг, ответивших на соответствующий вопрос анкеты | AQ18: 23 | AR18: 27 | AS18: Число получателей услуг, которые готовы рекомендовать организацию родственникам и знакомым (могли бы ее рекомендовать, если бы была возможность выбора организации, по отношению к числу опрошенных получателей услуг, ответивших на соответствующий вопрос анкеты | AT18: 41 | AU18: 49 | AV18: Число получателей услуг, удовлетворенных организационными условиями предоставления услуг, по отношению к числу опрошенных получателей услуг ответивших на соответствующий вопрос анкеты | AW18: 40 | AX18: 49 | AY18: Число получателей услуг, удовлетворенных в целом условиями оказания услуг в организации социальной сферы, по отношению к числу опрошенных получателей услуг, ответивших на соответствующий вопрос анкеты | AZ18: 40 | BA18: 49
A19: 5 | B19: МУНИЦИПАЛЬНОЕ КАЗЕННОЕ ОБЩЕОБРАЗОВАТЕЛЬНОЕ УЧРЕЖДЕНИЕ "ГДЫМСКАЯ ОСНОВНАЯ ОБЩЕОБРАЗОВАТЕЛЬНАЯ ШКОЛА", 0504006467, организации, осуществляющие образовательную деятельность | C19: 40 | D19: 3 | E19: 40.0 | F19: отсутствует информация о деятельности организации социальной сферы | H19: =INDEX(Индикаторы!H27:H28,MATCH('Сведения о независимой оценке'!F19,Индикаторы!F27:F28,0)) -> 0 | I19: Отсутствует информация о деятельности организации социальной сферы на ее официальном сайте | K19: =INDEX(Индикаторы!K27:K28,MATCH('Сведения о независимой оценке'!I19,Индикаторы!I27:I28,0)) -> 0 | L19: Отсутствуют или не функционируют дистанционные способы взаимодействия | N19: =INDEX(Индикаторы!N27:N29,MATCH('Сведения о независимой оценке'!L19,Индикаторы!L27:L29,0)) -> 0 | O19: Число получателей услуг, удовлетворенных качеством, полнотой и доступностью информации о деятельности организации социальной сферы, размещенной на информационных стендах в помещении организации социальной сферы по отношению к числу опрошенных получателей услуг, ответивших на соответствующий вопрос анкеты | P19: 2 | Q19: 2 | R19: число получателей услуг, удовлетворенных качеством, полнотой и доступностью информации о деятельности организации социальной сферы, размещенной на официальном сайте организации социальной сферы по отношению к числу опрошенных получателей услуг, ответивших на соответствующий вопрос анкеты | S19: 2 | T19: 2 | U19: Отсутствуют комфортные условия | W19: =INDEX(Индикаторы!W27:W29,MATCH('Сведения о независимой оценке'!U19,Индикаторы!U27:U29,0)) -> 0 | X19: Число получателей услуг, удовлетворенных комфортностью предоставления услуг организацией социальной сферы, по отношению к числу опрошенных получателей услуг, ответивших на данный вопрос | Y19: 2 | Z19: 3 | AA19: Отсутствуют условия доступности для инвалидов | AC19: =INDEX(Индикаторы!AC27:AC29,MATCH('Сведения о независимой оценке'!AA19,Индикаторы!AA27:AA29,0)) -> 0 | AD19: Отсутствуют условия доступности, позволяющие инвалидам получать услуги наравне с другими | AF19: =INDEX(Индикаторы!AF27:AF29,MATCH('Сведения о независимой оценке'!AD19,Индикаторы!AD27:AD29,0)) -> 0 | AG19: Число получателей услуг-инвалидов, удовлетворенных доступностью услуг для инвалидов, по отношению к числу опрошенных получателей услуг- инвалидов, ответивших на соответствующий вопрос анкеты | AH19: 1 | AI19: 1 | AJ19: Число получателей услуг, удовлетворенных доброжелательностью, вежливостью работников организации социальной сферы, обеспечивающих первичный контакт и информирование получателя услуги, по отношению к числу опрошенныхполучателей услуг, ответивших на соответствующий вопрос анкеты | AK19: 3 | AL19: 3 | AM19: Число получателей услуг, удовлетворенных доброжелательностью, вежливостью работников организации социальной сферы, обеспечивающих непосредственное оказание услуги, по отношению к числу опрошенных получателей услуг, ответивших на соответствующий вопрос анкеты | AN19: 3 | AO19: 3 | AP19: Число получателей услуг, удовлетворенных доброжелательностью, вежливостью работников организации социальной сферы при использовании дистанционных форм взаимодействия, по отношению к числу опрошенных получателей услуг, ответивших на соответствующий вопрос анкеты | AQ19: 2 | AR19: 2 | AS19: Число получателей услуг, которые готовы рекомендовать организацию родственникам и знакомым (могли бы ее рекомендовать, если бы была возможность выбора организации, по отношению к числу опрошенных получателей услуг, ответивших на соответствующий вопрос анкеты | AT19: 3 | AU19: 3 | AV19: Число получателей услуг, удовлетворенных организационными условиями предоставления услуг, по отношению к числу опрошенных получателей услуг ответивших на соответствующий вопрос анкеты | AW19: 3 | AX19: 3 | AY19: Число получателей услуг, удовлетворенных в целом условиями оказания услуг в организации социальной сферы, по отношению к числу опрошенных получателей услуг, ответивших на соответствующий вопрос анкеты | AZ19: 3 | BA19: 3
A20: 6 | B20: МУНИЦИПАЛЬНОЕ КАЗЕННОЕ ОБЩЕОБРАЗОВАТЕЛЬНОЕ УЧРЕЖДЕНИЕ "АХТЫНСКАЯ НАЧАЛЬНАЯ ОБЩЕОБРАЗОВАТЕЛЬНАЯ ШКОЛА №2350 ПРИ ВОЙСКОВОЙ ЧАСТИ", 0504036574, организации, осуществляющие образовательную деятельность | C20: 40 | D20: 24 | E20: 40.0 | F20: отсутствует информация о деятельности организации социальной сферы | H20: =INDEX(Индикаторы!H30:H31,MATCH('Сведения о независимой оценке'!F20,Индикаторы!F30:F31,0)) -> 0 | I20: Отсутствует информация о деятельности организации социальной сферы на ее официальном сайте | K20: =INDEX(Индикаторы!K30:K31,MATCH('Сведения о независимой оценке'!I20,Индикаторы!I30:I31,0)) -> 0 | L20: Отсутствуют или не функционируют дистанционные способы взаимодействия | N20: =INDEX(Индикаторы!N30:N32,MATCH('Сведения о независимой оценке'!L20,Индикаторы!L30:L32,0)) -> 0 | O20: Число получателей услуг, удовлетворенных качеством, полнотой и доступностью информации о деятельности организации социальной сферы, размещенной на информационных стендах в помещении организации социальной сферы по отношению к числу опрошенных получателей услуг, ответивших на соответствующий вопрос анкеты | P20: 16 | Q20: 18 | R20: число получателей услуг, удовлетворенных качеством, полнотой и доступностью информации о деятельности организации социальной сферы, размещенной на официальном сайте организации социальной сферы по отношению к числу опрошенных получателей услуг, ответивших на соответствующий вопрос анкеты | S20: 9 | T20: 10 | U20: Отсутствуют комфортные условия | W20: =INDEX(Индикаторы!W30:W32,MATCH('Сведения о независимой оценке'!U20,Индикаторы!U30:U32,0)) -> 0 | X20: Число получателей услуг, удовлетворенных комфортностью предоставления услуг организацией социальной сферы, по отношению к числу опрошенных получателей услуг, ответивших на данный вопрос | Y20: 23 | Z20: 24 | AA20: Отсутствуют условия доступности для инвалидов | AC20: =INDEX(Индикаторы!AC30:AC32,MATCH('Сведения о независимой оценке'!AA20,Индикаторы!AA30:AA32,0)) -> 0 | AD20: Отсутствуют условия доступности, позволяющие инвалидам получать услуги наравне с другими | AF20: =INDEX(Индикаторы!AF30:AF32,MATCH('Сведения о независимой оценке'!AD20,Индикаторы!AD30:AD32,0)) -> 0 | AG20: Число получателей услуг-инвалидов, удовлетворенных доступностью услуг для инвалидов, по отношению к числу опрошенных получателей услуг- инвалидов, ответивших на соответствующий вопрос анкеты | AH20: 1 | AI20: 2 | AJ20: Число получателей услуг, удовлетворенных доброжелательностью, вежливостью работников организации социальной сферы, обеспечивающих первичный контакт и информирование получателя услуги, по отношению к числу опрошенныхполучателей услуг, ответивших на соответствующий вопрос анкеты | AK20: 22 | AL20: 24 | AM20: Число получателей услуг, удовлетворенных доброжелательностью, вежливостью работников организации социальной сферы, обеспечивающих непосредственное оказание услуги, по отношению к числу опрошенных получателей услуг, ответивших на соответствующий вопрос анкеты | AN20: 23 | AO20: 24 | AP20: Число получателей услуг, удовлетворенных доброжелательностью, вежливостью работников организации социальной сферы при использовании дистанционных форм взаимодействия, по отношению к числу опрошенных получателей услуг, ответивших на соответствующий вопрос анкеты | AQ20: 9 | AR20: 11 | AS20: Число получателей услуг, которые готовы рекомендовать организацию родственникам и знакомым (могли бы ее рекомендовать, если бы была возможность выбора организации, по отношению к числу опрошенных получателей услуг, ответивших на соответствующий вопрос анкеты | AT20: 23 | AU20: 24 | AV20: Число получателей услуг, удовлетворенных организационными условиями предоставления услуг, по отношению к числу опрошенных получателей услуг ответивших на соответствующий вопрос анкеты | AW20: 23 | AX20: 24 | AY20: Число получателей услуг, удовлетворенных в целом условиями оказания услуг в организации социальной сферы, по отношению к числу опрошенных получателей услуг, ответивших на соответствующий вопрос анкеты | AZ20: 23 | BA20: 24
A21: 7 | B21: МУНИЦИПАЛЬНОЕ КАЗЕННОЕ УЧРЕЖДЕНИЕ ДОПОЛНИТЕЛЬНОГО ОБРАЗОВАНИЯ"СТАНЦИЯ ЮНЫХ НАТУРАЛИСТОВ "ИМ.Ф.Г.КИСРИЕВА, 0504006033, организации, осуществляющие образовательную деятельность | C21: 40 | D21: 79 | E21: 40.0 | F21: отсутствует информация о деятельности организации социальной сферы | H21: =INDEX(Индикаторы!H33:H34,MATCH('Сведения о независимой оценке'!F21,Индикаторы!F33:F34,0)) -> 0 | I21: Отсутствует информация о деятельности организации социальной сферы на ее официальном сайте | K21: =INDEX(Индикаторы!K33:K34,MATCH('Сведения о независимой оценке'!I21,Индикаторы!I33:I34,0)) -> 0 | L21: Отсутствуют или не функционируют дистанционные способы взаимодействия | N21: =INDEX(Индикаторы!N33:N35,MATCH('Сведения о независимой оценке'!L21,Индикаторы!L33:L35,0)) -> 0 | O21: Число получателей услуг, удовлетворенных качеством, полнотой и доступностью информации о деятельности организации социальной сферы, размещенной на информационных стендах в помещении организации социальной сферы по отношению к числу опрошенных получателей услуг, ответивших на соответствующий вопрос анкеты | P21: 55 | Q21: 59 | R21: число получателей услуг, удовлетворенных качеством, полнотой и доступностью информации о деятельности организации социальной сферы, размещенной на официальном сайте организации социальной сферы по отношению к числу опрошенных получателей услуг, ответивших на соответствующий вопрос анкеты | S21: 50 | T21: 52 | U21: Отсутствуют комфортные условия | W21: =INDEX(Индикаторы!W33:W35,MATCH('Сведения о независимой оценке'!U21,Индикаторы!U33:U35,0)) -> 0 | X21: Число получателей услуг, удовлетворенных комфортностью предоставления услуг организацией социальной сферы, по отношению к числу опрошенных получателей услуг, ответивших на данный вопрос | Y21: 71 | Z21: 79 | AA21: Отсутствуют условия доступности для инвалидов | AC21: =INDEX(Индикаторы!AC33:AC35,MATCH('Сведения о независимой оценке'!AA21,Индикаторы!AA33:AA35,0)) -> 0 | AD21: Отсутствуют условия доступности, позволяющие инвалидам получать услуги наравне с другими | AF21: =INDEX(Индикаторы!AF33:AF35,MATCH('Сведения о независимой оценке'!AD21,Индикаторы!AD33:AD35,0)) -> 0 | AG21: Число получателей услуг-инвалидов, удовлетворенных доступностью услуг для инвалидов, по отношению к числу опрошенных получателей услуг- инвалидов, ответивших на соответствующий вопрос анкеты | AH21: 2 | AI21: 2 | AJ21: Число получателей услуг, удовлетворенных доброжелательностью, вежливостью работников организации социальной сферы, обеспечивающих первичный контакт и информирование получателя услуги, по отношению к числу опрошенныхполучателей услуг, ответивших на соответствующий вопрос анкеты | AK21: 76 | AL21: 79 | AM21: Число получателей услуг, удовлетворенных доброжелательностью, вежливостью работников организации социальной сферы, обеспечивающих непосредственное оказание услуги, по отношению к числу опрошенных получателей услуг, ответивших на соответствующий вопрос анкеты | AN21: 78 | AO21: 79 | AP21: Число получателей услуг, удовлетворенных доброжелательностью, вежливостью работников организации социальной сферы при использовании дистанционных форм взаимодействия, по отношению к числу опрошенных получателей услуг, ответивших на соответствующий вопрос анкеты | AQ21: 46 | AR21: 48 | AS21: Число получателей услуг, которые готовы рекомендовать организацию родственникам и знакомым (могли бы ее рекомендовать, если бы была возможность выбора организации, по отношению к числу опрошенных получателей услуг, ответивших на соответствующий вопрос анкеты | AT21: 76 | AU21: 79 | AV21: Число получателей услуг, удовлетворенных организационными условиями предоставления услуг, по отношению к числу опрошенных получателей услуг ответивших на соответствующий вопрос анкеты | AW21: 77 | AX21: 79 | AY21: Число получателей услуг, удовлетворенных в целом условиями оказания услуг в организации социальной сферы, по отношению к числу опрошенных получателей услуг, ответивших на соответствующий вопрос анкеты | AZ21: 74 | BA21: 79
A22: 8 | B22: МУНИЦИПАЛЬНОЕ КАЗЕННОЕ УЧРЕЖДЕНИЕ ДОШКОЛЬНОГО ОБРАЗОВАНИЯ ДЕТЕЙ АХТЫНСКИЙ ДЕТСКИЙ САД "ЮНЫЙ КОСМОНАВТ", 0504006428, организации, осуществляющие образовательную деятельность | C22: 40 | D22: 60 | E22: 40.0 | F22: отсутствует информация о деятельности организации социальной сферы | H22: =INDEX(Индикаторы!H36:H37,MATCH('Сведения о независимой оценке'!F22,Индикаторы!F36:F37,0)) -> 0 | I22: Отсутствует информация о деятельности организации социальной сферы на ее официальном сайте | K22: =INDEX(Индикаторы!K36:K37,MATCH('Сведения о независимой оценке'!I22,Индикаторы!I36:I37,0)) -> 0 | L22: Отсутствуют или не функционируют дистанционные способы взаимодействия | N22: =INDEX(Индикаторы!N36:N38,MATCH('Сведения о независимой оценке'!L22,Индикаторы!L36:L38,0)) -> 0 | O22: Число получателей услуг, удовлетворенных качеством, полнотой и доступностью информации о деятельности организации социальной сферы, размещенной на информационных стендах в помещении организации социальной сферы по отношению к числу опрошенных получателей услуг, ответивших на соответствующий вопрос анкеты | P22: 49 | Q22: 55 | R22: число получателей услуг, удовлетворенных качеством, полнотой и доступностью информации о деятельности организации социальной сферы, размещенной на официальном сайте организации социальной сферы по отношению к числу опрошенных получателей услуг, ответивших на соответствующий вопрос анкеты | S22: 33 | T22: 34 | U22: Отсутствуют комфортные условия | W22: =INDEX(Индикаторы!W36:W38,MATCH('Сведения о независимой оценке'!U22,Индикаторы!U36:U38,0)) -> 0 | X22: Число получателей услуг, удовлетворенных комфортностью предоставления услуг организацией социальной сферы, по отношению к числу опрошенных получателей услуг, ответивших на данный вопрос | Y22: 42 | Z22: 60 | AA22: Отсутствуют условия доступности для инвалидов | AC22: =INDEX(Индикаторы!AC36:AC38,MATCH('Сведения о независимой оценке'!AA22,Индикаторы!AA36:AA38,0)) -> 0 | AD22: Отсутствуют условия доступности, позволяющие инвалидам получать услуги наравне с другими | AF22: =INDEX(Индикаторы!AF36:AF38,MATCH('Сведения о независимой оценке'!AD22,Индикаторы!AD36:AD38,0)) -> 0 | AG22: Число получателей услуг-инвалидов, удовлетворенных доступностью услуг для инвалидов, по отношению к числу опрошенных получателей услуг- инвалидов, ответивших на соответствующий вопрос анкеты | AH22: 3 | AI22: 5 | AJ22: Число получателей услуг, удовлетворенных доброжелательностью, вежливостью работников организации социальной сферы, обеспечивающих первичный контакт и информирование получателя услуги, по отношению к числу опрошенныхполучателей услуг, ответивших на соответствующий вопрос анкеты | AK22: 51 | AL22: 60 | AM22: Число получателей услуг, удовлетворенных доброжелательностью, вежливостью работников организации социальной сферы, обеспечивающих непосредственное оказание услуги, по отношению к числу опрошенных получателей услуг, ответивших на соответствующий вопрос анкеты | AN22: 52 | AO22: 60 | AP22: Число получателей услуг, удовлетворенных доброжелательностью, вежливостью работников организации социальной сферы при использовании дистанционных форм взаимодействия, по отношению к числу опрошенных получателей услуг, ответивших на соответствующий вопрос анкеты | AQ22: 27 | AR22: 29 | AS22: Число получателей услуг, которые готовы рекомендовать организацию родственникам и знакомым (могли бы ее рекомендовать, если бы была возможность выбора организации, по отношению к числу опрошенных получателей услуг, ответивших на соответствующий вопрос анкеты | AT22: 50 | AU22: 60 | AV22: Число получателей услуг, удовлетворенных организационными условиями предоставления услуг, по отношению к числу опрошенных получателей услуг ответивших на соответствующий вопрос анкеты | AW22: 43 | AX22: 60 | AY22: Число получателей услуг, удовлетворенных в целом условиями оказания услуг в организации социальной сферы, по отношению к числу опрошенных получателей услуг, ответивших на соответствующий вопрос анкеты | AZ22: 48 | BA22: 60
A23: 9 | B23: МУНИЦИПАЛЬНОЕ КАЗЕННОЕ УЧРЕЖДЕНИЕ ДОШКОЛЬНОГО ОБРАЗОВАНИЯ ДЕТЕЙ АХТЫНСКИЙ ДЕТСКИЙ САД "СОЛНЫШКО", 0504006442, организации, осуществляющие образовательную деятельность | C23: 40 | D23: 25 | E23: 40.0 | F23: отсутствует информация о деятельности организации социальной сферы | H23: =INDEX(Индикаторы!H39:H40,MATCH('Сведения о независимой оценке'!F23,Индикаторы!F39:F40,0)) -> 0 | I23: Отсутствует информация о деятельности организации социальной сферы на ее официальном сайте | K23: =INDEX(Индикаторы!K39:K40,MATCH('Сведения о независимой оценке'!I23,Индикаторы!I39:I40,0)) -> 0 | L23: Отсутствуют или не функционируют дистанционные способы взаимодействия | N23: =INDEX(Индикаторы!N39:N41,MATCH('Сведения о независимой оценке'!L23,Индикаторы!L39:L41,0)) -> 0 | O23: Число получателей услуг, удовлетворенных качеством, полнотой и доступностью информации о деятельности организации социальной сферы, размещенной на информационных стендах в помещении организации социальной сферы по отношению к числу опрошенных получателей услуг, ответивших на соответствующий вопрос анкеты | P23: 13 | Q23: 13 | R23: число получателей услуг, удовлетворенных качеством, полнотой и доступностью информации о деятельности организации социальной сферы, размещенной на официальном сайте организации социальной сферы по отношению к числу опрошенных получателей услуг, ответивших на соответствующий вопрос анкеты | S23: 6 | T23: 6 | U23: Отсутствуют комфортные условия | W23: =INDEX(Индикаторы!W39:W41,MATCH('Сведения о независимой оценке'!U23,Индикаторы!U39:U41,0)) -> 0 | X23: Число получателей услуг, удовлетворенных комфортностью предоставления услуг организацией социальной сферы, по отношению к числу опрошенных получателей услуг, ответивших на данный вопрос | Y23: 21 | Z23: 25 | AA23: Отсутствуют условия доступности для инвалидов | AC23: =INDEX(Индикаторы!AC39:AC41,MATCH('Сведения о независимой оценке'!AA23,Индикаторы!AA39:AA41,0)) -> 0 | AD23: Отсутствуют условия доступности, позволяющие инвалидам получать услуги наравне с другими | AF23: =INDEX(Индикаторы!AF39:AF41,MATCH('Сведения о независимой оценке'!AD23,Индикаторы!AD39:AD41,0)) -> 0 | AG23: Число получателей услуг-инвалидов, удовлетворенных доступностью услуг для инвалидов, по отношению к числу опрошенных получателей услуг- инвалидов, ответивших на соответствующий вопрос анкеты | AH23: 2 | AI23: 3 | AJ23: Число получателей услуг, удовлетворенных доброжелательностью, вежливостью работников организации социальной сферы, обеспечивающих первичный контакт и информирование получателя услуги, по отношению к числу опрошенныхполучателей услуг, ответивших на соответствующий вопрос анкеты | AK23: 21 | AL23: 25 | AM23: Число получателей услуг, удовлетворенных доброжелательностью, вежливостью работников организации социальной сферы, обеспечивающих непосредственное оказание услуги, по отношению к числу опрошенных получателей услуг, ответивших на соответствующий вопрос анкеты | AN23: 24 | AO23: 25 | AP23: Число получателей услуг, удовлетворенных доброжелательностью, вежливостью работников организации социальной сферы при использовании дистанционных форм взаимодействия, по отношению к числу опрошенных получателей услуг, ответивших на соответствующий вопрос анкеты | AQ23: 5 | AR23: 5 | AS23: Число получателей услуг, которые готовы рекомендовать организацию родственникам и знакомым (могли бы ее рекомендовать, если бы была возможность выбора организации, по отношению к числу опрошенных получателей услуг, ответивших на соответствующий вопрос анкеты | AT23: 20 | AU23: 25 | AV23: Число получателей услуг, удовлетворенных организационными условиями предоставления услуг, по отношению к числу опрошенных получателей услуг ответивших на соответствующий вопрос анкеты | AW23: 22 | AX23: 25 | AY23: Число получателей услуг, удовлетворенных в целом условиями оказания услуг в организации социальной сферы, по отношению к числу опрошенных получателей услуг, ответивших на соответствующий вопрос анкеты | AZ23: 21 | BA23: 25
A24: 10 | B24: МУНИЦИПАЛЬНОЕ КАЗЕННОЕ УЧРЕЖДЕНИЕ ДОШКОЛЬНОГО ОБРАЗОВАНИЯ ДЕТЕЙ АХТЫНСКИЙ ДЕТСКИЙ САД "РАССВЕТ", 0504006410, организации, осуществляющие образовательную деятельность | C24: 40 | D24: 123 | E24: 40.0 | F24: отсутствует информация о деятельности организации социальной сферы | H24: =INDEX(Индикаторы!H42:H43,MATCH('Сведения о независимой оценке'!F24,Индикаторы!F42:F43,0)) -> 0 | I24: Отсутствует информация о деятельности организации социальной сферы на ее официальном сайте | K24: =INDEX(Индикаторы!K42:K43,MATCH('Сведения о независимой оценке'!I24,Индикаторы!I42:I43,0)) -> 0 | L24: Отсутствуют или не функционируют дистанционные способы взаимодействия | N24: =INDEX(Индикаторы!N42:N44,MATCH('Сведения о независимой оценке'!L24,Индикаторы!L42:L44,0)) -> 0 | O24: Число получателей услуг, удовлетворенных качеством, полнотой и доступностью информации о деятельности организации социальной сферы, размещенной на информационных стендах в помещении организации социальной сферы по отношению к числу опрошенных получателей услуг, ответивших на соответствующий вопрос анкеты | P24: 104 | Q24: 106 | R24: число получателей услуг, удовлетворенных качеством, полнотой и доступностью информации о деятельности организации социальной сферы, размещенной на официальном сайте организации социальной сферы по отношению к числу опрошенных получателей услуг, ответивших на соответствующий вопрос анкеты | S24: 93 | T24: 95 | U24: Отсутствуют комфортные условия | W24: =INDEX(Индикаторы!W42:W44,MATCH('Сведения о независимой оценке'!U24,Индикаторы!U42:U44,0)) -> 0 | X24: Число получателей услуг, удовлетворенных комфортностью предоставления услуг организацией социальной сферы, по отношению к числу опрошенных получателей услуг, ответивших на данный вопрос | Y24: 106 | Z24: 123 | AA24: Отсутствуют условия доступности для инвалидов | AC24: =INDEX(Индикаторы!AC42:AC44,MATCH('Сведения о независимой оценке'!AA24,Индикаторы!AA42:AA44,0)) -> 0 | AD24: Отсутствуют условия доступности, позволяющие инвалидам получать услуги наравне с другими | AF24: =INDEX(Индикаторы!AF42:AF44,MATCH('Сведения о независимой оценке'!AD24,Индикаторы!AD42:AD44,0)) -> 0 | AG24: Число получателей услуг-инвалидов, удовлетворенных доступностью услуг для инвалидов, по отношению к числу опрошенных получателей услуг- инвалидов, ответивших на соответствующий вопрос анкеты | AH24: 6 | AI24: 12 | AJ24: Число получателей услуг, удовлетворенных доброжелательностью, вежливостью работников организации социальной сферы, обеспечивающих первичный контакт и информирование получателя услуги, по отношению к числу опрошенныхполучателей услуг, ответивших на соответствующий вопрос анкеты | AK24: 122 | AL24: 123 | AM24: Число получателей услуг, удовлетворенных доброжелательностью, вежливостью работников организации социальной сферы, обеспечивающих непосредственное оказание услуги, по отношению к числу опрошенных получателей услуг, ответивших на соответствующий вопрос анкеты | AN24: 122 | AO24: 123 | AP24: Число получателей услуг, удовлетворенных доброжелательностью, вежливостью работников организации социальной сферы при использовании дистанционных форм взаимодействия, по отношению к числу опрошенных получателей услуг, ответивших на соответствующий вопрос анкеты | AQ24: 100 | AR24: 101 | AS24: Число получателей услуг, которые готовы рекомендовать организацию родственникам и знакомым (могли бы ее рекомендовать, если бы была возможность выбора организации, по отношению к числу опрошенных получателей услуг, ответивших на соответствующий вопрос анкеты | AT24: 123 | AU24: 123 | AV24: Число получателей услуг, удовлетворенных организационными условиями предоставления услуг, по отношению к числу опрошенных получателей услуг ответивших на соответствующий вопрос анкеты | AW24: 122 | AX24: 123 | AY24: Число получателей услуг, удовлетворенных в целом условиями оказания услуг в организации социальной сферы, по отношению к числу опрошенных получателей услуг, ответивших на соответствующий вопрос анкеты | AZ24: 121 | BA24: 123
A25: 11 | B25: МУНИЦИПАЛЬНОЕ КАЗЕННОЕ УЧРЕЖДЕНИЕ ДОПОЛНИТЕЛЬНОГО ОБРАЗОВАНИЯ "ДЕТСКАЯ МУЗЫКАЛЬНАЯ ШКОЛА" ИМ.РАГИМАТ ГАДЖИЕВОЙ, 0504007020, организации, осуществляющие образовательную деятельность | C25: 40 | D25: 14 | E25: 40.0 | F25: отсутствует информация о деятельности организации социальной сферы | H25: =INDEX(Индикаторы!H45:H46,MATCH('Сведения о независимой оценке'!F25,Индикаторы!F45:F46,0)) -> 0 | I25: Отсутствует информация о деятельности организации социальной сферы на ее официальном сайте | K25: =INDEX(Индикаторы!K45:K46,MATCH('Сведения о независимой оценке'!I25,Индикаторы!I45:I46,0)) -> 0 | L25: Отсутствуют или не функционируют дистанционные способы взаимодействия | N25: =INDEX(Индикаторы!N45:N47,MATCH('Сведения о независимой оценке'!L25,Индикаторы!L45:L47,0)) -> 0 | O25: Число получателей услуг, удовлетворенных качеством, полнотой и доступностью информации о деятельности организации социальной сферы, размещенной на информационных стендах в помещении организации социальной сферы по отношению к числу опрошенных получателей услуг, ответивших на соответствующий вопрос анкеты | P25: 10 | Q25: 13 | R25: число получателей услуг, удовлетворенных качеством, полнотой и доступностью информации о деятельности организации социальной сферы, размещенной на официальном сайте организации социальной сферы по отношению к числу опрошенных получателей услуг, ответивших на соответствующий вопрос анкеты | S25: 8 | T25: 10 | U25: Отсутствуют комфортные условия | W25: =INDEX(Индикаторы!W45:W47,MATCH('Сведения о независимой оценке'!U25,Индикаторы!U45:U47,0)) -> 0 | X25: Число получателей услуг, удовлетворенных комфортностью предоставления услуг организацией социальной сферы, по отношению к числу опрошенных получателей услуг, ответивших на данный вопрос | Y25: 11 | Z25: 14 | AA25: Отсутствуют условия доступности для инвалидов | AC25: =INDEX(Индикаторы!AC45:AC47,MATCH('Сведения о независимой оценке'!AA25,Индикаторы!AA45:AA47,0)) -> 0 | AD25: Отсутствуют условия доступности, позволяющие инвалидам получать услуги наравне с другими | AF25: =INDEX(Индикаторы!AF45:AF47,MATCH('Сведения о независимой оценке'!AD25,Индикаторы!AD45:AD47,0)) -> 0 | AG25: Число получателей услуг-инвалидов, удовлетворенных доступностью услуг для инвалидов, по отношению к числу опрошенных получателей услуг- инвалидов, ответивших на соответствующий вопрос анкеты | AH25: 4 | AI25: 4 | AJ25: Число получателей услуг, удовлетворенных доброжелательностью, вежливостью работников организации социальной сферы, обеспечивающих первичный контакт и информирование получателя услуги, по отношению к числу опрошенныхполучателей услуг, ответивших на соответствующий вопрос анкеты | AK25: 12 | AL25: 14 | AM25: Число получателей услуг, удовлетворенных доброжелательностью, вежливостью работников организации социальной сферы, обеспечивающих непосредственное оказание услуги, по отношению к числу опрошенных получателей услуг, ответивших на соответствующий вопрос анкеты | AN25: 12 | AO25: 14 | AP25: Число получателей услуг, удовлетворенных доброжелательностью, вежливостью работников организации социальной сферы при использовании дистанционных форм взаимодействия, по отношению к числу опрошенных получателей услуг, ответивших на соответствующий вопрос анкеты | AQ25: 10 | AR25: 12 | AS25: Число получателей услуг, которые готовы рекомендовать организацию родственникам и знакомым (могли бы ее рекомендовать, если бы была возможность выбора организации, по отношению к числу опрошенных получателей услуг, ответивших на соответствующий вопрос анкеты | AT25: 12 | AU25: 14 | AV25: Число получателей услуг, удовлетворенных организационными условиями предоставления услуг, по отношению к числу опрошенных получателей услуг ответивших на соответствующий вопрос анкеты | AW25: 12 | AX25: 14 | AY25: Число получателей услуг, удовлетворенных в целом условиями оказания услуг в организации социальной сферы, по отношению к числу опрошенных получателей услуг, ответивших на соответствующий вопрос анкеты | AZ25: 14 | BA25: 14

Sheet Индикаторы
A9: № п.п. | B9: Организация | C9: Численность получателей услуг организации | D9: Количество респондентов | E9: Доля респондентов | F9: Общие критерии оценки
F10: 1 - критерий открытости и доступности информации об организации | U10: 2 - критерий комфортности условий предоставления услуги, в том числе время ожидания ее предоставления | AA10: 3 - критерий доступности услуг для инвалидов | AJ10: 4 - критерий доброжелательности, вежливости работников организации | AS10: 5 - критерий удовлетворенности условиями оказания услуг
F11: Показатели | U11: Показатели | AA11: Показатели | AJ11: Показатели | AS11: Показатели
F12: 1.1 Соответствие информации о деятельности организации социальной сферы, размещенной на общедоступных информационных ресурсах, ее содержанию и порядку (форме), установленным законодательными и иными нормативными правовыми актами Российской Федерации | L12: 1.2 Наличие на официальном сайте организации социальной сферы информации о дистанционных способах обратной связи и взаимодействия с получателями услуг и их функционирование | O12: 1.3 Доля получателей услуг, удовлетворенных открытостью, полнотой и доступностью информации о деятельности организации социальной сферы | U12: 2.1 Обеспечение в организации социальной сферы комфортных условий предоставления услуг | X12: 2.3 Доля получателей услуг удовлетворенных комфортностью предоставления услуг организацией социальной сферы | AA12: 3.1 Оборудование помещений организации социальной сферы и прилегающей к ней территории с учетом доступности для инвалидов | AD12: 3.2 Обеспечение в организации социальной сферы условий доступности, позволяющих инвалидам получать услуги наравне с другими | AG12: 3.3 Доля получателей услуг, удовлетворенных доступностью услуг для инвалидов | AJ12: 4.1 Доля получателей услуг, удовлетворенных доброжелательностью, вежливостью работников организации социальной сферы, обеспечивающих первичный контакт и информирование получателя услуги при непосредственном обращении в организацию социальной сферы | AM12: 4.2 Доля получателей услуг, удовлетворенных доброжелательностью, вежливостью работников организации социальной сферы, обеспечивающих непосредственное оказание услуги при обращении в организацию социальной сферы | AP12: 4.3 Доля получателей услуг, удовлетворенных доброжелательностью, вежливостью работников организации социальной сферы при использовании дистанционных форм взаимодействия | AS12: 5.1 Доля получателей услуг, которые готовы рекомендовать организацию социальной сферы родственникам и знакомым (могли бы ее рекомендовать, если бы была возможность выбора организации социальной сферы) | AV12: 5.2 Доля получателей услуг, удовлетворенных организационными условиями предоставления услуг | AY12: 5.3 Доля получателей услуг, удовлетворенных в целом условиями оказания услуг в организации социальной сферы
F13: 1.1.1 - Соответствие информации о деятельности организации социальной сферы, размещенной на информационных стендах в помещении организации социальной сферы, ее содержанию и порядку (форме), установленным нормативными правовыми актами. | I13: 1.1.2 - Соответствие информации о деятельности организации социальной сферы, размещенной на официальном сайте организации социальной сферы, ее содержанию и порядку (форме), установленным нормативными правовыми актами. | L13: 1.2.1 - Наличие и функционирование на официальном сайте организации информации о дистанционных способах взаимодействия с получателями услуг: телефона; электронной почты; электронных сервисов (форма для подачи электронного обращения (жалобы, предложения), получение консультации по оказываемым услугам и пр.); раздела «Часто задаваемые вопросы»; технической возможности выражения получателем услуг мнения о качестве условий оказания услуг организацией социальной сферы (наличие анкеты для опроса граждан или гиперссылки на нее); иного дистанционного способа взаимодействия. | O13: 1.3.1 - Удовлетворенность качеством, полнотой и доступностью информации о деятельности организации социальной сферы, размещенной на информационных стендах в помещении организации социальной сферы. | R13: 1.3.2 - Удовлетворенность качеством, полнотой и доступностью информации о деятельности организации социальной сферы, размещенной на официальном сайте организации социальной сферы в сети «Интернет». | U13: 2.1.1 - Наличие комфортных условий для предоставления услуг, например: наличие комфортной зоны отдыха (ожидания), оборудованной соответствующей мебелью; наличие и понятность навигации внутри организации социальной сферы; наличие и доступность питьевой воды; наличие и доступность санитарно-гигиенических помещений; санитарное состояние помещений организации социальной сферы; транспортная доступность (возможность доехать до организации социальной сферы на общественном транспорте, наличие парковки); доступность записи на получение услуги (по телефону, на официальном сайте организации социальной сферы в сети Интернет, посредством Единого портала государственных и муниципальных услуг, при личном посещении в регистратуре или у специалиста организации социальной сферы и пр.); иные параметры комфортных условий, установленные ведомственным актом уполномоченного федерального органа исполнительной власти. | X13: 2.3.1 - Удовлетворенность комфортностью предоставления услуг организацией социальной сферы. | AA13: 3.1.1 - Наличие в помещениях организации социальной сферы и на прилегающей к ней территории: оборудованных входных групп пандусами (подъемными платформами); выделенных стоянок для автотранспортных средств инвалидов; адаптированных лифтов, поручней, расширенных дверных проемов; сменных кресел-колясок; специально оборудованных санитарно-гигиенических помещений в организации социальной сферы. | AD13: 3.2.1 - Наличие в организации социальной сферы условий доступности, позволяющих инвалидам получать услуги наравне с другими: дублирование для инвалидов по слуху и зрению звуковой и зрительной информации; дублирование надписей, знаков и иной текстовой и графической информации знаками, выполненными рельефно-точечным шрифтом Брайля; возможность предоставления инвалидам по слуху (слуху и зрению) услуг сурдопереводчика (тифлосурдопереводчика); наличие альтернативной версии официального сайта организации социальной сферы в сети Интернет для инвалидов по зрению; помощь, оказываемая работниками организации социальной сферы, прошедшими необходимое обучение (инструктирование) по сопровождению инвалидов в помещениях организации социальной сферы и на прилегающей территории; наличие возможности предоставления услуги в дистанционном режиме или на дому. | AG13: 3.3.1 - Удовлетворенность доступностью услуг для инвалидов. | AJ13: 4.1.1 - Удовлетворенность доброжелательностью, вежливостью работников организации социальной сферы, обеспечивающих первичный контакт и информирование получателя услуги (работники справочной, приемного отделения, регистратуры, кассы и прочие работники) при непосредственном обращении в организацию социальной сферы. | AM13: 4.2.1 - Удовлетворенность доброжелательностью, вежливостью работников организации социальной сферы, обеспечивающих непосредственное оказание услуги (врачи, социальные работники, работники, осуществляющие экспертно-реабилитационную диагностику, преподаватели, тренеры, инструкторы, библиотекари, экскурсоводы и прочие работники) при обращении в организацию социальной сферы. | AP13: 4.3.1 - Удовлетворенность доброжелательностью, вежливостью работников организации социальной сферы при использовании дистанционных форм взаимодействия (по телефону, по электронной почте, с помощью электронных сервисов (подачи электронного обращения (жалобы, предложения), получения консультации по оказываемым услугам и пр.). | AS13: 5.1.1 - Готовность получателей услуг рекомендовать организацию социальной сферы родственникам и знакомым. | AV13: 5.2.1 - Удовлетворенность получателей услуг организационными условиями оказания услуг, например: наличием и понятностью навигации внутри организации социальной сферы; графиком работы организации социальной сферы (подразделения, отдельных специалистов, графиком прихода социального работника на дом и пр.). | AY13: 5.3.1 - Удовлетворенность получателей услуг в целом условиями оказания услуг в организации социальной сферы.
F14: Наименование индикатора | G14: Выполнение индикатора | I14: Наименование индикатора | J14: Выполнение индикатора | L14: Наименование индикатора | M14: Выполнение индикатора | O14: Наименование индикатора | P14: Выполнение индикатора | R14: Наименование индикатора | S14: Выполнение индикатора | U14: Наименование индикатора | V14: Выполнение индикатора | X14: Наименование индикатора | Y14: Выполнение индикатора | AA14: Наименование индикатора | AB14: Выполнение индикатора | AD14: Наименование индикатора | AE14: Выполнение индикатора | AG14: Наименование индикатора | AH14: Выполнение индикатора | AJ14: Наименование индикатора | AK14: Выполнение индикатора | AM14: Наименование индикатора | AN14: Выполнение индикатора | AP14: Наименование индикатора | AQ14: Выполнение индикатора | AS14: Наименование индикатора | AT14: Выполнение индикатора | AV14: Наименование индикатора | AW14: Выполнение индикатора | AY14: Наименование индикатора | AZ14: Выполнение индикатора
A15: 3 | B15: МУНИЦИПАЛЬНОЕ КАЗЕННОЕ ОБЩЕОБРАЗОВАТЕЛЬНОЕ УЧРЕЖДЕНИЕ "ФИЙСКАЯ СРЕДНЯЯ ОБЩЕОБРАЗОВАТЕЛЬНАЯ ШКОЛА", 0504006227, организации, осуществляющие образовательную деятельность | C15: 40 | D15: 16 | E15: 40.0 | F15: отсутствует информация о деятельности организации социальной сферы | H15: 0 | I15: Отсутствует информация о деятельности организации социальной сферы на ее официальном сайте | K15: 0 | L15: Отсутствуют или не функционируют дистанционные способы взаимодействия | N15: 0 | O15: Число получателей услуг, удовлетворенных качеством, полнотой и доступностью информации о деятельности организации социальной сферы, размещенной на информационных стендах в помещении организации социальной сферы по отношению к числу опрошенных получателей услуг, ответивших на соответствующий вопрос анкеты | P15: 14 | Q15: 14 | R15: число получателей услуг, удовлетворенных качеством, полнотой и доступностью информации о деятельности организации социальной сферы, размещенной на официальном сайте организации социальной сферы по отношению к числу опрошенных получателей услуг, ответивших на соответствующий вопрос анкеты | S15: 15 | T15: 16 | U15: Отсутствуют комфортные условия | W15: 0 | X15: Число получателей услуг, удовлетворенных комфортностью предоставления услуг организацией социальной сферы, по отношению к числу опрошенных получателей услуг, ответивших на данный вопрос | Y15: 15 | Z15: 16 | AA15: Отсутствуют условия доступности для инвалидов | AC15: 0 | AD15: Отсутствуют условия доступности, позволяющие инвалидам получать услуги наравне с другими | AF15: 0 | AG15: Число получателей услуг-инвалидов, удовлетворенных доступностью услуг для инвалидов, по отношению к числу опрошенных получателей услуг- инвалидов, ответивших на соответствующий вопрос анкеты | AH15: 2 | AI15: 3 | AJ15: Число получателей услуг, удовлетворенных доброжелательностью, вежливостью работников организации социальной сферы, обеспечивающих первичный контакт и информирование получателя услуги, по отношению к числу опрошенныхполучателей услуг, ответивших на соответствующий вопрос анкеты | AK15: 15 | AL15: 16 | AM15: Число получателей услуг, удовлетворенных доброжелательностью, вежливостью работников организации социальной сферы, обеспечивающих непосредственное оказание услуги, по отношению к числу опрошенных получателей услуг, ответивших на соответствующий вопрос анкеты | AN15: 15 | AO15: 16 | AP15: Число получателей услуг, удовлетворенных доброжелательностью, вежливостью работников организации социальной сферы при использовании дистанционных форм взаимодействия, по отношению к числу опрошенных получателей услуг, ответивших на соответствующий вопрос анкеты | AQ15: 13 | AR15: 14 | AS15: Число получателей услуг, которые готовы рекомендовать организацию родственникам и знакомым (могли бы ее рекомендовать, если бы была возможность выбора организации, по отношению к числу опрошенных получателей услуг, ответивших на соответствующий вопрос анкеты | AT15: 15 | AU15: 16 | AV15: Число получателей услуг, удовлетворенных организационными условиями предоставления услуг, по отношению к числу опрошенных получателей услуг ответивших на соответствующий вопрос анкеты | AW15: 15 | AX15: 16 | AY15: Число получателей услуг, удовлетворенных в целом условиями оказания услуг в организации социальной сферы, по отношению к числу опрошенных получателей услуг, ответивших на соответствующий вопрос анкеты | AZ15: 15 | BA15: 16
A16: 3 | B16: МУНИЦИПАЛЬНОЕ КАЗЕННОЕ ОБЩЕОБРАЗОВАТЕЛЬНОЕ УЧРЕЖДЕНИЕ "ФИЙСКАЯ СРЕДНЯЯ ОБЩЕОБРАЗОВАТЕЛЬНАЯ ШКОЛА", 0504006227, организации, осуществляющие образовательную деятельность | C16: 40 | D16: 16 | E16: 40.0 | F16: объем информации (количество материалов/единиц информации), размещенной на информационных стендах в помещении организации по отношению к количеству материалов, размещение которых установлено нормативными правовыми актами | G16: 6 | H16: 13 | I16: Объем информации (количество материалов/единиц информации), размещенной на официальном сайте организации по отношению к количеству материалов, размещение которых установлено нормативными правовыми актами | J16: 20 | K16: 38 | L16: Количество функционирующих дистанционных способов взаимодействия (от одного до трех способов включительно) | M16: 2 | N16: 30 | U16: Количество комфортных условий для предоставления услуг (от одного до четырех включительно) | V16: 3 | W16: 20 | AA16: Количество условий доступности организации для инвалидов (от одного до четырех) | AC16: 20 | AD16: Количество условий доступности, позволяющих инвалидам получать услуги наравне с другими (от одного до четырех) | AE16: 1 | AF16: 20
A17: 3 | B17: МУНИЦИПАЛЬНОЕ КАЗЕННОЕ ОБЩЕОБРАЗОВАТЕЛЬНОЕ УЧРЕЖДЕНИЕ "ФИЙСКАЯ СРЕДНЯЯ ОБЩЕОБРАЗОВАТЕЛЬНАЯ ШКОЛА", 0504006227, организации, осуществляющие образовательную деятельность | C17: 40 | D17: 16 | E17: 40.0 | L17: В наличии и функционируют более трех дистанционных способов взаимодействия | N17: 100 | U17: Наличие пяти и более комфортных условий для предоставления услуг | W17: 100 | AA17: Наличие пяти и более условий доступности для инвалидов | AC17: 100 | AD17: Наличие пяти и более условий доступности | AF17: 100
A18: 4 | B18: МУНИЦИПАЛЬНОЕ КАЗЕННОЕ ОБЩЕОБРАЗОВАТЕЛЬНОЕ УЧРЕЖДЕНИЕ "ДЖАБИНСКАЯ СРЕДНЯЯ ОБЩЕОБРАЗОВАТЕЛЬНАЯ ШКОЛА ИМ.М.Д.КУРБАНОВА", 0504005569, организации, осуществляющие образовательную деятельность | C18: 40 | D18: 16 | E18: 40.0 | F18: отсутствует информация о деятельности организации социальной сферы | H18: 0 | I18: Отсутствует информация о деятельности организации социальной сферы на ее официальном сайте | K18: 0 | L18: Отсутствуют или не функционируют дистанционные способы взаимодействия | N18: 0 | O18: Число получателей услуг, удовлетворенных качеством, полнотой и доступностью информации о деятельности организации социальной сферы, размещенной на информационных стендах в помещении организации социальной сферы по отношению к числу опрошенных получателей услуг, ответивших на соответствующий вопрос анкеты | P18: 15 | Q18: 15 | R18: число получателей услуг, удовлетворенных качеством, полнотой и доступностью информации о деятельности организации социальной сферы, размещенной на официальном сайте организации социальной сферы по отношению к числу опрошенных получателей услуг, ответивших на соответствующий вопрос анкеты | S18: 15 | T18: 15 | U18: Отсутствуют комфортные условия | W18: 0 | X18: Число получателей услуг, удовлетворенных комфортностью предоставления услуг организацией социальной сферы, по отношению к числу опрошенных получателей услуг, ответивших на данный вопрос | Y18: 16 | Z18: 16 | AA18: Отсутствуют условия доступности для инвалидов | AC18: 0 | AD18: Отсутствуют условия доступности, позволяющие инвалидам получать услуги наравне с другими | AF18: 0 | AG18: Число получателей услуг-инвалидов, удовлетворенных доступностью услуг для инвалидов, по отношению к числу опрошенных получателей услуг- инвалидов, ответивших на соответствующий вопрос анкеты | AH18: 2 | AI18: 2 | AJ18: Число получателей услуг, удовлетворенных доброжелательностью, вежливостью работников организации социальной сферы, обеспечивающих первичный контакт и информирование получателя услуги, по отношению к числу опрошенныхполучателей услуг, ответивших на соответствующий вопрос анкеты | AK18: 16 | AL18: 16 | AM18: Число получателей услуг, удовлетворенных доброжелательностью, вежливостью работников организации социальной сферы, обеспечивающих непосредственное оказание услуги, по отношению к числу опрошенных получателей услуг, ответивших на соответствующий вопрос анкеты | AN18: 16 | AO18: 16 | AP18: Число получателей услуг, удовлетворенных доброжелательностью, вежливостью работников организации социальной сферы при использовании дистанционных форм взаимодействия, по отношению к числу опрошенных получателей услуг, ответивших на соответствующий вопрос анкеты | AQ18: 16 | AR18: 16 | AS18: Число получателей услуг, которые готовы рекомендовать организацию родственникам и знакомым (могли бы ее рекомендовать, если бы была возможность выбора организации, по отношению к числу опрошенных получателей услуг, ответивших на соответствующий вопрос анкеты | AT18: 16 | AU18: 16 | AV18: Число получателей услуг, удовлетворенных организационными условиями предоставления услуг, по отношению к числу опрошенных получателей услуг ответивших на соответствующий вопрос анкеты | AW18: 16 | AX18: 16 | AY18: Число получателей услуг, удовлетворенных в целом условиями оказания услуг в организации социальной сферы, по отношению к числу опрошенных получателей услуг, ответивших на соответствующий вопрос анкеты | AZ18: 16 | BA18: 16
A19: 4 | B19: МУНИЦИПАЛЬНОЕ КАЗЕННОЕ ОБЩЕОБРАЗОВАТЕЛЬНОЕ УЧРЕЖДЕНИЕ "ДЖАБИНСКАЯ СРЕДНЯЯ ОБЩЕОБРАЗОВАТЕЛЬНАЯ ШКОЛА ИМ.М.Д.КУРБАНОВА", 0504005569, организации, осуществляющие образовательную деятельность | C19: 40 | D19: 16 | E19: 40.0 | F19: объем информации (количество материалов/единиц информации), размещенной на информационных стендах в помещении организации по отношению к количеству материалов, размещение которых установлено нормативными правовыми актами | H19: 100 | I19: Объем информации (количество материалов/единиц информации), размещенной на официальном сайте организации по отношению к количеству материалов, размещение которых установлено нормативными правовыми актами | K19: 100 | L19: Количество функционирующих дистанционных способов взаимодействия (от одного до трех способов включительно) | N19: 30 | U19: Количество комфортных условий для предоставления услуг (от одного до четырех включительно) | W19: 20 | AA19: Количество условий доступности организации для инвалидов (от одного до четырех) | AC19: 20 | AD19: Количество условий доступности, позволяющих инвалидам получать услуги наравне с другими (от одного до четырех) | AF19: 20
A20: 4 | B20: МУНИЦИПАЛЬНОЕ КАЗЕННОЕ ОБЩЕОБРАЗОВАТЕЛЬНОЕ УЧРЕЖДЕНИЕ "ДЖАБИНСКАЯ СРЕДНЯЯ ОБЩЕОБРАЗОВАТЕЛЬНАЯ ШКОЛА ИМ.М.Д.КУРБАНОВА", 0504005569, организации, осуществляющие образовательную деятельность | C20: 40 | D20: 16 | E20: 40.0 | L20: В наличии и функционируют более трех дистанционных способов взаимодействия | N20: 100 | U20: Наличие пяти и более комфортных условий для предоставления услуг | W20: 100 | AA20: Наличие пяти и более условий доступности для инвалидов | AC20: 100 | AD20: Наличие пяти и более условий доступности | AF20: 100
A21: 5 | B21: МУНИЦИПАЛЬНОЕ КАЗЕННОЕ ОБЩЕОБРАЗОВАТЕЛЬНОЕ УЧРЕЖДЕНИЕ "ГОГАЗСКАЯ СРЕДНЯЯ ОБЩЕОБРАЗОВАТЕЛЬНАЯ ШКОЛА", 0504006474, организации, осуществляющие образовательную деятельность | C21: 40 | D21: 18 | E21: 40.0 | F21: отсутствует информация о деятельности организации социальной сферы | H21: 0 | I21: Отсутствует информация о деятельности организации социальной сферы на ее официальном сайте | K21: 0 | L21: Отсутствуют или не функционируют дистанционные способы взаимодействия | N21: 0 | O21: Число получателей услуг, удовлетворенных качеством, полнотой и доступностью информации о деятельности организации социальной сферы, размещенной на информационных стендах в помещении организации социальной сферы по отношению к числу опрошенных получателей услуг, ответивших на соответствующий вопрос анкеты | P21: 18 | Q21: 18 | R21: число получателей услуг, удовлетворенных качеством, полнотой и доступностью информации о деятельности организации социальной сферы, размещенной на официальном сайте организации социальной сферы по отношению к числу опрошенных получателей услуг, ответивших на соответствующий вопрос анкеты | S21: 18 | T21: 18 | U21: Отсутствуют комфортные условия | W21: 0 | X21: Число получателей услуг, удовлетворенных комфортностью предоставления услуг организацией социальной сферы, по отношению к числу опрошенных получателей услуг, ответивших на данный вопрос | Y21: 15 | Z21: 18 | AA21: Отсутствуют условия доступности для инвалидов | AC21: 0 | AD21: Отсутствуют условия доступности, позволяющие инвалидам получать услуги наравне с другими | AF21: 0 | AG21: Число получателей услуг-инвалидов, удовлетворенных доступностью услуг для инвалидов, по отношению к числу опрошенных получателей услуг- инвалидов, ответивших на соответствующий вопрос анкеты | AH21: 4 | AI21: 5 | AJ21: Число получателей услуг, удовлетворенных доброжелательностью, вежливостью работников организации социальной сферы, обеспечивающих первичный контакт и информирование получателя услуги, по отношению к числу опрошенныхполучателей услуг, ответивших на соответствующий вопрос анкеты | AK21: 18 | AL21: 18 | AM21: Число получателей услуг, удовлетворенных доброжелательностью, вежливостью работников организации социальной сферы, обеспечивающих непосредственное оказание услуги, по отношению к числу опрошенных получателей услуг, ответивших на соответствующий вопрос анкеты | AN21: 18 | AO21: 18 | AP21: Число получателей услуг, удовлетворенных доброжелательностью, вежливостью работников организации социальной сферы при использовании дистанционных форм взаимодействия, по отношению к числу опрошенных получателей услуг, ответивших на соответствующий вопрос анкеты | AQ21: 18 | AR21: 18 | AS21: Число получателей услуг, которые готовы рекомендовать организацию родственникам и знакомым (могли бы ее рекомендовать, если бы была возможность выбора организации, по отношению к числу опрошенных получателей услуг, ответивших на соответствующий вопрос анкеты | AT21: 17 | AU21: 18 | AV21: Число получателей услуг, удовлетворенных организационными условиями предоставления услуг, по отношению к числу опрошенных получателей услуг ответивших на соответствующий вопрос анкеты | AW21: 16 | AX21: 18 | AY21: Число получателей услуг, удовлетворенных в целом условиями оказания услуг в организации социальной сферы, по отношению к числу опрошенных получателей услуг, ответивших на соответствующий вопрос анкеты | AZ21: 16 | BA21: 18
A22: 5 | B22: МУНИЦИПАЛЬНОЕ КАЗЕННОЕ ОБЩЕОБРАЗОВАТЕЛЬНОЕ УЧРЕЖДЕНИЕ "ГОГАЗСКАЯ СРЕДНЯЯ ОБЩЕОБРАЗОВАТЕЛЬНАЯ ШКОЛА", 0504006474, организации, осуществляющие образовательную деятельность | C22: 40 | D22: 18 | E22: 40.0 | F22: объем информации (количество материалов/единиц информации), размещенной на информационных стендах в помещении организации по отношению к количеству материалов, размещение которых установлено нормативными правовыми актами | H22: 100 | I22: Объем информации (количество материалов/единиц информации), размещенной на официальном сайте организации по отношению к количеству материалов, размещение которых установлено нормативными правовыми актами | K22: 100 | L22: Количество функционирующих дистанционных способов взаимодействия (от одного до трех способов включительно) | N22: 30 | U22: Количество комфортных условий для предоставления услуг (от одного до четырех включительно) | W22: 20 | AA22: Количество условий доступности организации для инвалидов (от одного до четырех) | AC22: 20 | AD22: Количество условий доступности, позволяющих инвалидам получать услуги наравне с другими (от одного до четырех) | AF22: 20
A23: 5 | B23: МУНИЦИПАЛЬНОЕ КАЗЕННОЕ ОБЩЕОБРАЗОВАТЕЛЬНОЕ УЧРЕЖДЕНИЕ "ГОГАЗСКАЯ СРЕДНЯЯ ОБЩЕОБРАЗОВАТЕЛЬНАЯ ШКОЛА", 0504006474, организации, осуществляющие образовательную деятельность | C23: 40 | D23: 18 | E23: 40.0 | L23: В наличии и функционируют более трех дистанционных способов взаимодействия | N23: 100 | U23: Наличие пяти и более комфортных условий для предоставления услуг | W23: 100 | AA23: Наличие пяти и более условий доступности для инвалидов | AC23: 100 | AD23: Наличие пяти и более условий доступности | AF23: 100
A24: 6 | B24: МУНИЦИПАЛЬНОЕ КАЗЕННОЕ ОБЩЕОБРАЗОВАТЕЛЬНОЕ УЧРЕЖДЕНИЕ "АХТЫНСКАЯ ОСНОВНАЯ ОБЩЕОБРАЗОВАТЕЛЬНАЯ ШКОЛА", 0504006379, организации, осуществляющие образовательную деятельность | C24: 40 | D24: 49 | E24: 40.0 | F24: отсутствует информация о деятельности организации социальной сферы | H24: 0 | I24: Отсутствует информация о деятельности организации социальной сферы на ее официальном сайте | K24: 0 | L24: Отсутствуют или не функционируют дистанционные способы взаимодействия | N24: 0 | O24: Число получателей услуг, удовлетворенных качеством, полнотой и доступностью информации о деятельности организации социальной сферы, размещенной на информационных стендах в помещении организации социальной сферы по отношению к числу опрошенных получателей услуг, ответивших на соответствующий вопрос анкеты | P24: 14 | Q24: 16 | R24: число получателей услуг, удовлетворенных качеством, полнотой и доступностью информации о деятельности организации социальной сферы, размещенной на официальном сайте организации социальной сферы по отношению к числу опрошенных получателей услуг, ответивших на соответствующий вопрос анкеты | S24: 14 | T24: 15 | U24: Отсутствуют комфортные условия | W24: 0 | X24: Число получателей услуг, удовлетворенных комфортностью предоставления услуг организацией социальной сферы, по отношению к числу опрошенных получателей услуг, ответивших на данный вопрос | Y24: 29 | Z24: 49 | AA24: Отсутствуют условия доступности для инвалидов | AC24: 0 | AD24: Отсутствуют условия доступности, позволяющие инвалидам получать услуги наравне с другими | AF24: 0 | AG24: Число получателей услуг-инвалидов, удовлетворенных доступностью услуг для инвалидов, по отношению к числу опрошенных получателей услуг- инвалидов, ответивших на соответствующий вопрос анкеты | AH24: 2 | AI24: 5 | AJ24: Число получателей услуг, удовлетворенных доброжелательностью, вежливостью работников организации социальной сферы, обеспечивающих первичный контакт и информирование получателя услуги, по отношению к числу опрошенныхполучателей услуг, ответивших на соответствующий вопрос анкеты | AK24: 45 | AL24: 49 | AM24: Число получателей услуг, удовлетворенных доброжелательностью, вежливостью работников организации социальной сферы, обеспечивающих непосредственное оказание услуги, по отношению к числу опрошенных получателей услуг, ответивших на соответствующий вопрос анкеты | AN24: 46 | AO24: 49 | AP24: Число получателей услуг, удовлетворенных доброжелательностью, вежливостью работников организации социальной сферы при использовании дистанционных форм взаимодействия, по отношению к числу опрошенных получателей услуг, ответивших на соответствующий вопрос анкеты | AQ24: 23 | AR24: 27 | AS24: Число получателей услуг, которые готовы рекомендовать организацию родственникам и знакомым (могли бы ее рекомендовать, если бы была возможность выбора организации, по отношению к числу опрошенных получателей услуг, ответивших на соответствующий вопрос анкеты | AT24: 41 | AU24: 49 | AV24: Число получателей услуг, удовлетворенных организационными условиями предоставления услуг, по отношению к числу опрошенных получателей услуг ответивших на соответствующий вопрос анкеты | AW24: 40 | AX24: 49 | AY24: Число получателей услуг, удовлетворенных в целом условиями оказания услуг в организации социальной сферы, по отношению к числу опрошенных получателей услуг, ответивших на соответствующий вопрос анкеты | AZ24: 40 | BA24: 49
A25: 6 | B25: МУНИЦИПАЛЬНОЕ КАЗЕННОЕ ОБЩЕОБРАЗОВАТЕЛЬНОЕ УЧРЕЖДЕНИЕ "АХТЫНСКАЯ ОСНОВНАЯ ОБЩЕОБРАЗОВАТЕЛЬНАЯ ШКОЛА", 0504006379, организации, осуществляющие образовательную деятельность | C25: 40 | D25: 49 | E25: 40.0 | F25: объем информации (количество материалов/единиц информации), размещенной на информационных стендах в помещении организации по отношению к количеству материалов, размещение которых установлено нормативными правовыми актами | H25: 100 | I25: Объем информации (количество материалов/единиц информации), размещенной на официальном сайте организации по отношению к количеству материалов, размещение которых установлено нормативными правовыми актами | K25: 100 | L25: Количество функционирующих дистанционных способов взаимодействия (от одного до трех способов включительно) | N25: 30 | U25: Количество комфортных условий для предоставления услуг (от одного до четырех включительно) | W25: 20 | AA25: Количество условий доступности организации для инвалидов (от одного до четырех) | AC25: 20 | AD25: Количество условий доступности, позволяющих инвалидам получать услуги наравне с другими (от одного до четырех) | AF25: 20
A26: 6 | B26: МУНИЦИПАЛЬНОЕ КАЗЕННОЕ ОБЩЕОБРАЗОВАТЕЛЬНОЕ УЧРЕЖДЕНИЕ "АХТЫНСКАЯ ОСНОВНАЯ ОБЩЕОБРАЗОВАТЕЛЬНАЯ ШКОЛА", 0504006379, организации, осуществляющие образовательную деятельность | C26: 40 | D26: 49 | E26: 40.0 | L26: В наличии и функционируют более трех дистанционных способов взаимодействия | N26: 100 | U26: Наличие пяти и более комфортных условий для предоставления услуг | W26: 100 | AA26: Наличие пяти и более условий доступности для инвалидов | AC26: 100 | AD26: Наличие пяти и более условий доступности | AF26: 100
A27: 7 | B27: МУНИЦИПАЛЬНОЕ КАЗЕННОЕ ОБЩЕОБРАЗОВАТЕЛЬНОЕ УЧРЕЖДЕНИЕ "ГДЫМСКАЯ ОСНОВНАЯ ОБЩЕОБРАЗОВАТЕЛЬНАЯ ШКОЛА", 0504006467, организации, осуществляющие образовательную деятельность | C27: 40 | D27: 3 | E27: 40.0 | F27: отсутствует информация о деятельности организации социальной сферы | H27: 0 | I27: Отсутствует информация о деятельности организации социальной сферы на ее официальном сайте | K27: 0 | L27: Отсутствуют или не функционируют дистанционные способы взаимодействия | N27: 0 | O27: Число получателей услуг, удовлетворенных качеством, полнотой и доступностью информации о деятельности организации социальной сферы, размещенной на информационных стендах в помещении организации социальной сферы по отношению к числу опрошенных получателей услуг, ответивших на соответствующий вопрос анкеты | P27: 2 | Q27: 2 | R27: число получателей услуг, удовлетворенных качеством, полнотой и доступностью информации о деятельности организации социальной сферы, размещенной на официальном сайте организации социальной сферы по отношению к числу опрошенных получателей услуг, ответивших на соответствующий вопрос анкеты | S27: 2 | T27: 2 | U27: Отсутствуют комфортные условия | W27: 0 | X27: Число получателей услуг, удовлетворенных комфортностью предоставления услуг организацией социальной сферы, по отношению к числу опрошенных получателей услуг, ответивших на данный вопрос | Y27: 2 | Z27: 3 | AA27: Отсутствуют условия доступности для инвалидов | AC27: 0 | AD27: Отсутствуют условия доступности, позволяющие инвалидам получать услуги наравне с другими | AF27: 0 | AG27: Число получателей услуг-инвалидов, удовлетворенных доступностью услуг для инвалидов, по отношению к числу опрошенных получателей услуг- инвалидов, ответивших на соответствующий вопрос анкеты | AH27: 1 | AI27: 1 | AJ27: Число получателей услуг, удовлетворенных доброжелательностью, вежливостью работников организации социальной сферы, обеспечивающих первичный контакт и информирование получателя услуги, по отношению к числу опрошенныхполучателей услуг, ответивших на соответствующий вопрос анкеты | AK27: 3 | AL27: 3 | AM27: Число получателей услуг, удовлетворенных доброжелательностью, вежливостью работников организации социальной сферы, обеспечивающих непосредственное оказание услуги, по отношению к числу опрошенных получателей услуг, ответивших на соответствующий вопрос анкеты | AN27: 3 | AO27: 3 | AP27: Число получателей услуг, удовлетворенных доброжелательностью, вежливостью работников организации социальной сферы при использовании дистанционных форм взаимодействия, по отношению к числу опрошенных получателей услуг, ответивших на соответствующий вопрос анкеты | AQ27: 2 | AR27: 2 | AS27: Число получателей услуг, которые готовы рекомендовать организацию родственникам и знакомым (могли бы ее рекомендовать, если бы была возможность выбора организации, по отношению к числу опрошенных получателей услуг, ответивших на соответствующий вопрос анкеты | AT27: 3 | AU27: 3 | AV27: Число получателей услуг, удовлетворенных организационными условиями предоставления услуг, по отношению к числу опрошенных получателей услуг ответивших на соответствующий вопрос анкеты | AW27: 3 | AX27: 3 | AY27: Число получателей услуг, удовлетворенных в целом условиями оказания услуг в организации социальной сферы, по отношению к числу опрошенных получателей услуг, ответивших на соответствующий вопрос анкеты | AZ27: 3 | BA27: 3
A28: 7 | B28: МУНИЦИПАЛЬНОЕ КАЗЕННОЕ ОБЩЕОБРАЗОВАТЕЛЬНОЕ УЧРЕЖДЕНИЕ "ГДЫМСКАЯ ОСНОВНАЯ ОБЩЕОБРАЗОВАТЕЛЬНАЯ ШКОЛА", 0504006467, организации, осуществляющие образовательную деятельность | C28: 40 | D28: 3 | E28: 40.0 | F28: объем информации (количество материалов/единиц информации), размещенной на информационных стендах в помещении организации по отношению к количеству материалов, размещение которых установлено нормативными правовыми актами | H28: 100 | I28: Объем информации (количество материалов/единиц информации), размещенной на официальном сайте организации по отношению к количеству материалов, размещение которых установлено нормативными правовыми актами | K28: 100 | L28: Количество функционирующих дистанционных способов взаимодействия (от одного до трех способов включительно) | N28: 30 | U28: Количество комфортных условий для предоставления услуг (от одного до четырех включительно) | W28: 20 | AA28: Количество условий доступности организации для инвалидов (от одного до четырех) | AC28: 20 | AD28: Количество условий доступности, позволяющих инвалидам получать услуги наравне с другими (от одного до четырех) | AF28: 20
A29: 7 | B29: МУНИЦИПАЛЬНОЕ КАЗЕННОЕ ОБЩЕОБРАЗОВАТЕЛЬНОЕ УЧРЕЖДЕНИЕ "ГДЫМСКАЯ ОСНОВНАЯ ОБЩЕОБРАЗОВАТЕЛЬНАЯ ШКОЛА", 0504006467, организации, осуществляющие образовательную деятельность | C29: 40 | D29: 3 | E29: 40.0 | L29: В наличии и функционируют более трех дистанционных способов взаимодействия | N29: 100 | U29: Наличие пяти и более комфортных условий для предоставления услуг | W29: 100 | AA29: Наличие пяти и более условий доступности для инвалидов | AC29: 100 | AD29: Наличие пяти и более условий доступности | AF29: 100
A30: 8 | B30: МУНИЦИПАЛЬНОЕ КАЗЕННОЕ ОБЩЕОБРАЗОВАТЕЛЬНОЕ УЧРЕЖДЕНИЕ "АХТЫНСКАЯ НАЧАЛЬНАЯ ОБЩЕОБРАЗОВАТЕЛЬНАЯ ШКОЛА №2350 ПРИ ВОЙСКОВОЙ ЧАСТИ", 0504036574, организации, осуществляющие образовательную деятельность | C30: 40 | D30: 24 | E30: 40.0 | F30: отсутствует информация о деятельности организации социальной сферы | H30: 0 | I30: Отсутствует информация о деятельности организации социальной сферы на ее официальном сайте | K30: 0 | L30: Отсутствуют или не функционируют дистанционные способы взаимодействия | N30: 0 | O30: Число получателей услуг, удовлетворенных качеством, полнотой и доступностью информации о деятельности организации социальной сферы, размещенной на информационных стендах в помещении организации социальной сферы по отношению к числу опрошенных получателей услуг, ответивших на соответствующий вопрос анкеты | P30: 16 | Q30: 18 | R30: число получателей услуг, удовлетворенных качеством, полнотой и доступностью информации о деятельности организации социальной сферы, размещенной на официальном сайте организации социальной сферы по отношению к числу опрошенных получателей услуг, ответивших на соответствующий вопрос анкеты | S30: 9 | T30: 10 | U30: Отсутствуют комфортные условия | W30: 0 | X30: Число получателей услуг, удовлетворенных комфортностью предоставления услуг организацией социальной сферы, по отношению к числу опрошенных получателей услуг, ответивших на данный вопрос | Y30: 23 | Z30: 24 | AA30: Отсутствуют условия доступности для инвалидов | AC30: 0 | AD30: Отсутствуют условия доступности, позволяющие инвалидам получать услуги наравне с другими | AF30: 0 | AG30: Число получателей услуг-инвалидов, удовлетворенных доступностью услуг для инвалидов, по отношению к числу опрошенных получателей услуг- инвалидов, ответивших на соответствующий вопрос анкеты | AH30: 1 | AI30: 2 | AJ30: Число получателей услуг, удовлетворенных доброжелательностью, вежливостью работников организации социальной сферы, обеспечивающих первичный контакт и информирование получателя услуги, по отношению к числу опрошенныхполучателей услуг, ответивших на соответствующий вопрос анкеты | AK30: 22 | AL30: 24 | AM30: Число получателей услуг, удовлетворенных доброжелательностью, вежливостью работников организации социальной сферы, обеспечивающих непосредственное оказание услуги, по отношению к числу опрошенных получателей услуг, ответивших на соответствующий вопрос анкеты | AN30: 23 | AO30: 24 | AP30: Число получателей услуг, удовлетворенных доброжелательностью, вежливостью работников организации социальной сферы при использовании дистанционных форм взаимодействия, по отношению к числу опрошенных получателей услуг, ответивших на соответствующий вопрос анкеты | AQ30: 9 | AR30: 11 | AS30: Число получателей услуг, которые готовы рекомендовать организацию родственникам и знакомым (могли бы ее рекомендовать, если бы была возможность выбора организации, по отношению к числу опрошенных получателей услуг, ответивших на соответствующий вопрос анкеты | AT30: 23 | AU30: 24 | AV30: Число получателей услуг, удовлетворенных организационными условиями предоставления услуг, по отношению к числу опрошенных получателей услуг ответивших на соответствующий вопрос анкеты | AW30: 23 | AX30: 24 | AY30: Число получателей услуг, удовлетворенных в целом условиями оказания услуг в организации социальной сферы, по отношению к числу опрошенных получателей услуг, ответивших на соответствующий вопрос анкеты | AZ30: 23 | BA30: 24
A31: 8 | B31: МУНИЦИПАЛЬНОЕ КАЗЕННОЕ ОБЩЕОБРАЗОВАТЕЛЬНОЕ УЧРЕЖДЕНИЕ "АХТЫНСКАЯ НАЧАЛЬНАЯ ОБЩЕОБРАЗОВАТЕЛЬНАЯ ШКОЛА №2350 ПРИ ВОЙСКОВОЙ ЧАСТИ", 0504036574, организации, осуществляющие образовательную деятельность | C31: 40 | D31: 24 | E31: 40.0 | F31: объем информации (количество материалов/единиц информации), размещенной на информационных стендах в помещении организации по отношению к количеству материалов, размещение которых установлено нормативными правовыми актами | H31: 100 | I31: Объем информации (количество материалов/единиц информации), размещенной на официальном сайте организации по отношению к количеству материалов, размещение которых установлено нормативными правовыми актами | K31: 100 | L31: Количество функционирующих дистанционных способов взаимодействия (от одного до трех способов включительно) | N31: 30 | U31: Количество комфортных условий для предоставления услуг (от одного до четырех включительно) | W31: 20 | AA31: Количество условий доступности организации для инвалидов (от одного до четырех) | AC31: 20 | AD31: Количество условий доступности, позволяющих инвалидам получать услуги наравне с другими (от одного до четырех) | AF31: 20
A32: 8 | B32: МУНИЦИПАЛЬНОЕ КАЗЕННОЕ ОБЩЕОБРАЗОВАТЕЛЬНОЕ УЧРЕЖДЕНИЕ "АХТЫНСКАЯ НАЧАЛЬНАЯ ОБЩЕОБРАЗОВАТЕЛЬНАЯ ШКОЛА №2350 ПРИ ВОЙСКОВОЙ ЧАСТИ", 0504036574, организации, осуществляющие образовательную деятельность | C32: 40 | D32: 24 | E32: 40.0 | L32: В наличии и функционируют более трех дистанционных способов взаимодействия | N32: 100 | U32: Наличие пяти и более комфортных условий для предоставления услуг | W32: 100 | AA32: Наличие пяти и более условий доступности для инвалидов | AC32: 100 | AD32: Наличие пяти и более условий доступности | AF32: 100
A33: 9 | B33: МУНИЦИПАЛЬНОЕ КАЗЕННОЕ УЧРЕЖДЕНИЕ ДОПОЛНИТЕЛЬНОГО ОБРАЗОВАНИЯ"СТАНЦИЯ ЮНЫХ НАТУРАЛИСТОВ "ИМ.Ф.Г.КИСРИЕВА, 0504006033, организации, осуществляющие образовательную деятельность | C33: 40 | D33: 79 | E33: 40.0 | F33: отсутствует информация о деятельности организации социальной сферы | H33: 0 | I33: Отсутствует информация о деятельности организации социальной сферы на ее официальном сайте | K33: 0 | L33: Отсутствуют или не функционируют дистанционные способы взаимодействия | N33: 0 | O33: Число получателей услуг, удовлетворенных качеством, полнотой и доступностью информации о деятельности организации социальной сферы, размещенной на информационных стендах в помещении организации социальной сферы по отношению к числу опрошенных получателей услуг, ответивших на соответствующий вопрос анкеты | P33: 55 | Q33: 59 | R33: число получателей услуг, удовлетворенных качеством, полнотой и доступностью информации о деятельности организации социальной сферы, размещенной на официальном сайте организации социальной сферы по отношению к числу опрошенных получателей услуг, ответивших на соответствующий вопрос анкеты | S33: 50 | T33: 52 | U33: Отсутствуют комфортные условия | W33: 0 | X33: Число получателей услуг, удовлетворенных комфортностью предоставления услуг организацией социальной сферы, по отношению к числу опрошенных получателей услуг, ответивших на данный вопрос | Y33: 71 | Z33: 79 | AA33: Отсутствуют условия доступности для инвалидов | AC33: 0 | AD33: Отсутствуют условия доступности, позволяющие инвалидам получать услуги наравне с другими | AF33: 0 | AG33: Число получателей услуг-инвалидов, удовлетворенных доступностью услуг для инвалидов, по отношению к числу опрошенных получателей услуг- инвалидов, ответивших на соответствующий вопрос анкеты | AH33: 2 | AI33: 2 | AJ33: Число получателей услуг, удовлетворенных доброжелательностью, вежливостью работников организации социальной сферы, обеспечивающих первичный контакт и информирование получателя услуги, по отношению к числу опрошенныхполучателей услуг, ответивших на соответствующий вопрос анкеты | AK33: 76 | AL33: 79 | AM33: Число получателей услуг, удовлетворенных доброжелательностью, вежливостью работников организации социальной сферы, обеспечивающих непосредственное оказание услуги, по отношению к числу опрошенных получателей услуг, ответивших на соответствующий вопрос анкеты | AN33: 78 | AO33: 79 | AP33: Число получателей услуг, удовлетворенных доброжелательностью, вежливостью работников организации социальной сферы при использовании дистанционных форм взаимодействия, по отношению к числу опрошенных получателей услуг, ответивших на соответствующий вопрос анкеты | AQ33: 46 | AR33: 48 | AS33: Число получателей услуг, которые готовы рекомендовать организацию родственникам и знакомым (могли бы ее рекомендовать, если бы была возможность выбора организации, по отношению к числу опрошенных получателей услуг, ответивших на соответствующий вопрос анкеты | AT33: 76 | AU33: 79 | AV33: Число получателей услуг, удовлетворенных организационными условиями предоставления услуг, по отношению к числу опрошенных получателей услуг ответивших на соответствующий вопрос анкеты | AW33: 77 | AX33: 79 | AY33: Число получателей услуг, удовлетворенных в целом условиями оказания услуг в организации социальной сферы, по отношению к числу опрошенных получателей услуг, ответивших на соответствующий вопрос анкеты | AZ33: 74 | BA33: 79
A34: 9 | B34: МУНИЦИПАЛЬНОЕ КАЗЕННОЕ УЧРЕЖДЕНИЕ ДОПОЛНИТЕЛЬНОГО ОБРАЗОВАНИЯ"СТАНЦИЯ ЮНЫХ НАТУРАЛИСТОВ "ИМ.Ф.Г.КИСРИЕВА, 0504006033, организации, осуществляющие образовательную деятельность | C34: 40 | D34: 79 | E34: 40.0 | F34: объем информации (количество материалов/единиц информации), размещенной на информационных стендах в помещении организации по отношению к количеству материалов, размещение которых установлено нормативными правовыми актами | H34: 100 | I34: Объем информации (количество материалов/единиц информации), размещенной на официальном сайте организации по отношению к количеству материалов, размещение которых установлено нормативными правовыми актами | K34: 100 | L34: Количество функционирующих дистанционных способов взаимодействия (от одного до трех способов включительно) | N34: 30 | U34: Количество комфортных условий для предоставления услуг (от одного до четырех включительно) | W34: 20 | AA34: Количество условий доступности организации для инвалидов (от одного до четырех) | AC34: 20 | AD34: Количество условий доступности, позволяющих инвалидам получать услуги наравне с другими (от одного до четырех) | AF34: 20
A35: 9 | B35: МУНИЦИПАЛЬНОЕ КАЗЕННОЕ УЧРЕЖДЕНИЕ ДОПОЛНИТЕЛЬНОГО ОБРАЗОВАНИЯ"СТАНЦИЯ ЮНЫХ НАТУРАЛИСТОВ "ИМ.Ф.Г.КИСРИЕВА, 0504006033, организации, осуществляющие образовательную деятельность | C35: 40 | D35: 79 | E35: 40.0 | L35: В наличии и функционируют более трех дистанционных способов взаимодействия | N35: 100 | U35: Наличие пяти и более комфортных условий для предоставления услуг | W35: 100 | AA35: Наличие пяти и более условий доступности для инвалидов | AC35: 100 | AD35: Наличие пяти и более условий доступности | AF35: 100
A36: 10 | B36: МУНИЦИПАЛЬНОЕ КАЗЕННОЕ УЧРЕЖДЕНИЕ ДОШКОЛЬНОГО ОБРАЗОВАНИЯ ДЕТЕЙ АХТЫНСКИЙ ДЕТСКИЙ САД "ЮНЫЙ КОСМОНАВТ", 0504006428, организации, осуществляющие образовательную деятельность | C36: 40 | D36: 60 | E36: 40.0 | F36: отсутствует информация о деятельности организации социальной сферы | H36: 0 | I36: Отсутствует информация о деятельности организации социальной сферы на ее официальном сайте | K36: 0 | L36: Отсутствуют или не функционируют дистанционные способы взаимодействия | N36: 0 | O36: Число получателей услуг, удовлетворенных качеством, полнотой и доступностью информации о деятельности организации социальной сферы, размещенной на информационных стендах в помещении организации социальной сферы по отношению к числу опрошенных получателей услуг, ответивших на соответствующий вопрос анкеты | P36: 49 | Q36: 55 | R36: число получателей услуг, удовлетворенных качеством, полнотой и доступностью информации о деятельности организации социальной сферы, размещенной на официальном сайте организации социальной сферы по отношению к числу опрошенных получателей услуг, ответивших на соответствующий вопрос анкеты | S36: 33 | T36: 34 | U36: Отсутствуют комфортные условия | W36: 0 | X36: Число получателей услуг, удовлетворенных комфортностью предоставления услуг организацией социальной сферы, по отношению к числу опрошенных получателей услуг, ответивших на данный вопрос | Y36: 42 | Z36: 60 | AA36: Отсутствуют условия доступности для инвалидов | AC36: 0 | AD36: Отсутствуют условия доступности, позволяющие инвалидам получать услуги наравне с другими | AF36: 0 | AG36: Число получателей услуг-инвалидов, удовлетворенных доступностью услуг для инвалидов, по отношению к числу опрошенных получателей услуг- инвалидов, ответивших на соответствующий вопрос анкеты | AH36: 3 | AI36: 5 | AJ36: Число получателей услуг, удовлетворенных доброжелательностью, вежливостью работников организации социальной сферы, обеспечивающих первичный контакт и информирование получателя услуги, по отношению к числу опрошенныхполучателей услуг, ответивших на соответствующий вопрос анкеты | AK36: 51 | AL36: 60 | AM36: Число получателей услуг, удовлетворенных доброжелательностью, вежливостью работников организации социальной сферы, обеспечивающих непосредственное оказание услуги, по отношению к числу опрошенных получателей услуг, ответивших на соответствующий вопрос анкеты | AN36: 52 | AO36: 60 | AP36: Число получателей услуг, удовлетворенных доброжелательностью, вежливостью работников организации социальной сферы при использовании дистанционных форм взаимодействия, по отношению к числу опрошенных получателей услуг, ответивших на соответствующий вопрос анкеты | AQ36: 27 | AR36: 29 | AS36: Число получателей услуг, которые готовы рекомендовать организацию родственникам и знакомым (могли бы ее рекомендовать, если бы была возможность выбора организации, по отношению к числу опрошенных получателей услуг, ответивших на соответствующий вопрос анкеты | AT36: 50 | AU36: 60 | AV36: Число получателей услуг, удовлетворенных организационными условиями предоставления услуг, по отношению к числу опрошенных получателей услуг ответивших на соответствующий вопрос анкеты | AW36: 43 | AX36: 60 | AY36: Число получателей услуг, удовлетворенных в целом условиями оказания услуг в организации социальной сферы, по отношению к числу опрошенных получателей услуг, ответивших на соответствующий вопрос анкеты | AZ36: 48 | BA36: 60
A37: 10 | B37: МУНИЦИПАЛЬНОЕ КАЗЕННОЕ УЧРЕЖДЕНИЕ ДОШКОЛЬНОГО ОБРАЗОВАНИЯ ДЕТЕЙ АХТЫНСКИЙ ДЕТСКИЙ САД "ЮНЫЙ КОСМОНАВТ", 0504006428, организации, осуществляющие образовательную деятельность | C37: 40 | D37: 60 | E37: 40.0 | F37: объем информации (количество материалов/единиц информации), размещенной на информационных стендах в помещении организации по отношению к количеству материалов, размещение которых установлено нормативными правовыми актами | H37: 100 | I37: Объем информации (количество материалов/единиц информации), размещенной на официальном сайте организации по отношению к количеству материалов, размещение которых установлено нормативными правовыми актами | K37: 100 | L37: Количество функционирующих дистанционных способов взаимодействия (от одного до трех способов включительно) | N37: 30 | U37: Количество комфортных условий для предоставления услуг (от одного до четырех включительно) | W37: 20 | AA37: Количество условий доступности организации для инвалидов (от одного до четырех) | AC37: 20 | AD37: Количество условий доступности, позволяющих инвалидам получать услуги наравне с другими (от одного до четырех) | AF37: 20
A38: 10 | B38: МУНИЦИПАЛЬНОЕ КАЗЕННОЕ УЧРЕЖДЕНИЕ ДОШКОЛЬНОГО ОБРАЗОВАНИЯ ДЕТЕЙ АХТЫНСКИЙ ДЕТСКИЙ САД "ЮНЫЙ КОСМОНАВТ", 0504006428, организации, осуществляющие образовательную деятельность | C38: 40 | D38: 60 | E38: 40.0 | L38: В наличии и функционируют более трех дистанционных способов взаимодействия | N38: 100 | U38: Наличие пяти и более комфортных условий для предоставления услуг | W38: 100 | AA38: Наличие пяти и более условий доступности для инвалидов | AC38: 100 | AD38: Наличие пяти и более условий доступности | AF38: 100
A39: 11 | B39: МУНИЦИПАЛЬНОЕ КАЗЕННОЕ УЧРЕЖДЕНИЕ ДОШКОЛЬНОГО ОБРАЗОВАНИЯ ДЕТЕЙ АХТЫНСКИЙ ДЕТСКИЙ САД "СОЛНЫШКО", 0504006442, организации, осуществляющие образовательную деятельность | C39: 40 | D39: 25 | E39: 40.0 | F39: отсутствует информация о деятельности организации социальной сферы | H39: 0 | I39: Отсутствует информация о деятельности организации социальной сферы на ее официальном сайте | K39: 0 | L39: Отсутствуют или не функционируют дистанционные способы взаимодействия | N39: 0 | O39: Число получателей услуг, удовлетворенных качеством, полнотой и доступностью информации о деятельности организации социальной сферы, размещенной на информационных стендах в помещении организации социальной сферы по отношению к числу опрошенных получателей услуг, ответивших на соответствующий вопрос анкеты | P39: 13 | Q39: 13 | R39: число получателей услуг, удовлетворенных качеством, полнотой и доступностью информации о деятельности организации социальной сферы, размещенной на официальном сайте организации социальной сферы по отношению к числу опрошенных получателей услуг, ответивших на соответствующий вопрос анкеты | S39: 6 | T39: 6 | U39: Отсутствуют комфортные условия | W39: 0 | X39: Число получателей услуг, удовлетворенных комфортностью предоставления услуг организацией социальной сферы, по отношению к числу опрошенных получателей услуг, ответивших на данный вопрос | Y39: 21 | Z39: 25 | AA39: Отсутствуют условия доступности для инвалидов | AC39: 0 | AD39: Отсутствуют условия доступности, позволяющие инвалидам получать услуги наравне с другими | AF39: 0 | AG39: Число получателей услуг-инвалидов, удовлетворенных доступностью услуг для инвалидов, по отношению к числу опрошенных получателей услуг- инвалидов, ответивших на соответствующий вопрос анкеты | AH39: 2 | AI39: 3 | AJ39: Число получателей услуг, удовлетворенных доброжелательностью, вежливостью работников организации социальной сферы, обеспечивающих первичный контакт и информирование получателя услуги, по отношению к числу опрошенныхполучателей услуг, ответивших на соответствующий вопрос анкеты | AK39: 21 | AL39: 25 | AM39: Число получателей услуг, удовлетворенных доброжелательностью, вежливостью работников организации социальной сферы, обеспечивающих непосредственное оказание услуги, по отношению к числу опрошенных получателей услуг, ответивших на соответствующий вопрос анкеты | AN39: 24 | AO39: 25 | AP39: Число получателей услуг, удовлетворенных доброжелательностью, вежливостью работников организации социальной сферы при использовании дистанционных форм взаимодействия, по отношению к числу опрошенных получателей услуг, ответивших на соответствующий вопрос анкеты | AQ39: 5 | AR39: 5 | AS39: Число получателей услуг, которые готовы рекомендовать организацию родственникам и знакомым (могли бы ее рекомендовать, если бы была возможность выбора организации, по отношению к числу опрошенных получателей услуг, ответивших на соответствующий вопрос анкеты | AT39: 20 | AU39: 25 | AV39: Число получателей услуг, удовлетворенных организационными условиями предоставления услуг, по отношению к числу опрошенных получателей услуг ответивших на соответствующий вопрос анкеты | AW39: 22 | AX39: 25 | AY39: Число получателей услуг, удовлетворенных в целом условиями оказания услуг в организации социальной сферы, по отношению к числу опрошенных получателей услуг, ответивших на соответствующий вопрос анкеты | AZ39: 21 | BA39: 25
A40: 11 | B40: МУНИЦИПАЛЬНОЕ КАЗЕННОЕ УЧРЕЖДЕНИЕ ДОШКОЛЬНОГО ОБРАЗОВАНИЯ ДЕТЕЙ АХТЫНСКИЙ ДЕТСКИЙ САД "СОЛНЫШКО", 0504006442, организации, осуществляющие образовательную деятельность | C40: 40 | D40: 25 | E40: 40.0 | F40: объем информации (количество материалов/единиц информации), размещенной на информационных стендах в помещении организации по отношению к количеству материалов, размещение которых установлено нормативными правовыми актами | H40: 100 | I40: Объем информации (количество материалов/единиц информации), размещенной на официальном сайте организации по отношению к количеству материалов, размещение которых установлено нормативными правовыми актами | K40: 100 | L40: Количество функционирующих дистанционных способов взаимодействия (от одного до трех способов включительно) | N40: 30 | U40: Количество комфортных условий для предоставления услуг (от одного до четырех включительно) | W40: 20 | AA40: Количество условий доступности организации для инвалидов (от одного до четырех) | AC40: 20 | AD40: Количество условий доступности, позволяющих инвалидам получать услуги наравне с другими (от одного до четырех) | AF40: 20
A41: 11 | B41: МУНИЦИПАЛЬНОЕ КАЗЕННОЕ УЧРЕЖДЕНИЕ ДОШКОЛЬНОГО ОБРАЗОВАНИЯ ДЕТЕЙ АХТЫНСКИЙ ДЕТСКИЙ САД "СОЛНЫШКО", 0504006442, организации, осуществляющие образовательную деятельность | C41: 40 | D41: 25 | E41: 40.0 | L41: В наличии и функционируют более трех дистанционных способов взаимодействия | N41: 100 | U41: Наличие пяти и более комфортных условий для предоставления услуг | W41: 100 | AA41: Наличие пяти и более условий доступности для инвалидов | AC41: 100 | AD41: Наличие пяти и более условий доступности | AF41: 100
A42: 12 | B42: МУНИЦИПАЛЬНОЕ КАЗЕННОЕ УЧРЕЖДЕНИЕ ДОШКОЛЬНОГО ОБРАЗОВАНИЯ ДЕТЕЙ АХТЫНСКИЙ ДЕТСКИЙ САД "РАССВЕТ", 0504006410, организации, осуществляющие образовательную деятельность | C42: 40 | D42: 123 | E42: 40.0 | F42: отсутствует информация о деятельности организации социальной сферы | H42: 0 | I42: Отсутствует информация о деятельности организации социальной сферы на ее официальном сайте | K42: 0 | L42: Отсутствуют или не функционируют дистанционные способы взаимодействия | N42: 0 | O42: Число получателей услуг, удовлетворенных качеством, полнотой и доступностью информации о деятельности организации социальной сферы, размещенной на информационных стендах в помещении организации социальной сферы по отношению к числу опрошенных получателей услуг, ответивших на соответствующий вопрос анкеты | P42: 104 | Q42: 106 | R42: число получателей услуг, удовлетворенных качеством, полнотой и доступностью информации о деятельности организации социальной сферы, размещенной на официальном сайте организации социальной сферы по отношению к числу опрошенных получателей услуг, ответивших на соответствующий вопрос анкеты | S42: 93 | T42: 95 | U42: Отсутствуют комфортные условия | W42: 0 | X42: Число получателей услуг, удовлетворенных комфортностью предоставления услуг организацией социальной сферы, по отношению к числу опрошенных получателей услуг, ответивших на данный вопрос | Y42: 106 | Z42: 123 | AA42: Отсутствуют условия доступности для инвалидов | AC42: 0 | AD42: Отсутствуют условия доступности, позволяющие инвалидам получать услуги наравне с другими | AF42: 0 | AG42: Число получателей услуг-инвалидов, удовлетворенных доступностью услуг для инвалидов, по отношению к числу опрошенных получателей услуг- инвалидов, ответивших на соответствующий вопрос анкеты | AH42: 6 | AI42: 12 | AJ42: Число получателей услуг, удовлетворенных доброжелательностью, вежливостью работников организации социальной сферы, обеспечивающих первичный контакт и информирование получателя услуги, по отношению к числу опрошенныхполучателей услуг, ответивших на соответствующий вопрос анкеты | AK42: 122 | AL42: 123 | AM42: Число получателей услуг, удовлетворенных доброжелательностью, вежливостью работников организации социальной сферы, обеспечивающих непосредственное оказание услуги, по отношению к числу опрошенных получателей услуг, ответивших на соответствующий вопрос анкеты | AN42: 122 | AO42: 123 | AP42: Число получателей услуг, удовлетворенных доброжелательностью, вежливостью работников организации социальной сферы при использовании дистанционных форм взаимодействия, по отношению к числу опрошенных получателей услуг, ответивших на соответствующий вопрос анкеты | AQ42: 100 | AR42: 101 | AS42: Число получателей услуг, которые готовы рекомендовать организацию родственникам и знакомым (могли бы ее рекомендовать, если бы была возможность выбора организации, по отношению к числу опрошенных получателей услуг, ответивших на соответствующий вопрос анкеты | AT42: 123 | AU42: 123 | AV42: Число получателей услуг, удовлетворенных организационными условиями предоставления услуг, по отношению к числу опрошенных получателей услуг ответивших на соответствующий вопрос анкеты | AW42: 122 | AX42: 123 | AY42: Число получателей услуг, удовлетворенных в целом условиями оказания услуг в организации социальной сферы, по отношению к числу опрошенных получателей услуг, ответивших на соответствующий вопрос анкеты | AZ42: 121 | BA42: 123
A43: 12 | B43: МУНИЦИПАЛЬНОЕ КАЗЕННОЕ УЧРЕЖДЕНИЕ ДОШКОЛЬНОГО ОБРАЗОВАНИЯ ДЕТЕЙ АХТЫНСКИЙ ДЕТСКИЙ САД "РАССВЕТ", 0504006410, организации, осуществляющие образовательную деятельность | C43: 40 | D43: 123 | E43: 40.0 | F43: объем информации (количество материалов/единиц информации), размещенной на информационных стендах в помещении организации по отношению к количеству материалов, размещение которых установлено нормативными правовыми актами | H43: 100 | I43: Объем информации (количество материалов/единиц информации), размещенной на официальном сайте организации по отношению к количеству материалов, размещение которых установлено нормативными правовыми актами | K43: 100 | L43: Количество функционирующих дистанционных способов взаимодействия (от одного до трех способов включительно) | N43: 30 | U43: Количество комфортных условий для предоставления услуг (от одного до четырех включительно) | W43: 20 | AA43: Количество условий доступности организации для инвалидов (от одного до четырех) | AC43: 20 | AD43: Количество условий доступности, позволяющих инвалидам получать услуги наравне с другими (от одного до четырех) | AF43: 20
A44: 12 | B44: МУНИЦИПАЛЬНОЕ КАЗЕННОЕ УЧРЕЖДЕНИЕ ДОШКОЛЬНОГО ОБРАЗОВАНИЯ ДЕТЕЙ АХТЫНСКИЙ ДЕТСКИЙ САД "РАССВЕТ", 0504006410, организации, осуществляющие образовательную деятельность | C44: 40 | D44: 123 | E44: 40.0 | L44: В наличии и функционируют более трех дистанционных способов взаимодействия | N44: 100 | U44: Наличие пяти и более комфортных условий для предоставления услуг | W44: 100 | AA44: Наличие пяти и более условий доступности для инвалидов | AC44: 100 | AD44: Наличие пяти и более условий доступности | AF44: 100
A45: 13 | B45: МУНИЦИПАЛЬНОЕ КАЗЕННОЕ УЧРЕЖДЕНИЕ ДОПОЛНИТЕЛЬНОГО ОБРАЗОВАНИЯ "ДЕТСКАЯ МУЗЫКАЛЬНАЯ ШКОЛА" ИМ.РАГИМАТ ГАДЖИЕВОЙ, 0504007020, организации, осуществляющие образовательную деятельность | C45: 40 | D45: 14 | E45: 40.0 | F45: отсутствует информация о деятельности организации социальной сферы | H45: 0 | I45: Отсутствует информация о деятельности организации социальной сферы на ее официальном сайте | K45: 0 | L45: Отсутствуют или не функционируют дистанционные способы взаимодействия | N45: 0 | O45: Число получателей услуг, удовлетворенных качеством, полнотой и доступностью информации о деятельности организации социальной сферы, размещенной на информационных стендах в помещении организации социальной сферы по отношению к числу опрошенных получателей услуг, ответивших на соответствующий вопрос анкеты | P45: 10 | Q45: 13 | R45: число получателей услуг, удовлетворенных качеством, полнотой и доступностью информации о деятельности организации социальной сферы, размещенной на официальном сайте организации социальной сферы по отношению к числу опрошенных получателей услуг, ответивших на соответствующий вопрос анкеты | S45: 8 | T45: 10 | U45: Отсутствуют комфортные условия | W45: 0 | X45: Число получателей услуг, удовлетворенных комфортностью предоставления услуг организацией социальной сферы, по отношению к числу опрошенных получателей услуг, ответивших на данный вопрос | Y45: 11 | Z45: 14 | AA45: Отсутствуют условия доступности для инвалидов | AC45: 0 | AD45: Отсутствуют условия доступности, позволяющие инвалидам получать услуги наравне с другими | AF45: 0 | AG45: Число получателей услуг-инвалидов, удовлетворенных доступностью услуг для инвалидов, по отношению к числу опрошенных получателей услуг- инвалидов, ответивших на соответствующий вопрос анкеты | AH45: 4 | AI45: 4 | AJ45: Число получателей услуг, удовлетворенных доброжелательностью, вежливостью работников организации социальной сферы, обеспечивающих первичный контакт и информирование получателя услуги, по отношению к числу опрошенныхполучателей услуг, ответивших на соответствующий вопрос анкеты | AK45: 12 | AL45: 14 | AM45: Число получателей услуг, удовлетворенных доброжелательностью, вежливостью работников организации социальной сферы, обеспечивающих непосредственное оказание услуги, по отношению к числу опрошенных получателей услуг, ответивших на соответствующий вопрос анкеты | AN45: 12 | AO45: 14 | AP45: Число получателей услуг, удовлетворенных доброжелательностью, вежливостью работников организации социальной сферы при использовании дистанционных форм взаимодействия, по отношению к числу опрошенных получателей услуг, ответивших на соответствующий вопрос анкеты | AQ45: 10 | AR45: 12 | AS45: Число получателей услуг, которые готовы рекомендовать организацию родственникам и знакомым (могли бы ее рекомендовать, если бы была возможность выбора организации, по отношению к числу опрошенных получателей услуг, ответивших на соответствующий вопрос анкеты | AT45: 12 | AU45: 14 | AV45: Число получателей услуг, удовлетворенных организационными условиями предоставления услуг, по отношению к числу опрошенных получателей услуг ответивших на соответствующий вопрос анкеты | AW45: 12 | AX45: 14 | AY45: Число получателей услуг, удовлетворенных в целом условиями оказания услуг в организации социальной сферы, по отношению к числу опрошенных получателей услуг, ответивших на соответствующий вопрос анкеты | AZ45: 14 | BA45: 14
A46: 13 | B46: МУНИЦИПАЛЬНОЕ КАЗЕННОЕ УЧРЕЖДЕНИЕ ДОПОЛНИТЕЛЬНОГО ОБРАЗОВАНИЯ "ДЕТСКАЯ МУЗЫКАЛЬНАЯ ШКОЛА" ИМ.РАГИМАТ ГАДЖИЕВОЙ, 0504007020, организации, осуществляющие образовательную деятельность | C46: 40 | D46: 14 | E46: 40.0 | F46: объем информации (количество материалов/единиц информации), размещенной на информационных стендах в помещении организации по отношению к количеству материалов, размещение которых установлено нормативными правовыми актами | H46: 100 | I46: Объем информации (количество материалов/единиц информации), размещенной на официальном сайте организации по отношению к количеству материалов, размещение которых установлено нормативными правовыми актами | K46: 100 | L46: Количество функционирующих дистанционных способов взаимодействия (от одного до трех способов включительно) | N46: 30 | U46: Количество комфортных условий для предоставления услуг (от одного до четырех включительно) | W46: 20 | AA46: Количество условий доступности организации для инвалидов (от одного до четырех) | AC46: 20 | AD46: Количество условий доступности, позволяющих инвалидам получать услуги наравне с другими (от одного до четырех) | AF46: 20
A47: 13 | B47: МУНИЦИПАЛЬНОЕ КАЗЕННОЕ УЧРЕЖДЕНИЕ ДОПОЛНИТЕЛЬНОГО ОБРАЗОВАНИЯ "ДЕТСКАЯ МУЗЫКАЛЬНАЯ ШКОЛА" ИМ.РАГИМАТ ГАДЖИЕВОЙ, 0504007020, организации, осуществляющие образовательную деятельность | C47: 40 | D47: 14 | E47: 40.0 | L47: В наличии и функционируют более трех дистанционных способов взаимодействия | N47: 100 | U47: Наличие пяти и более комфортных условий для предоставления услуг | W47: 100 | AA47: Наличие пяти и более условий доступности для инвалидов | AC47: 100 | AD47: Наличие пяти и более условий доступности | AF47: 100
