Workbook

Sheet Сведения о независимой оценке
A1: Количественные результаты независимой оценки качества оказания услуг организациями
A2: Шаблон сформирован 02.12.2020 13:41
A3: Публично-правовое образование | C3: 82606000 - Ахтынский муниципальный район
A4: Сфера деятельности | C4: 2 - Образование
A5: Период проведения независимой оценки | C5: 2020 год
A6: Основание для определения перечня показателей | C6: Единый порядок расчета (Приказ Минтруда № 344н от 31.05.2018 г.)
A8: Пожалуйста, введите значения выполнения индикаторов
A9: № п.п. | B9: Организация | C9: Численность получателей услуг организации | D9: Количество респондентов | E9: Доля респондентов | F9: Общие критерии оценки
F10: 1 - критерий открытости и доступности информации об организации | U10: 2 - критерий комфортности условий предоставления услуги, в том числе время ожидания ее предоставления | AA10: 3 - критерий доступности услуг для инвалидов | AJ10: 4 - критерий доброжелательности, вежливости работников организации | AS10: 5 - критерий удовлетворенности условиями оказания услуг
F11: Показатели | U11: Показатели | AA11: Показатели | AJ11: Показатели | AS11: Показатели
F12: 1.1 Соответствие информации о деятельности организации социальной сферы, размещенной на общедоступных информационных ресурсах, ее содержанию и порядку (форме), установленным законодательными и иными нормативными правовыми актами Российской Федерации | L12: 1.2 Наличие на официальном сайте организации социальной сферы информации о дистанционных способах обратной связи и взаимодействия с получателями услуг и их функционирование | O12: 1.3 Доля получателей услуг, удовлетворенных открытостью, полнотой и доступностью информации о деятельности организации социальной сферы | U12: 2.1 Обеспечение в организации социальной сферы комфортных условий предоставления услуг | X12: 2.3 Доля получателей услуг удовлетворенных комфортностью предоставления услуг организацией социальной сферы | AA12: 3.1 Оборудование помещений организации социальной сферы и прилегающей к ней территории с учетом доступности для инвалидов | AD12: 3.2 Обеспечение в организации социальной сферы условий доступности, позволяющих инвалидам получать услуги наравне с другими | AG12: 3.3 Доля получателей услуг, удовлетворенных доступностью услуг для инвалидов | AJ12: 4.1 Доля получателей услуг, удовлетворенных доброжелательностью, вежливостью работников организации социальной сферы, обеспечивающих первичный контакт и информирование получателя услуги при непосредственном обращении в организацию социальной сферы | AM12: 4.2 Доля получателей услуг, удовлетворенных доброжелательностью, вежливостью работников организации социальной сферы, обеспечивающих непосредственное оказание услуги при обращении в организацию социальной сферы | AP12: 4.3 Доля получателей услуг, удовлетворенных доброжелательностью, вежливостью работников организации социальной сферы при использовании дистанционных форм взаимодействия | AS12: 5.1 Доля получателей услуг, которые готовы рекомендовать организацию социальной сферы родственникам и знакомым (могли бы ее рекомендовать, если бы была возможность выбора организации социальной сферы) | AV12: 5.2 Доля получателей услуг, удовлетворенных организационными условиями предоставления услуг | AY12: 5.3 Доля получателей услуг, удовлетворенных в целом условиями оказания услуг в организации социальной сферы
F13: 1.1.1 - Соответствие информации о деятельности организации социальной сферы, размещенной на информационных стендах в помещении организации социальной сферы, ее содержанию и порядку (форме), установленным нормативными правовыми актами. | I13: 1.1.2 - Соответствие информации о деятельности организации социальной сферы, размещенной на официальном сайте организации социальной сферы, ее содержанию и порядку (форме), установленным нормативными правовыми актами. | L13: 1.2.1 - Наличие и функционирование на официальном сайте организации информации о дистанционных способах взаимодействия с получателями услуг: телефона; электронной почты; электронных сервисов (форма для подачи электронного обращения (жалобы, предложения), получение консультации по оказываемым услугам и пр.); раздела «Часто задаваемые вопросы»; технической возможности выражения получателем услуг мнения о качестве условий оказания услуг организацией социальной сферы (наличие анкеты для опроса граждан или гиперссылки на нее); иного дистанционного способа взаимодействия. | O13: 1.3.1 - Удовлетворенность качеством, полнотой и доступностью информации о деятельности организации социальной сферы, размещенной на информационных стендах в помещении организации социальной сферы. | R13: 1.3.2 - Удовлетворенность качеством, полнотой и доступностью информации о деятельности организации социальной сферы, размещенной на официальном сайте организации социальной сферы в сети «Интернет». | U13: 2.1.1 - Наличие комфортных условий для предоставления услуг, например: наличие комфортной зоны отдыха (ожидания), оборудованной соответствующей мебелью; наличие и понятность навигации внутри организации социальной сферы; наличие и доступность питьевой воды; наличие и доступность санитарно-гигиенических помещений; санитарное состояние помещений организации социальной сферы; транспортная доступность (возможность доехать до организации социальной сферы на общественном транспорте, наличие парковки); доступность записи на получение услуги (по телефону, на официальном сайте организации социальной сферы в сети Интернет, посредством Единого портала государственных и муниципальных услуг, при личном посещении в регистратуре или у специалиста организации социальной сферы и пр.); иные параметры комфортных условий, установленные ведомственным актом уполномоченного федерального органа исполнительной власти. | X13: 2.3.1 - Удовлетворенность комфортностью предоставления услуг организацией социальной сферы. | AA13: 3.1.1 - Наличие в помещениях организации социальной сферы и на прилегающей к ней территории: оборудованных входных групп пандусами (подъемными платформами); выделенных стоянок для автотранспортных средств инвалидов; адаптированных лифтов, поручней, расширенных дверных проемов; сменных кресел-колясок; специально оборудованных санитарно-гигиенических помещений в организации социальной сферы. | AD13: 3.2.1 - Наличие в организации социальной сферы условий доступности, позволяющих инвалидам получать услуги наравне с другими: дублирование для инвалидов по слуху и зрению звуковой и зрительной информации; дублирование надписей, знаков и иной текстовой и графической информации знаками, выполненными рельефно-точечным шрифтом Брайля; возможность предоставления инвалидам по слуху (слуху и зрению) услуг сурдопереводчика (тифлосурдопереводчика); наличие альтернативной версии официального сайта организации социальной сферы в сети Интернет для инвалидов по зрению; помощь, оказываемая работниками организации социальной сферы, прошедшими необходимое обучение (инструктирование) по сопровождению инвалидов в помещениях организации социальной сферы и на прилегающей территории; наличие возможности предоставления услуги в дистанционном режиме или на дому. | AG13: 3.3.1 - Удовлетворенность доступностью услуг для инвалидов. | AJ13: 4.1.1 - Удовлетворенность доброжелательностью, вежливостью работников организации социальной сферы, обеспечивающих первичный контакт и информирование получателя услуги (работники справочной, приемного отделения, регистратуры, кассы и прочие работники) при непосредственном обращении в организацию социальной сферы. | AM13: 4.2.1 - Удовлетворенность доброжелательностью, вежливостью работников организации социальной сферы, обеспечивающих непосредственное оказание услуги (врачи, социальные работники, работники, осуществляющие экспертно-реабилитационную диагностику, преподаватели, тренеры, инструкторы, библиотекари, экскурсоводы и прочие работники) при обращении в организацию социальной сферы. | AP13: 4.3.1 - Удовлетворенность доброжелательностью, вежливостью работников организации социальной сферы при использовании дистанционных форм взаимодействия (по телефону, по электронной почте, с помощью электронных сервисов (подачи электронного обращения (жалобы, предложения), получения консультации по оказываемым услугам и пр.). | AS13: 5.1.1 - Готовность получателей услуг рекомендовать организацию социальной сферы родственникам и знакомым. | AV13: 5.2.1 - Удовлетворенность получателей услуг организационными условиями оказания услуг, например: наличием и понятностью навигации внутри организации социальной сферы; графиком работы организации социальной сферы (подразделения, отдельных специалистов, графиком прихода социального работника на дом и пр.). | AY13: 5.3.1 - Удовлетворенность получателей услуг в целом условиями оказания услуг в организации социальной сферы.
F14: Наименование индикатора | G14: Выполнение индикатора | I14: Наименование индикатора | J14: Выполнение индикатора | L14: Наименование индикатора | M14: Выполнение индикатора | O14: Наименование индикатора | P14: Выполнение индикатора | R14: Наименование индикатора | S14: Выполнение индикатора | U14: Наименование индикатора | V14: Выполнение индикатора | X14: Наименование индикатора | Y14: Выполнение индикатора | AA14: Наименование индикатора | AB14: Выполнение индикатора | AD14: Наименование индикатора | AE14: Выполнение индикатора | AG14: Наименование индикатора | AH14: Выполнение индикатора | AJ14: Наименование индикатора | AK14: Выполнение индикатора | AM14: Наименование индикатора | AN14: Выполнение индикатора | AP14: Наименование индикатора | AQ14: Выполнение индикатора | AS14: Наименование индикатора | AT14: Выполнение индикатора | AV14: Наименование индикатора | AW14: Выполнение индикатора | AY14: Наименование индикатора | AZ14: Выполнение индикатора
A15: 1 | B15: МУНИЦИПАЛЬНОЕ КАЗЕННОЕ ОБЩЕОБРАЗОВАТЕЛЬНОЕ УЧРЕЖДЕНИЕ "ФИЙСКАЯ СРЕДНЯЯ ОБЩЕОБРАЗОВАТЕЛЬНАЯ ШКОЛА", 0504006227, организации, осуществляющие образовательную деятельность | C15: 40 | D15: 16 | E15: 40.0 | F15: объем информации (количество материалов/единиц информации), размещенной на информационных стендах в помещении организации по отношению к количеству материалов, размещение которых установлено нормативными правовыми актами | G15: 6 | H15: =INDEX(Индикаторы!H15:H16,MATCH('Сведения о независимой оценке'!F15,Индикаторы!F15:F16,0)) -> 13 | I15: Объем информации (количество материалов/единиц информации), размещенной на официальном сайте организации по отношению к количеству материалов, размещение которых установлено нормативными правовыми актами | J15: 20 | K15: =INDEX(Индикаторы!K15:K16,MATCH('Сведения о независимой оценке'!I15,Индикаторы!I15:I16,0)) -> 38 | L15: Количество функционирующих дистанционных способов взаимодействия (от одного до трех способов включительно) | M15: 2 | N15: =INDEX(Индикаторы!N15:N17,MATCH('Сведения о независимой оценке'!L15,Индикаторы!L15:L17,0)) -> 30 | O15: Число получателей услуг, удовлетворенных качеством, полнотой и доступностью информации о деятельности организации социальной сферы, размещенной на информационных стендах в помещении организации социальной сферы по отношению к числу опрошенных получателей услуг, ответивших на соответствующий вопрос анкеты | P15: 14 | Q15: 14 | R15: число получателей услуг, удовлетворенных качеством, полнотой и доступностью информации о деятельности организации социальной сферы, размещенной на официальном сайте организации социальной сферы по отношению к числу опрошенных получателей услуг, ответивших на соответствующий вопрос анкеты | S15: 15 | T15: 16 | U15: Количество комфортных условий для предоставления услуг (от одного до четырех включительно) | V15: 3 | W15: =INDEX(Индикаторы!W15:W17,MATCH('Сведения о независимой оценке'!U15,Индикаторы!U15:U17,0)) -> 20 | X15: Число получателей услуг, удовлетворенных комфортностью предоставления услуг организацией социальной сферы, по отношению к числу опрошенных получателей услуг, ответивших на данный вопрос | Y15: 15 | Z15: 16 | AA15: Отсутствуют условия доступности для инвалидов | AC15: =INDEX(Индикаторы!AC15:AC17,MATCH('Сведения о независимой оценке'!AA15,Индикаторы!AA15:AA17,0)) -> 0 | AD15: Количество условий доступности, позволяющих инвалидам получать услуги наравне с другими (от одного до четырех) | AE15: 1 | AF15: =INDEX(Индикаторы!AF15:AF17,MATCH('Сведения о независимой оценке'!AD15,Индикаторы!AD15:AD17,0)) -> 20 | AG15: Число получателей услуг-инвалидов, удовлетворенных доступностью услуг для инвалидов, по отношению к числу опрошенных получателей услуг- инвалидов, ответивших на соответствующий вопрос анкеты | AH15: 2 | AI15: 3 | AJ15: Число получателей услуг, удовлетворенных доброжелательностью, вежливостью работников организации социальной сферы, обеспечивающих первичный контакт и информирование получателя услуги, по отношению к числу опрошенныхполучателей услуг, ответивших на соответствующий вопрос анкеты | AK15: 15 | AL15: 16 | AM15: Число получателей услуг, удовлетворенных доброжелательностью, вежливостью работников организации социальной сферы, обеспечивающих непосредственное оказание услуги, по отношению к числу опрошенных получателей услуг, ответивших на соответствующий вопрос анкеты | AN15: 15 | AO15: 16 | AP15: Число получателей услуг, удовлетворенных доброжелательностью, вежливостью работников организации социальной сферы при использовании дистанционных форм взаимодействия, по отношению к числу опрошенных получателей услуг, ответивших на соответствующий вопрос анкеты | AQ15: 13 | AR15: 14 | AS15: Число получателей услуг, которые готовы рекомендовать организацию родственникам и знакомым (могли бы ее рекомендовать, если бы была возможность выбора организации, по отношению к числу опрошенных получателей услуг, ответивших на соответствующий вопрос анкеты | AT15: 15 | AU15: 16 | AV15: Число получателей услуг, удовлетворенных организационными условиями предоставления услуг, по отношению к числу опрошенных получателей услуг ответивших на соответствующий вопрос анкеты | AW15: 15 | AX15: 16 | AY15: Число получателей услуг, удовлетворенных в целом условиями оказания услуг в организации социальной сферы, по отношению к числу опрошенных получателей услуг, ответивших на соответствующий вопрос анкеты | AZ15: 15 | BA15: 16
A16: 2 | B16: МУНИЦИПАЛЬНОЕ КАЗЕННОЕ ОБЩЕОБРАЗОВАТЕЛЬНОЕ УЧРЕЖДЕНИЕ "ДЖАБИНСКАЯ СРЕДНЯЯ ОБЩЕОБРАЗОВАТЕЛЬНАЯ ШКОЛА ИМ.М.Д.КУРБАНОВА", 0504005569, организации, осуществляющие образовательную деятельность | C16: 40 | D16: 16 | E16: 40.0 | F16: отсутствует информация о деятельности организации социальной сферы | H16: =INDEX(Индикаторы!H18:H19,MATCH('Сведения о независимой оценке'!F16,Индикаторы!F18:F19,0)) -> 0 | I16: Отсутствует информация о деятельности организации социальной сферы на ее официальном сайте | K16: =INDEX(Индикаторы!K18:K19,MATCH('Сведения о независимой оценке'!I16,Индикаторы!I18:I19,0)) -> 0 | L16: Отсутствуют или не функционируют дистанционные способы взаимодействия | N16: =INDEX(Индикаторы!N18:N20,MATCH('Сведения о независимой оценке'!L16,Индикаторы!L18:L20,0)) -> 0 | O16: Число получателей услуг, удовлетворенных качеством, полнотой и доступностью информации о деятельности организации социальной сферы, размещенной на информационных стендах в помещении организации социальной сферы по отношению к числу опрошенных получателей услуг, ответивших на соответствующий вопрос анкеты | P16: 15 | Q16: 15 | R16: число получателей услуг, удовлетворенных качеством, полнотой и доступностью информации о деятельности организации социальной сферы, размещенной на официальном сайте организации социальной сферы по отношению к числу опрошенных получателей услуг, ответивших на соответствующий вопрос анкеты | S16: 15 | T16: 15 | U16: Отсутствуют комфортные условия | W16: =INDEX(Индикаторы!W18:W20,MATCH('Сведения о независимой оценке'!U16,Индикаторы!U18:U20,0)) -> 0 | X16: Число получателей услуг, удовлетворенных комфортностью предоставления услуг организацией социальной сферы, по отношению к числу опрошенных получателей услуг, ответивших на данный вопрос | Y16: 16 | Z16: 16 | AA16: Отсутствуют условия доступности для инвалидов | AC16: =INDEX(Индикаторы!AC18:AC20,MATCH('Сведения о независимой оценке'!AA16,Индикаторы!AA18:AA20,0)) -> 0 | AD16: Отсутствуют условия доступности, позволяющие инвалидам получать услуги наравне с другими | AF16: =INDEX(Индикаторы!AF18:AF20,MATCH('Сведения о независимой оценке'!AD16,Индикаторы!AD18:AD20,0)) -> 0 | AG16: Число получателей услуг-инвалидов, удовлетворенных доступностью услуг для инвалидов, по отношению к числу опрошенных получателей услуг- инвалидов, ответивших на соответствующий вопрос анкеты | AH16: 2 | AI16: 2 | AJ16: Число получателей услуг, удовлетворенных доброжелательностью, вежливостью работников организации социальной сферы, обеспечивающих первичный контакт и информирование получателя услуги, по отношению к числу опрошенныхполучателей услуг, ответивших на соответствующий вопрос анкеты | AK16: 16 | AL16: 16 | AM16: Число получателей услуг, удовлетворенных доброжелательностью, вежливостью работников организации социальной сферы, обеспечивающих непосредственное оказание услуги, по отношению к числу опрошенных получателей услуг, ответивших на соответствующий вопрос анкеты | AN16: 16 | AO16: 16 | AP16: Число получателей услуг, удовлетворенных доброжелательностью, вежливостью работников организации социальной сферы при использовании дистанционных форм взаимодействия, по отношению к числу опрошенных получателей услуг, ответивших на соответствующий вопрос анкеты | AQ16: 16 | AR16: 16 | AS16: Число получателей услуг, которые готовы рекомендовать организацию родственникам и знакомым (могли бы ее рекомендовать, если бы была возможность выбора организации, по отношению к числу опрошенных получателей услуг, ответивших на соответствующий вопрос анкеты | AT16: 16 | AU16: 16 | AV16: Число получателей услуг, удовлетворенных организационными условиями предоставления услуг, по отношению к числу опрошенных получателей услуг ответивших на соответствующий вопрос анкеты | AW16: 16 | AX16: 16 | AY16: Число получателей услуг, удовлетворенных в целом условиями оказания услуг в организации социальной сферы, по отношению к числу опрошенных получателей услуг, ответивших на соответствующий вопрос анкеты | AZ16: 16 | BA16: 16
A17: 3 | B17: МУНИЦИПАЛЬНОЕ КАЗЕННОЕ ОБЩЕОБРАЗОВАТЕЛЬНОЕ УЧРЕЖДЕНИЕ "ГОГАЗСКАЯ СРЕДНЯЯ ОБЩЕОБРАЗОВАТЕЛЬНАЯ ШКОЛА", 0504006474, организации, осуществляющие образовательную деятельность | C17: 40 | D17: 18 | E17: 40.0 | F17: отсутствует информация о деятельности организации социальной сферы | H17: =INDEX(Индикаторы!H21:H22,MATCH('Сведения о независимой оценке'!F17,Индикаторы!F21:F22,0)) -> 0 | I17: Отсутствует информация о деятельности организации социальной сферы на ее официальном сайте | K17: =INDEX(Индикаторы!K21:K22,MATCH('Сведения о независимой оценке'!I17,Индикаторы!I21:I22,0)) -> 0 | L17: Отсутствуют или не функционируют дистанционные способы взаимодействия | N17: =INDEX(Индикаторы!N21:N23,MATCH('Сведения о независимой оценке'!L17,Индикаторы!L21:L23,0)) -> 0 | O17: Число получателей услуг, удовлетворенных качеством, полнотой и доступностью информации о деятельности организации социальной сферы, размещенной на информационных стендах в помещении организации социальной сферы по отношению к числу опрошенных получателей услуг, ответивших на соответствующий вопрос анкеты | P17: 18 | Q17: 18 | R17: число получателей услуг, удовлетворенных качеством, полнотой и доступностью информации о деятельности организации социальной сферы, размещенной на официальном сайте организации социальной сферы по отношению к числу опрошенных получателей услуг, ответивших на соответствующий вопрос анкеты | S17: 18 | T17: 18 | U17: Отсутствуют комфортные условия | W17: =INDEX(Индикаторы!W21:W23,MATCH('Сведения о независимой оценке'!U17,Индикаторы!U21:U23,0)) -> 0 | X17: Число получателей услуг, удовлетворенных комфортностью предоставления услуг организацией социальной сферы, по отношению к числу опрошенных получателей услуг, ответивших на данный вопрос | Y17: 15 | Z17: 18 | AA17: Отсутствуют условия доступности для инвалидов | AC17: =INDEX(Индикаторы!AC21:AC23,MATCH('Сведения о независимой оценке'!AA17,Индикаторы!AA21:AA23,0)) -> 0 | AD17: Отсутствуют условия доступности, позволяющие инвалидам получать услуги наравне с другими | AF17: =INDEX(Индикаторы!AF21:AF23,MATCH('Сведения о независимой оценке'!AD17,Индикаторы!AD21:AD23,0)) -> 0 | AG17: Число получателей услуг-инвалидов, удовлетворенных доступностью услуг для инвалидов, по отношению к числу опрошенных получателей услуг- инвалидов, ответивших на соответствующий вопрос анкеты | AH17: 4 | AI17: 5 | AJ17: Число получателей услуг, удовлетворенных доброжелательностью, вежливостью работников организации социальной сферы, обеспечивающих первичный контакт и информирование получателя услуги, по отношению к числу опрошенныхполучателей услуг, ответивших на соответствующий вопрос анкеты | AK17: 18 | AL17: 18 | AM17: Число получателей услуг, удовлетворенных доброжелательностью, вежливостью работников организации социальной сферы, обеспечивающих непосредственное оказание услуги, по отношению к числу опрошенных получателей услуг, ответивших на соответствующий вопрос анкеты | AN17: 18 | AO17: 18 | AP17: Число получателей услуг, удовлетворенных доброжелательностью, вежливостью работников организации социальной сферы при использовании дистанционных форм взаимодействия, по отношению к числу опрошенных получателей услуг, ответивших на соответствующий вопрос анкеты | AQ17: 18 | AR17: 18 | AS17: Число получателей услуг, которые готовы рекомендовать организацию родственникам и знакомым (могли бы ее рекомендовать, если бы была возможность выбора организации, по отношению к числу опрошенных получателей услуг, ответивших на соответствующий вопрос анкеты | AT17: 17 | AU17: 18 | AV17: Число получателей услуг, удовлетворенных организационными условиями предоставления услуг, по отношению к числу опрошенных получателей услуг ответивших на соответствующий вопрос анкеты | AW17: 16 | AX17: 18 | AY17: Число получателей услуг, удовлетворенных в целом условиями оказания услуг в организации социальной сферы, по отношению к числу опрошенных получателей услуг, ответивших на соответствующий вопрос анкеты | AZ17: 16 | BA17: 18
A18: 4 | B18: МУНИЦИПАЛЬНОЕ КАЗЕННОЕ ОБЩЕОБРАЗОВАТЕЛЬНОЕ УЧРЕЖДЕНИЕ "АХТЫНСКАЯ ОСНОВНАЯ ОБЩЕОБРАЗОВАТЕЛЬНАЯ ШКОЛА", 0504006379, организации, осуществляющие образовательную деятельность | C18: 40 | D18: 49 | E18: 40.0 | F18: отсутствует информация о деятельности организации социальной сферы | H18: =INDEX(Индикаторы!H24:H25,MATCH('Сведения о независимой оценке'!F18,Индикаторы!F24:F25,0)) -> 0 | I18: Отсутствует информация о деятельности организации социальной сферы на ее официальном сайте | K18: =INDEX(Индикаторы!K24:K25,MATCH('Сведения о независимой оценке'!I18,Индикаторы!I24:I25,0)) -> 0 | L18: Отсутствуют или не функционируют дистанционные способы взаимодействия | N18: =INDEX(Индикаторы!N24:N26,MATCH('Сведения о независимой оценке'!L18,Индикаторы!L24:L26,0)) -> 0 | O18: Число получателей услуг, удовлетворенных качеством, полнотой и доступностью информации о деятельности организации социальной сферы, размещенной на информационных стендах в помещении организации социальной сферы по отношению к числу опрошенных получателей услуг, ответивших на соответствующий вопрос анкеты | P18: 14 | Q18: 16 | R18: число получателей услуг, удовлетворенных качеством, полнотой и доступностью информации о деятельности организации социальной сферы, размещенной на официальном сайте организации социальной сферы по отношению к числу опрошенных получателей услуг, ответивших на соответствующий вопрос анкеты | S18: 14 | T18: 15 | U18: Отсутствуют комфортные условия | W18: =INDEX(Индикаторы!W24:W26,MATCH('Сведения о независимой оценке'!U18,Индикаторы!U24:U26,0)) -> 0 | X18: Число получателей услуг, удовлетворенных комфортностью предоставления услуг организацией социальной сферы, по отношению к числу опрошенных получателей услуг, ответивших на данный вопрос | Y18: 29 | Z18: 49 | AA18: Отсутствуют условия доступности для инвалидов | AC18: =INDEX(Индикаторы!AC24:AC26,MATCH('Сведения о независимой оценке'!AA18,Индикаторы!AA24:AA26,0)) -> 0 | AD18: Отсутствуют условия доступности, позволяющие инвалидам получать услуги наравне с другими | AF18: =INDEX(Индикаторы!AF24:AF26,MATCH('Сведения о независимой оценке'!AD18,Индикаторы!AD24:AD26,0)) -> 0 | AG18: Число получателей услуг-инвалидов, удовлетворенных доступностью услуг для инвалидов, по отношению к числу опрошенных получателей услуг- инвалидов, ответивших на соответствующий вопрос анкеты | AH18: 2 | AI18: 5 | AJ18: Число получателей услуг, удовлетворенных доброжелательностью, вежливостью работников организации социальной сферы, обеспечивающих первичный контакт и информирование получателя услуги, по отношению к числу опрошенныхполучателей услуг, ответивших на соответствующий вопрос анкеты | AK18: 45 | AL18: 49 | AM18: Число получателей услуг, удовлетворенных доброжелательностью, вежливостью работников организации социальной сферы, обеспечивающих непосредственное оказание услуги, по отношению к числу опрошенных получателей услуг, ответивших на соответствующий вопрос анкеты | AN18: 46 | AO18: 49 | AP18: Число получателей услуг, удовлетворенных доброжелательностью, вежливостью работников организации социальной сферы при использовании дистанционных форм взаимодействия, по отношению к числу опрошенных получателей услуг, ответивших на соответствующий вопрос анкеты | AQ18: 23 | AR18: 27 | AS18: Число получателей услуг, которые готовы рекомендовать организацию родственникам и знакомым (могли бы ее рекомендовать, если бы была возможность выбора организации, по отношению к числу опрошенных получателей услуг, ответивших на соответствующий вопрос анкеты | AT18: 41 | AU18: 49 | AV18: Число получателей услуг, удовлетворенных организационными условиями предоставления услуг, по отношению к числу опрошенных получателей услуг ответивших на соответствующий вопрос анкеты | AW18: 40 | AX18: 49 | AY18: Число получателей услуг, удовлетворенных в целом условиями оказания услуг в организации социальной сферы, по отношению к числу опрошенных получателей услуг, ответивших на соответствующий вопрос анкеты | AZ18: 40 | BA18: 49
A19: 5 | B19: МУНИЦИПАЛЬНОЕ КАЗЕННОЕ ОБЩЕОБРАЗОВАТЕЛЬНОЕ УЧРЕЖДЕНИЕ "ГДЫМСКАЯ ОСНОВНАЯ ОБЩЕОБРАЗОВАТЕЛЬНАЯ ШКОЛА", 0504006467, организации, осуществляющие образовательную деятельность | C19: 40 | D19: 3 | E19: 40.0 | F19: отсутствует информация о деятельности организации социальной сферы | H19: =INDEX(Индикаторы!H27:H28,MATCH('Сведения о независимой оценке'!F19,Индикаторы!F27:F28,0)) -> 0 | I19: Отсутствует информация о деятельности организации социальной сферы на ее официальном сайте | K19: =INDEX(Индикаторы!K27:K28,MATCH('Сведения о независимой оценке'!I19,Индикаторы!I27:I28,0)) -> 0 | L19: Отсутствуют или не функционируют дистанционные способы взаимодействия | N19: =INDEX(Индикаторы!N27:N29,MATCH('Сведения о независимой оценке'!L19,Индикаторы!L27:L29,0)) -> 0 | O19: Число получателей услуг, удовлетворенных качеством, полнотой и доступностью информации о деятельности организации социальной сферы, размещенной на информационных стендах в помещении организации социальной сферы по отношению к числу опрошенных получателей услуг, ответивших на соответствующий вопрос анкеты | P19: 2 | Q19: 2 | R19: число получателей услуг, удовлетворенных качеством, полнотой и доступностью информации о деятельности организации социальной сферы, размещенной на официальном сайте организации социальной сферы по отношению к числу опрошенных получателей услуг, ответивших на соответствующий вопрос анкеты | S19: 2 | T19: 2 | U19: Отсутствуют комфортные условия | W19: =INDEX(Индикаторы!W27:W29,MATCH('Сведения о независимой оценке'!U19,Индикаторы!U27:U29,0)) -> 0 | X19: Число получателей услуг, удовлетворенных комфортностью предоставления услуг организацией социальной сферы, по отношению к числу опрошенных получателей услуг, ответивших на данный вопрос | Y19: 2 | Z19: 3 | AA19: Отсутствуют условия доступности для инвалидов | AC19: =INDEX(Индикаторы!AC27:AC29,MATCH('Сведения о независимой оценке'!AA19,Индикаторы!AA27:AA29,0)) -> 0 | AD19: Отсутствуют условия доступности, позволяющие инвалидам получать услуги наравне с другими | AF19: =INDEX(Индикаторы!AF27:AF29,MATCH('Сведения о независимой оценке'!AD19,Индикаторы!AD27:AD29,0)) -> 0 | AG19: Число получателей услуг-инвалидов, удовлетворенных доступностью услуг для инвалидов, по отношению к числу опрошенных получателей услуг- инвалидов, ответивших на соответствующий вопрос анкеты | AH19: 1 | AI19: 1 | AJ19: Число получателей услуг, удовлетворенных доброжелательностью, вежливостью работников организации социальной сферы, обеспечивающих первичный контакт и информирование получателя услуги, по отношению к числу опрошенныхполучателей услуг, ответивших на соответствующий вопрос анкеты | AK19: 3 | AL19: 3 | AM19: Число получателей услуг, удовлетворенных доброжелательностью, вежливостью работников организации социальной сферы, обеспечивающих непосредственное оказание услуги, по отношению к числу опрошенных получателей услуг, ответивших на соответствующий вопрос анкеты | AN19: 3 | AO19: 3 | AP19: Число получателей услуг, удовлетворенных доброжелательностью, вежливостью работников организации социальной сферы при использовании дистанционных форм взаимодействия, по отношению к числу опрошенных получателей услуг, ответивших на соответствующий вопрос анкеты | AQ19: 2 | AR19: 2 | AS19: Число получателей услуг, которые готовы рекомендовать организацию родственникам и знакомым (могли бы ее рекомендовать, если бы была возможность выбора организации, по отношению к числу опрошенных получателей услуг, ответивших на соответствующий вопрос анкеты | AT19: 3 | AU19: 3 | AV19: Число получателей услуг, удовлетворенных организационными условиями предоставления услуг, по отношению к числу опрошенных получателей услуг ответивших на соответствующий вопрос анкеты | AW19: 3 | AX19: 3 | AY19: Число получателей услуг, удовлетворенных в целом условиями оказания услуг в организации социальной сферы, по отношению к числу опрошенных получателей услуг, ответивших на соответствующий вопрос анкеты | AZ19: 3 | BA19: 3
A20: 6 | B20: МУНИЦИПАЛЬНОЕ КАЗЕННОЕ ОБЩЕОБРАЗОВАТЕЛЬНОЕ УЧРЕЖДЕНИЕ "АХТЫНСКАЯ НАЧАЛЬНАЯ ОБЩЕОБРАЗОВАТЕЛЬНАЯ ШКОЛА №2350 ПРИ ВОЙСКОВОЙ ЧАСТИ", 0504036574, организации, осуществляющие образовательную деятельность | C20: 40 | D20: 24 | E20: 40.0 | F20: отсутствует информация о деятельности организации социальной сферы | H20: =INDEX(Индикаторы!H30:H31,MATCH('Сведения о независимой оценке'!F20,Индикаторы!F30:F31,0)) -> 0 | I20: Отсутствует информация о деятельности организации социальной сферы на ее официальном сайте | K20: =INDEX(Индикаторы!K30:K31,MATCH('Сведения о независимой оценке'!I20,Индикаторы!I30:I31,0)) -> 0 | L20: Отсутствуют или не функционируют дистанционные способы взаимодействия | N20: =INDEX(Индикаторы!N30:N32,MATCH('Сведения о независимой оценке'!L20,Индикаторы!L30:L32,0)) -> 0 | O20: Число получателей услуг, удовлетворенных качеством, полнотой и доступностью информации о деятельности организации социальной сферы, размещенной на информационных стендах в помещении организации социальной сферы по отношению к числу опрошенных получателей услуг, ответивших на соответствующий вопрос анкеты | P20: 16 | Q20: 18 | R20: число получателей услуг, удовлетворенных качеством, полнотой и доступностью информации о деятельности организации социальной сферы, размещенной на официальном сайте организации социальной сферы по отношению к числу опрошенных получателей услуг, ответивших на соответствующий вопрос анкеты | S20: 9 | T20: 10 | U20: Отсутствуют комфортные условия | W20: =INDEX(Индикаторы!W30:W32,MATCH('Сведения о независимой оценке'!U20,Индикаторы!U30:U32,0)) -> 0 | X20: Число получателей услуг, удовлетворенных комфортностью предоставления услуг организацией социальной сферы, по отношению к числу опрошенных получателей услуг, ответивших на данный вопрос | Y20: 23 | Z20: 24 | AA20: Отсутствуют условия доступности для инвалидов | AC20: =INDEX(Индикаторы!AC30:AC32,MATCH('Сведения о независимой оценке'!AA20,Индикаторы!AA30:AA32,0)) -> 0 | AD20: Отсутствуют условия доступности, позволяющие инвалидам получать услуги наравне с другими | AF20: =INDEX(Индикаторы!AF30:AF32,MATCH('Сведения о независимой оценке'!AD20,Индикаторы!AD30:AD32,0)) -> 0 | AG20: Число получателей услуг-инвалидов, удовлетворенных доступностью услуг для инвалидов, по отношению к числу опрошенных получателей услуг- инвалидов, ответивших на соответствующий вопрос анкеты | AH20: 1 | AI20: 2 | AJ20: Число получателей услуг, удовлетворенных доброжелательностью, вежливостью работников организации социальной сферы, обеспечивающих первичный контакт и информирование получателя услуги, по отношению к числу опрошенныхполучателей услуг, ответивших на соответствующий вопрос анкеты | AK20: 22 | AL20: 24 | AM20: Число получателей услуг, удовлетворенных доброжелательностью, вежливостью работников организации социальной сферы, обеспечивающих непосредственное оказание услуги, по отношению к числу опрошенных получателей услуг, ответивших на соответствующий вопрос анкеты | AN20: 23 | AO20: 24 | AP20: Число получателей услуг, удовлетворенных доброжелательностью, вежливостью работников организации социальной сферы при использовании дистанционных форм взаимодействия, по отношению к числу опрошенных получателей услуг, ответивших на соответствующий вопрос анкеты | AQ20: 9 | AR20: 11 | AS20: Число получателей услуг, которые готовы рекомендовать организацию родственникам и знакомым (могли бы ее рекомендовать, если бы была возможность выбора организации, по отношению к числу опрошенных получателей услуг, ответивших на соответствующий вопрос анкеты | AT20: 23 | AU20: 24 | AV20: Число получателей услуг, удовлетворенных организационными условиями предоставления услуг, по отношению к числу опрошенных получателей услуг ответивших на соответствующий вопрос анкеты | AW20: 23 | AX20: 24 | AY20: Число получателей услуг, удовлетворенных в целом условиями оказания услуг в организации социальной сферы, по отношению к числу опрошенных получателей услуг, ответивших на соответствующий вопрос анкеты | AZ20: 23 | BA20: 24
A21: 7 | B21: МУНИЦИПАЛЬНОЕ КАЗЕННОЕ УЧРЕЖДЕНИЕ ДОПОЛНИТЕЛЬНОГО ОБРАЗОВАНИЯ"СТАНЦИЯ ЮНЫХ НАТУРАЛИСТОВ "ИМ.Ф.Г.КИСРИЕВА, 0504006033, организации, осуществляющие образовательную деятельность | C21: 40 | D21: 79 | E21: 40.0 | F21: отсутствует информация о деятельности организации социальной сферы | H21: =INDEX(Индикаторы!H33:H34,MATCH('Сведения о независимой оценке'!F21,Индикаторы!F33:F34,0)) -> 0 | I21: Отсутствует информация о деятельности организации социальной сферы на ее официальном сайте | K21: =INDEX(Индикаторы!K33:K34,MATCH('Сведения о независимой оценке'!I21,Индикаторы!I33:I34,0)) -> 0 | L21: Отсутствуют или не функционируют дистанционные способы взаимодействия | N21: =INDEX(Индикаторы!N33:N35,MATCH('Сведения о независимой оценке'!L21,Индикаторы!L33:L35,0)) -> 0 | O21: Число получателей услуг, удовлетворенных качеством, полнотой и доступностью информации о деятельности организации социальной сферы, размещенной на информационных стендах в помещении организации социальной сферы по отношению к числу опрошенных получателей услуг, ответивших на соответствующий вопрос анкеты | P21: 55 | Q21: 59 | R21: число получателей услуг, удовлетворенных качеством, полнотой и доступностью информации о деятельности организации социальной сферы, размещенной на официальном сайте организации социальной сферы по отношению к числу опрошенных получателей услуг, ответивших на соответствующий вопрос анкеты | S21: 50 | T21: 52 | U21: Отсутствуют комфортные условия | W21: =INDEX(Индикаторы!W33:W35,MATCH('Сведения о независимой оценке'!U21,Индикаторы!U33:U35,0)) -> 0 | X21: Число получателей услуг, удовлетворенных комфортностью предоставления услуг организацией социальной сферы, по отношению к числу опрошенных получателей услуг, ответивших на данный вопрос | Y21: 71 | Z21: 79 | AA21: Отсутствуют условия доступности для инвалидов | AC21: =INDEX(Индикаторы!AC33:AC35,MATCH('Сведения о независимой оценке'!AA21,Индикаторы!AA33:AA35,0)) -> 0 | AD21: Отсутствуют условия доступности, позволяющие инвалидам получать услуги наравне с другими | AF21: =INDEX(Индикаторы!AF33:AF35,MATCH('Сведения о независимой оценке'!AD21,Индикаторы!AD33:AD35,0)) -> 0 | AG21: Число получателей услуг-инвалидов, удовлетворенных доступностью услуг для инвалидов, по отношению к числу опрошенных получателей услуг- инвалидов, ответивших на соответствующий вопрос анкеты | AH21: 2 | AI21: 2 | AJ21: Число получателей услуг, удовлетворенных доброжелательностью, вежливостью работников организации социальной сферы, обеспечивающих первичный контакт и информирование получателя услуги, по отношению к числу опрошенныхполучателей услуг, ответивших на соответствующий вопрос анкеты | AK21: 76 | AL21: 79 | AM21: Число получателей услуг, удовлетворенных доброжелательностью, вежливостью работников организации социальной сферы, обеспечивающих непосредственное оказание услуги, по отношению к числу опрошенных получателей услуг, ответивших на соответствующий вопрос анкеты | AN21: 78 | AO21: 79 | AP21: Число получателей услуг, удовлетворенных доброжелательностью, вежливостью работников организации социальной сферы при использовании дистанционных форм взаимодействия, по отношению к числу опрошенных получателей услуг, ответивших на соответствующий вопрос анкеты | AQ21: 46 | AR21: 48 | AS21: Число получателей услуг, которые готовы рекомендовать организацию родственникам и знакомым (могли бы ее рекомендовать, если бы была возможность выбора организации, по отношению к числу опрошенных получателей услуг, ответивших на соответствующий вопрос анкеты | AT21: 76 | AU21: 79 | AV21: Число получателей услуг, удовлетворенных организационными условиями предоставления услуг, по отношению к числу опрошенных получателей услуг ответивших на соответствующий вопрос анкеты | AW21: 77 | AX21: 79 | AY21: Число получателей услуг, удовлетворенных в целом условиями оказания услуг в организации социальной сферы, по отношению к числу опрошенных получателей услуг, ответивших на соответствующий вопрос анкеты | AZ21: 74 | BA21: 79
A22: 8 | B22: МУНИЦИПАЛЬНОЕ КАЗЕННОЕ УЧРЕЖДЕНИЕ ДОШКОЛЬНОГО ОБРАЗОВАНИЯ ДЕТЕЙ АХТЫНСКИЙ ДЕТСКИЙ САД "ЮНЫЙ КОСМОНАВТ", 0504006428, организации, осуществляющие образовательную деятельность | C22: 40 | D22: 60 | E22: 40.0 | F22: отсутствует информация о деятельности организации социальной сферы | H22: =INDEX(Индикаторы!H36:H37,MATCH('Сведения о независимой оценке'!F22,Индикаторы!F36:F37,0)) -> 0 | I22: Отсутствует информация о деятельности организации социальной сферы на ее официальном сайте | K22: =INDEX(Индикаторы!K36:K37,MATCH('Сведения о независимой оценке'!I22,Индикаторы!I36:I37,0)) -> 0 | L22: Отсутствуют или не функционируют дистанционные способы взаимодействия | N22: =INDEX(Индикаторы!N36:N38,MATCH('Сведения о независимой оценке'!L22,Индикаторы!L36:L38,0)) -> 0 | O22: Число получателей услуг, удовлетворенных качеством, полнотой и доступностью информации о деятельности организации социальной сферы, размещенной на информационных стендах в помещении организации социальной сферы по отношению к числу опрошенных получателей услуг, ответивших на соответствующий вопрос анкеты | P22: 49 | Q22: 55 | R22: число получателей услуг, удовлетворенных качеством, полнотой и доступностью информации о деятельности организации социальной сферы, размещенной на официальном сайте организации социальной сферы по отношению к числу опрошенных получателей услуг, ответивших на соответствующий вопрос анкеты | S22: 33 | T22: 34 | U22: Отсутствуют комфортные условия | W22: =INDEX(Индикаторы!W36:W38,MATCH('Сведения о независимой оценке'!U22,Индикаторы!U36:U38,0)) -> 0 | X22: Число получателей услуг, удовлетворенных комфортностью предоставления услуг организацией социальной сферы, по отношению к числу опрошенных получателей услуг, ответивших на данный вопрос | Y22: 42 | Z22: 60 | AA22: Отсутствуют условия доступности для инвалидов | AC22: =INDEX(Индикаторы!AC36:AC38,MATCH('Сведения о независимой оценке'!AA22,Индикаторы!AA36:AA38,0)) -> 0 | AD22: Отсутствуют условия доступности, позволяющие инвалидам получать услуги наравне с другими | AF22: =INDEX(Индикаторы!AF36:AF38,MATCH('Сведения о независимой оценке'!AD22,Индикаторы!AD36:AD38,0)) -> 0 | AG22: Число получателей услуг-инвалидов, удовлетворенных доступностью услуг для инвалидов, по отношению к числу опрошенных получателей услуг- инвалидов, ответивших на соответствующий вопрос анкеты | AH22: 3 | AI22: 5 | AJ22: Число получателей услуг, удовлетворенных доброжелательностью, вежливостью работников организации социальной сферы, обеспечивающих первичный контакт и информирование получателя услуги, по отношению к числу опрошенныхполучателей услуг, ответивших на соответствующий вопрос анкеты | AK22: 51 | AL22: 60 | AM22: Число получателей услуг, удовлетворенных доброжелательностью, вежливостью работников организации социальной сферы, обеспечивающих непосредственное оказание услуги, по отношению к числу опрошенных получателей услуг, ответивших на соответствующий вопрос анкеты | AN22: 52 | AO22: 60 | AP22: Число получателей услуг, удовлетворенных доброжелательностью, вежливостью работников организации социальной сферы при использовании дистанционных форм взаимодействия, по отношению к числу опрошенных получателей услуг, ответивших на соответствующий вопрос анкеты | AQ22: 27 | AR22: 29 | AS22: Число получателей услуг, которые готовы рекомендовать организацию родственникам и знакомым (могли бы ее рекомендовать, если бы была возможность выбора организации, по отношению к числу опрошенных получателей услуг, ответивших на соответствующий вопрос анкеты | AT22: 50 | AU22: 60 | AV22: Число получателей услуг, удовлетворенных организационными условиями предоставления услуг, по отношению к числу опрошенных получателей услуг ответивших на соответствующий вопрос анкеты | AW22: 43 | AX22: 60 | AY22: Число получателей услуг, удовлетворенных в целом условиями оказания услуг в организации социальной сферы, по отношению к числу опрошенных получателей услуг, ответивших на соответствующий вопрос анкеты | AZ22: 48 | BA22: 60
A23: 9 | B23: МУНИЦИПАЛЬНОЕ КАЗЕННОЕ УЧРЕЖДЕНИЕ ДОШКОЛЬНОГО ОБРАЗОВАНИЯ ДЕТЕЙ АХТЫНСКИЙ ДЕТСКИЙ САД "СОЛНЫШКО", 0504006442, организации, осуществляющие образовательную деятельность | C23: 40 | D23: 25 | E23: 40.0 | F23: отсутствует информация о деятельности организации социальной сферы | H23: =INDEX(Индикаторы!H39:H40,MATCH('Сведения о независимой оценке'!F23,Индикаторы!F39:F40,0)) -> 0 | I23: Отсутствует информация о деятельности организации социальной сферы на ее официальном сайте | K23: =INDEX(Индикаторы!K39:K40,MATCH('Сведения о независимой оценке'!I23,Индикаторы!I39:I40,0)) -> 0 | L23: Отсутствуют или не функционируют дистанционные способы взаимодействия | N23: =INDEX(Индикаторы!N39:N41,MATCH('Сведения о независимой оценке'!L23,Индикаторы!L39:L41,0)) -> 0 | O23: Число получателей услуг, удовлетворенных качеством, полнотой и доступностью информации о деятельности организации социальной сферы, размещенной на информационных стендах в помещении организации социальной сферы по отношению к числу опрошенных получателей услуг, ответивших на соответствующий вопрос анкеты | P23: 13 | Q23: 13 | R23: число получателей услуг, удовлетворенных качеством, полнотой и доступностью информации о деятельности организации социальной сферы, размещенной на официальном сайте организации социальной сферы по отношению к числу опрошенных получателей услуг, ответивших на соответствующий вопрос анкеты | S23: 6 | T23: 6 | U23: Отсутствуют комфортные условия | W23: =INDEX(Индикаторы!W39:W41,MATCH('Сведения о независимой оценке'!U23,Индикаторы!U39:U41,0)) -> 0 | X23: Число получателей услуг, удовлетворенных комфортностью предоставления услуг организацией социальной сферы, по отношению к числу опрошенных получателей услуг, ответивших на данный вопрос | Y23: 21 | Z23: 25 | AA23: Отсутствуют условия доступности для инвалидов | AC23: =INDEX(Индикаторы!AC39:AC41,MATCH('Сведения о независимой оценке'!AA23,Индикаторы!AA39:AA41,0)) -> 0 | AD23: Отсутствуют условия доступности, позволяющие инвалидам получать услуги наравне с другими | AF23: =INDEX(Индикаторы!AF39:AF41,MATCH('Сведения о независимой оценке'!AD23,Индикаторы!AD39:AD41,0)) -> 0 | AG23: Число получателей услуг-инвалидов, удовлетворенных доступностью услуг для инвалидов, по отношению к числу опрошенных получателей услуг- инвалидов, ответивших на соответствующий вопрос анкеты | AH23: 2 | AI23: 3 | AJ23: Число получателей услуг, удовлетворенных доброжелательностью, вежливостью работников организации социальной сферы, обеспечивающих первичный контакт и информирование получателя услуги, по отношению к числу опрошенныхполучателей услуг, ответивших на соответствующий вопрос анкеты | AK23: 21 | AL23: 25 | AM23: Число получателей услуг, удовлетворенных доброжелательностью, вежливостью работников организации социальной сферы, обеспечивающих непосредственное оказание услуги, по отношению к числу опрошенных получателей услуг, ответивших на соответствующий вопрос анкеты | AN23: 24 | AO23: 25 | AP23: Число получателей услуг, удовлетворенных доброжелательностью, вежливостью работников организации социальной сферы при использовании дистанционных форм взаимодействия, по отношению к числу опрошенных получателей услуг, ответивших на соответствующий вопрос анкеты | AQ23: 5 | AR23: 5 | AS23: Число получателей услуг, которые готовы рекомендовать организацию родственникам и знакомым (могли бы ее рекомендовать, если бы была возможность выбора организации, по отношению к числу опрошенных получателей услуг, ответивших на соответствующий вопрос анкеты | AT23: 20 | AU23: 25 | AV23: Число получателей услуг, удовлетворенных организационными условиями предоставления услуг, по отношению к числу опрошенных получателей услуг ответивших на соответствующий вопрос анкеты | AW23: 22 | AX23: 25 | AY23: Число получателей услуг, удовлетворенных в целом условиями оказания услуг в организации социальной сферы, по отношению к числу опрошенных получателей услуг, ответивших на соответствующий вопрос анкеты | AZ23: 21 | BA23: 25
A24: 10 | B24: МУНИЦИПАЛЬНОЕ КАЗЕННОЕ УЧРЕЖДЕНИЕ ДОШКОЛЬНОГО ОБРАЗОВАНИЯ ДЕТЕЙ АХТЫНСКИЙ ДЕТСКИЙ САД "РАССВЕТ", 0504006410, организации, осуществляющие образовательную деятельность | C24: 40 | D24: 123 | E24: 40.0 | F24: отсутствует информация о деятельности организации социальной сферы | H24: =INDEX(Индикаторы!H42:H43,MATCH('Сведения о независимой оценке'!F24,Индикаторы!F42:F43,0)) -> 0 | I24: Отсутствует информация о деятельности организации социальной сферы на ее официальном сайте | K24: =INDEX(Индикаторы!K42:K43,MATCH('Сведения о независимой оценке'!I24,Индикаторы!I42:I43,0)) -> 0 | L24: Отсутствуют или не функционируют дистанционные способы взаимодействия | N24: =INDEX(Индикаторы!N42:N44,MATCH('Сведения о независимой оценке'!L24,Индикаторы!L42:L44,0)) -> 0 | O24: Число получателей услуг, удовлетворенных качеством, полнотой и доступностью информации о деятельности организации социальной сферы, размещенной на информационных стендах в помещении организации социальной сферы по отношению к числу опрошенных получателей услуг, ответивших на соответствующий вопрос анкеты | P24: 104 | Q24: 106 | R24: число получателей услуг, удовлетворенных качеством, полнотой и доступностью информации о деятельности организации социальной сферы, размещенной на официальном сайте организации социальной сферы по отношению к числу опрошенных получателей услуг, ответивших на соответствующий вопрос анкеты | S24: 93 | T24: 95 | U24: Отсутствуют комфортные условия | W24: =INDEX(Индикаторы!W42:W44,MATCH('Сведения о независимой оценке'!U24,Индикаторы!U42:U44,0)) -> 0 | X24: Число получателей услуг, удовлетворенных комфортностью предоставления услуг организацией социальной сферы, по отношению к числу опрошенных получателей услуг, ответивших на данный вопрос | Y24: 106 | Z24: 123 | AA24: Отсутствуют условия доступности для инвалидов | AC24: =INDEX(Индикаторы!AC42:AC44,MATCH('Сведения о независимой оценке'!AA24,Индикаторы!AA42:AA44,0)) -> 0 | AD24: Отсутствуют условия доступности, позволяющие инвалидам получать услуги наравне с другими | AF24: =INDEX(Индикаторы!AF42:AF44,MATCH('Сведения о независимой оценке'!AD24,Индикаторы!AD42:AD44,0)) -> 0 | AG24: Число получателей услуг-инвалидов, удовлетворенных доступностью услуг для инвалидов, по отношению к числу опрошенных получателей услуг- инвалидов, ответивших на соответствующий вопрос анкеты | AH24: 6 | AI24: 12 | AJ24: Число получателей услуг, удовлетворенных доброжелательностью, вежливостью работников организации социальной сферы, обеспечивающих первичный контакт и информирование получателя услуги, по отношению к числу опрошенныхполучателей услуг, ответивших на соответствующий вопрос анкеты | AK24: 122 | AL24: 123 | AM24: Число получателей услуг, удовлетворенных доброжелательностью, вежливостью работников организации социальной сферы, обеспечивающих непосредственное оказание услуги, по отношению к числу опрошенных получателей услуг, ответивших на соответствующий вопрос анкеты | AN24: 122 | AO24: 123 | AP24: Число получателей услуг, удовлетворенных доброжелательностью, вежливостью работников организации социальной сферы при использовании дистанционных форм взаимодействия, по отношению к числу опрошенных получателей услуг, ответивших на соответствующий вопрос анкеты | AQ24: 100 | AR24: 101 | AS24: Число получателей услуг, которые готовы рекомендовать организацию родственникам и знакомым (могли бы ее рекомендовать, если бы была возможность выбора организации, по отношению к числу опрошенных получателей услуг, ответивших на соответствующий вопрос анкеты | AT24: 123 | AU24: 123 | AV24: Число получателей услуг, удовлетворенных организационными условиями предоставления услуг, по отношению к числу опрошенных получателей услуг ответивших на соответствующий вопрос анкеты | AW24: 122 | AX24: 123 | AY24: Число получателей услуг, удовлетворенных в целом условиями оказания услуг в организации социальной сферы, по отношению к числу опрошенных получателей услуг, ответивших на соответствующий вопрос анкеты | AZ24: 121 | BA24: 123
A25: 11 | B25: МУНИЦИПАЛЬНОЕ КАЗЕННОЕ УЧРЕЖДЕНИЕ ДОПОЛНИТЕЛЬНОГО ОБРАЗОВАНИЯ "ДЕТСКАЯ МУЗЫКАЛЬНАЯ ШКОЛА" ИМ.РАГИМАТ ГАДЖИЕВОЙ, 0504007020, организации, осуществляющие образовательную деятельность | C25: 40 | D25: 14 | E25: 40.0 | F25: отсутствует информация о деятельности организации социальной сферы | H25: =INDEX(Индикаторы!H45:H46,MATCH('Сведения о независимой оценке'!F25,Индикаторы!F45:F46,0)) -> 0 | I25: Отсутствует информация о деятельности организации социальной сферы на ее официальном сайте | K25: =INDEX(Индикаторы!K45:K46,MATCH('Сведения о независимой оценке'!I25,Индикаторы!I45:I46,0)) -> 0 | L25: Отсутствуют или не функционируют дистанционные способы взаимодействия | N25: =INDEX(Индикаторы!N45:N47,MATCH('Сведения о независимой оценке'!L25,Индикаторы!L45:L47,0)) -> 0 | O25: Число получателей услуг, удовлетворенных качеством, полнотой и доступностью информации о деятельности организации социальной сферы, размещенной на информационных стендах в помещении организации социальной сферы по отношению к числу опрошенных получателей услуг, ответивших на соответствующий вопрос анкеты | P25: 10 | Q25: 13 | R25: число получателей услуг, удовлетворенных качеством, полнотой и доступностью информации о деятельности организации социальной сферы, размещенной на официальном сайте организации социальной сферы по отношению к числу опрошенных получателей услуг, ответивших на соответствующий вопрос анкеты | S25: 8 | T25: 10 | U25: Отсутствуют комфортные условия | W25: =INDEX(Индикаторы!W45:W47,MATCH('Сведения о независимой оценке'!U25,Индикаторы!U45:U47,0)) -> 0 | X25: Число получателей услуг, удовлетворенных комфортностью предоставления услуг организацией социальной сферы, по отношению к числу опрошенных получателей услуг, ответивших на данный вопрос | Y25: 11 | Z25: 14 | AA25: Отсутствуют условия доступности для инвалидов | AC25: =INDEX(Индикаторы!AC45:AC47,MATCH('Сведения о независимой оценке'!AA25,Индикаторы!AA45:AA47,0)) -> 0 | AD25: Отсутствуют условия доступности, позволяющие инвалидам получать услуги наравне с другими | AF25: =INDEX(Индикаторы!AF45:AF47,MATCH('Сведения о независимой оценке'!AD25,Индикаторы!AD45:AD47,0)) -> 0 | AG25: Число получателей услуг-инвалидов, удовлетворенных доступностью услуг для инвалидов, по отношению к числу опрошенных получателей услуг- инвалидов, ответивших на соответствующий вопрос анкеты | AH25: 4 | AI25: 4 | AJ25: Число получателей услуг, удовлетворенных доброжелательностью, вежливостью работников организации социальной сферы, обеспечивающих первичный контакт и информирование получателя услуги, по отношению к числу опрошенныхполучателей услуг, ответивших на соответствующий вопрос анкеты | AK25: 12 | AL25: 14 | AM25: Число получателей услуг, удовлетворенных доброжелательностью, вежливостью работников организации социальной сферы, обеспечивающих непосредственное оказание услуги, по отношению к числу опрошенных получателей услуг, ответивших на соответствующий вопрос анкеты | AN25: 12 | AO25: 14 | AP25: Число получателей услуг, удовлетворенных доброжелательностью, вежливостью работников организации социальной сферы при использовании дистанционных форм взаимодействия, по отношению к числу опрошенных получателей услуг, ответивших на соответствующий вопрос анкеты | AQ25: 10 | AR25: 12 | AS25: Число получателей услуг, которые готовы рекомендовать организацию родственникам и знакомым (могли бы ее рекомендовать, если бы была возможность выбора организации, по отношению к числу опрошенных получателей услуг, ответивших на соответствующий вопрос анкеты | AT25: 12 | AU25: 14 | AV25: Число получателей услуг, удовлетворенных организационными условиями предоставления услуг, по отношению к числу опрошенных получателей услуг ответивших на соответствующий вопрос анкеты | AW25: 12 | AX25: 14 | AY25: Число получателей услуг, удовлетворенных в целом условиями оказания услуг в организации социальной сферы, по отношению к числу опрошенных получателей услуг, ответивших на соответствующий вопрос анкеты | AZ25: 14 | BA25: 14

Sheet Индикаторы
A9: № п.п. | B9: Организация | C9: Численность получателей услуг организации | D9: Количество респондентов | E9: Доля респондентов | F9: Общие критерии оценки
F10: 1 - критерий открытости и доступности информации об организации | U10: 2 - критерий комфортности условий предоставления услуги, в том числе время ожидания ее предоставления | AA10: 3 - критерий доступности услуг для инвалидов | AJ10: 4 - критерий доброжелательности, вежливости работников организации | AS10: 5 - критерий удовлетворенности условиями оказания услуг
F11: Показатели | U11: Показатели | AA11: Показатели | AJ11: Показатели | AS11: Показатели
F12: 1.1 Соответствие информации о деятельности организации социальной сферы, размещенной на общедоступных информационных ресурсах, ее содержанию и порядку (форме), установленным законодательными и иными нормативными правовыми актами Российской Федерации | L12: 1.2 Наличие на официальном сайте организации социальной сферы информации о дистанционных способах обратной связи и взаимодействия с получателями услуг и их функционирование | O12: 1.3 Доля получателей услуг, удовлетворенных открытостью, полнотой и доступностью информации о деятельности организации социальной сферы | U12: 2.1 Обеспечение в организации социальной сферы комфортных условий предоставления услуг | X12: 2.3 Доля получателей услуг удовлетворенных комфортностью предоставления услуг организацией социальной сферы | AA12: 3.1 Оборудование помещений организации социальной сферы и прилегающей к ней территории с учетом доступности для инвалидов | AD12: 3.2 Обеспечение в организации социальной сферы условий доступности, позволяющих инвалидам получать услуги наравне с другими | AG12: 3.3 Доля получателей услуг, удовлетворенных доступностью услуг для инвалидов | AJ12: 4.1 Доля получателей услуг, удовлетворенных доброжелательностью, вежливостью работников организации социальной сферы, обеспечивающих первичный контакт и информирование получателя услуги при непосредственном обращении в организацию социальной сферы | AM12: 4.2 Доля получателей услуг, удовлетворенных доброжелательностью, вежливостью работников организации социальной сферы, обеспечивающих непосредственное оказание услуги при обращении в организацию социальной сферы | AP12: 4.3 Доля получателей услуг, удовлетворенных доброжелательностью, вежливостью работников организации социальной сферы при использовании дистанционных форм взаимодействия | AS12: 5.1 Доля получателей услуг, которые готовы рекомендовать организацию социальной сферы родственникам и знакомым (могли бы ее рекомендовать, если бы была возможность выбора организации социальной сферы) | AV12: 5.2 Доля получателей услуг, удовлетворенных организационными условиями предоставления услуг | AY12: 5.3 Доля получателей услуг, удовлетворенных в целом условиями оказания услуг в организации социальной сферы
