Workbook

Sheet Сведения о независимой оценке
A1: Количественные результаты независимой оценки качества оказания услуг организациями
A2: Шаблон сформирован 19.12.2019 08:18
A3: Публично-правовое образование | C3: 82606000 - Ахтынский муниципальный район
A4: Сфера деятельности | C4: 1 - Культура
A5: Период проведения независимой оценки | C5: 2019 год
A6: Основание для определения перечня показателей | C6: Единый порядок расчета (Приказ Минтруда № 344н от 31.05.2018 г.)
A8: Пожалуйста, введите значения выполнения индикаторов
A9: № п.п. | B9: Организация | C9: Количество респондентов | D9: Доля респондентов | E9: Общие критерии оценки
E10: 1 - критерий открытости и доступности информации об организации | T10: 2 - критерий комфортности условий предоставления услуги, в том числе время ожидания ее предоставления | Z10: 3 - критерий доступности услуг для инвалидов | AI10: 4 - критерий доброжелательности, вежливости работников организации | AR10: 5 - критерий удовлетворенности условиями оказания услуг
E11: Показатели | T11: Показатели | Z11: Показатели | AI11: Показатели | AR11: Показатели
E12: 1.1 Соответствие информации о деятельности организации социальной сферы, размещенной на общедоступных информационных ресурсах, ее содержанию и порядку (форме), установленным законодательными и иными нормативными правовыми актами Российской Федерации | K12: 1.2 Наличие на официальном сайте организации социальной сферы информации о дистанционных способах обратной связи и взаимодействия с получателями услуг и их функционирование | N12: 1.3 Доля получателей услуг, удовлетворенных открытостью, полнотой и доступностью информации о деятельности организации социальной сферы | T12: 2.1 Обеспечение в организации социальной сферы комфортных условий предоставления услуг | W12: 2.3 Доля получателей услуг удовлетворенных комфортностью предоставления услуг организацией социальной сферы | Z12: 3.1 Оборудование помещений организации социальной сферы и прилегающей к ней территории с учетом доступности для инвалидов | AC12: 3.2 Обеспечение в организации социальной сферы условий доступности, позволяющих инвалидам получать услуги наравне с другими | AF12: 3.3 Доля получателей услуг, удовлетворенных доступностью услуг для инвалидов | AI12: 4.1 Доля получателей услуг, удовлетворенных доброжелательностью, вежливостью работников организации социальной сферы, обеспечивающих первичный контакт и информирование получателя услуги при непосредственном обращении в организацию социальной сферы | AL12: 4.2 Доля получателей услуг, удовлетворенных доброжелательностью, вежливостью работников организации социальной сферы, обеспечивающих непосредственное оказание услуги при обращении в организацию социальной сферы | AO12: 4.3 Доля получателей услуг, удовлетворенных доброжелательностью, вежливостью работников организации социальной сферы при использовании дистанционных форм взаимодействия | AR12: 5.1 Доля получателей услуг, которые готовы рекомендовать организацию социальной сферы родственникам и знакомым (могли бы ее рекомендовать, если бы была возможность выбора организации социальной сферы) | AU12: 5.2 Доля получателей услуг, удовлетворенных организационными условиями предоставления услуг | AX12: 5.3 Доля получателей услуг, удовлетворенных в целом условиями оказания услуг в организации социальной сферы
E13: 1.1.1 - Соответствие информации о деятельности организации социальной сферы, размещенной на информационных стендах в помещении организации социальной сферы, ее содержанию и порядку (форме), установленным нормативными правовыми актами. | H13: 1.1.2 - Соответствие информации о деятельности организации социальной сферы, размещенной на официальном сайте организации социальной сферы, ее содержанию и порядку (форме), установленным нормативными правовыми актами. | K13: 1.2.1 - Наличие и функционирование на официальном сайте организации информации о дистанционных способах взаимодействия с получателями услуг: телефона; электронной почты; электронных сервисов (форма для подачи электронного обращения (жалобы, предложения), получение консультации по оказываемым услугам и пр.); раздела «Часто задаваемые вопросы»; технической возможности выражения получателем услуг мнения о качестве условий оказания услуг организацией социальной сферы (наличие анкеты для опроса граждан или гиперссылки на нее); иного дистанционного способа взаимодействия. | N13: 1.3.1 - Удовлетворенность качеством, полнотой и доступностью информации о деятельности организации социальной сферы, размещенной на информационных стендах в помещении организации социальной сферы. | Q13: 1.3.2 - Удовлетворенность качеством, полнотой и доступностью информации о деятельности организации социальной сферы, размещенной на официальном сайте организации социальной сферы в сети «Интернет». | T13: 2.1.1 - Наличие комфортных условий для предоставления услуг, например: наличие комфортной зоны отдыха (ожидания), оборудованной соответствующей мебелью; наличие и понятность навигации внутри организации социальной сферы; наличие и доступность питьевой воды; наличие и доступность санитарно-гигиенических помещений; санитарное состояние помещений организации социальной сферы; транспортная доступность (возможность доехать до организации социальной сферы на общественном транспорте, наличие парковки); доступность записи на получение услуги (по телефону, на официальном сайте организации социальной сферы в сети Интернет, посредством Единого портала государственных и муниципальных услуг, при личном посещении в регистратуре или у специалиста организации социальной сферы и пр.); иные параметры комфортных условий, установленные ведомственным актом уполномоченного федерального органа исполнительной власти. | W13: 2.3.1 - Удовлетворенность комфортностью предоставления услуг организацией социальной сферы. | Z13: 3.1.1 - Наличие в помещениях организации социальной сферы и на прилегающей к ней территории: оборудованных входных групп пандусами (подъемными платформами); выделенных стоянок для автотранспортных средств инвалидов; адаптированных лифтов, поручней, расширенных дверных проемов; сменных кресел-колясок; специально оборудованных санитарно-гигиенических помещений в организации социальной сферы. | AC13: 3.2.1 - Наличие в организации социальной сферы условий доступности, позволяющих инвалидам получать услуги наравне с другими: дублирование для инвалидов по слуху и зрению звуковой и зрительной информации; дублирование надписей, знаков и иной текстовой и графической информации знаками, выполненными рельефно-точечным шрифтом Брайля; возможность предоставления инвалидам по слуху (слуху и зрению) услуг сурдопереводчика (тифлосурдопереводчика); наличие альтернативной версии официального сайта организации социальной сферы в сети Интернет для инвалидов по зрению; помощь, оказываемая работниками организации социальной сферы, прошедшими необходимое обучение (инструктирование) по сопровождению инвалидов в помещениях организации социальной сферы и на прилегающей территории; наличие возможности предоставления услуги в дистанционном режиме или на дому. | AF13: 3.3.1 - Удовлетворенность доступностью услуг для инвалидов. | AI13: 4.1.1 - Удовлетворенность доброжелательностью, вежливостью работников организации социальной сферы, обеспечивающих первичный контакт и информирование получателя услуги (работники справочной, приемного отделения, регистратуры, кассы и прочие работники) при непосредственном обращении в организацию социальной сферы. | AL13: 4.2.1 - Удовлетворенность доброжелательностью, вежливостью работников организации социальной сферы, обеспечивающих непосредственное оказание услуги (врачи, социальные работники, работники, осуществляющие экспертно-реабилитационную диагностику, преподаватели, тренеры, инструкторы, библиотекари, экскурсоводы и прочие работники) при обращении в организацию социальной сферы. | AO13: 4.3.1 - Удовлетворенность доброжелательностью, вежливостью работников организации социальной сферы при использовании дистанционных форм взаимодействия (по телефону, по электронной почте, с помощью электронных сервисов (подачи электронного обращения (жалобы, предложения), получения консультации по оказываемым услугам и пр.). | AR13: 5.1.1 - Готовность получателей услуг рекомендовать организацию социальной сферы родственникам и знакомым. | AU13: 5.2.1 - Удовлетворенность получателей услуг организационными условиями оказания услуг, например: наличием и понятностью навигации внутри организации социальной сферы; графиком работы организации социальной сферы (подразделения, отдельных специалистов, графиком прихода социального работника на дом и пр.). | AX13: 5.3.1 - Удовлетворенность получателей услуг в целом условиями оказания услуг в организации социальной сферы.
E14: Наименование индикатора | F14: Выполнение индикатора | H14: Наименование индикатора | I14: Выполнение индикатора | K14: Наименование индикатора | L14: Выполнение индикатора | N14: Наименование индикатора | O14: Выполнение индикатора | Q14: Наименование индикатора | R14: Выполнение индикатора | T14: Наименование индикатора | U14: Выполнение индикатора | W14: Наименование индикатора | X14: Выполнение индикатора | Z14: Наименование индикатора | AA14: Выполнение индикатора | AC14: Наименование индикатора | AD14: Выполнение индикатора | AF14: Наименование индикатора | AG14: Выполнение индикатора | AI14: Наименование индикатора | AJ14: Выполнение индикатора | AL14: Наименование индикатора | AM14: Выполнение индикатора | AO14: Наименование индикатора | AP14: Выполнение индикатора | AR14: Наименование индикатора | AS14: Выполнение индикатора | AU14: Наименование индикатора | AV14: Выполнение индикатора | AX14: Наименование индикатора | AY14: Выполнение индикатора
A15: 1 | B15: МУНИЦИПАЛЬНОЕ КАЗЕННОЕ УЧРЕЖДЕНИЕ КУЛЬТУРЫ "КУЛЬТУРНО-ДОСУГОВЫЙ ЦЕНТР "АДМИНИСТРАЦИЯ СЕЛЬСКОГО ПОСЕЛЕНИЯ "СЕЛЬСОВЕТ АХТЫНСКИЙ", 0504008305, культурно-досуговые организации | C15: 37 | D15: 35.0 | E15: Объём информации, размещённой на информационных стендах в помещении организации по отношению к количеству материалов, размещение которых установлено нормативными правовыми актами | F15: 9 | G15: =INDEX('Индикаторы'!G15:G16,MATCH('Сведения о независимой оценке'!E15,'Индикаторы'!E15:E16,0)) -> 10 | H15: Отсутствует информация о деятельности организации на её официальном сайте | J15: =INDEX('Индикаторы'!J15:J16,MATCH('Сведения о независимой оценке'!H15,'Индикаторы'!H15:H16,0)) -> 0 | K15: Количество функционирующих способов взаимодействия (от одного до трёх включительно) | L15: 2 | M15: =INDEX('Индикаторы'!M15:M17,MATCH('Сведения о независимой оценке'!K15,'Индикаторы'!K15:K17,0)) -> 30 | N15: Число получателей услуг, удовлетворённых качеством, полнотой и доступностью информации о деятельности организации, размещённой на информационных стендах в помещении организации по отношению к числу опрошенных получателей услуг, ответивших на соответствующий вопрос анкеты | O15: 34 | P15: 37 | Q15: Число получателей услуг, удовлетворённых качеством, полнотой и доступностью информации о деятельности организации, размещённой на официальном сайте организации по отношению к числу опрошенных получателей услуг, ответивших на соответствующий вопрос анкеты | R15: 35 | S15: 37 | T15: Количество комфортных условий для предоставления услуг (от одного до четырёх включительно) | U15: 2 | V15: =INDEX('Индикаторы'!V15:V17,MATCH('Сведения о независимой оценке'!T15,'Индикаторы'!T15:T17,0)) -> 20 | W15: Число получателей услуг, удовлетворённых комфортностью предоставления услуг организацией, по отношению к числу опрошенных получателей услуг, ответивших на данный вопрос | X15: 30 | Y15: 34 | Z15: Количество условий доступности организации для инвалидов (от одного до четырёх) | AA15: 2 | AB15: =INDEX('Индикаторы'!AB15:AB17,MATCH('Сведения о независимой оценке'!Z15,'Индикаторы'!Z15:Z17,0)) -> 20 | AC15: Количество условий доступности, позволяющих инвалидам получать услуги наравне с другими (от одного до четырёх) | AD15: 2 | AE15: =INDEX('Индикаторы'!AE15:AE17,MATCH('Сведения о независимой оценке'!AC15,'Индикаторы'!AC15:AC17,0)) -> 20 | AF15: Число получателей услуг-инвалидов, удовлетворённых доступностью услуг для инвалидов, по отношению к числу опрошенных получателей услуг-инвалидов, ответивших на соответствующий вопрос анкеты | AG15: 4 | AH15: 5 | AI15: Число получателей услуг, удовлетворённых доброжелательностью, вежливостью работников организации, обеспечивающих первичный контакт и информирование получателя услуги, по отношению к числу опрошенных получателей услуг, ответивших на соответствующий вопрос анкеты | AJ15: 30 | AK15: 31 | AL15: Число получателей услуг, удовлетворённых доброжелательностью, вежливостью работников организации, обеспечивающих непосредственное оказание услуги, по отношению к числу опрошенных получателей услуг, ответивших на соответствующий вопрос анкеты | AM15: 23 | AN15: 25 | AO15: Число получателей услуг, удовлетворённых доброжелательностью, вежливостью работников организации при использовании дистанционных форм взаимодействия, по отношению к числу опрошенных получателей услуг, ответивших на соответствующий вопрос анкеты | AP15: 31 | AQ15: 35 | AR15: Число получателей услуг, которые готовы рекомендовать организацию родственникам и знакомым (могли бы её рекомендовать, если бы была возможность выбора организации), по отношению к числу опрошенных получателей услуг, ответивших на соответствующий вопрос анкеты | AS15: 27 | AT15: 31 | AU15: Число получателей услуг, удовлетворённых организационными условиями предоставления услуг, по отношению к числу опрошенных получателей услуг, ответивших на соответствующий вопрос анкеты | AV15: 29 | AW15: 31 | AX15: Число получателей услуг, удовлетворённых в целом условиями оказания услуг в организации, по отношению к числу опрошенных получателей услуг, ответивших на соответствующиий вопрос анкеты | AY15: 35 | AZ15: 37
A16: 2 | B16: МУНИЦИПАЛЬНОЕ КАЗЕННОЕ УЧРЕЖДЕНИЕ КУЛЬТУРЫ "КУЛЬТУРНО-ДОСУГОВЫЙ ЦЕНТР" МО" СЕЛО ЯЛАК", 0504007622, культурно-досуговые организации | C16: 8 | D16: 6.0 | E16: Объём информации, размещённой на информационных стендах в помещении организации по отношению к количеству материалов, размещение которых установлено нормативными правовыми актами | F16: 1 | G16: =INDEX('Индикаторы'!G18:G19,MATCH('Сведения о независимой оценке'!E16,'Индикаторы'!E18:E19,0)) -> 10 | H16: Объём информации, размещённой на официальном сайте организации по отношению к количеству материалов, размещение которых установлено нормативными правовыми актами | I16: 1 | J16: =INDEX('Индикаторы'!J18:J19,MATCH('Сведения о независимой оценке'!H16,'Индикаторы'!H18:H19,0)) -> 10 | K16: Количество функционирующих способов взаимодействия (от одного до трёх включительно) | L16: 1 | M16: =INDEX('Индикаторы'!M18:M20,MATCH('Сведения о независимой оценке'!K16,'Индикаторы'!K18:K20,0)) -> 30 | N16: Число получателей услуг, удовлетворённых качеством, полнотой и доступностью информации о деятельности организации, размещённой на информационных стендах в помещении организации по отношению к числу опрошенных получателей услуг, ответивших на соответствующий вопрос анкеты | O16: 3 | P16: 7 | Q16: Число получателей услуг, удовлетворённых качеством, полнотой и доступностью информации о деятельности организации, размещённой на официальном сайте организации по отношению к числу опрошенных получателей услуг, ответивших на соответствующий вопрос анкеты | R16: 1 | S16: 7 | T16: Количество комфортных условий для предоставления услуг (от одного до четырёх включительно) | U16: 1 | V16: =INDEX('Индикаторы'!V18:V20,MATCH('Сведения о независимой оценке'!T16,'Индикаторы'!T18:T20,0)) -> 20 | W16: Число получателей услуг, удовлетворённых комфортностью предоставления услуг организацией, по отношению к числу опрошенных получателей услуг, ответивших на данный вопрос | X16: 2 | Y16: 5 | Z16: Количество условий доступности организации для инвалидов (от одного до четырёх) | AA16: 1 | AB16: =INDEX('Индикаторы'!AB18:AB20,MATCH('Сведения о независимой оценке'!Z16,'Индикаторы'!Z18:Z20,0)) -> 20 | AC16: Отсутствуют условия доступности, позволяющие инвалидам получать услуги наравне с другими | AE16: =INDEX('Индикаторы'!AE18:AE20,MATCH('Сведения о независимой оценке'!AC16,'Индикаторы'!AC18:AC20,0)) -> 0 | AF16: Число получателей услуг-инвалидов, удовлетворённых доступностью услуг для инвалидов, по отношению к числу опрошенных получателей услуг-инвалидов, ответивших на соответствующий вопрос анкеты | AG16: 1 | AH16: 1 | AI16: Число получателей услуг, удовлетворённых доброжелательностью, вежливостью работников организации, обеспечивающих первичный контакт и информирование получателя услуги, по отношению к числу опрошенных получателей услуг, ответивших на соответствующий вопрос анкеты | AJ16: 1 | AK16: 3 | AL16: Число получателей услуг, удовлетворённых доброжелательностью, вежливостью работников организации, обеспечивающих непосредственное оказание услуги, по отношению к числу опрошенных получателей услуг, ответивших на соответствующий вопрос анкеты | AM16: 3 | AN16: 3 | AO16: Число получателей услуг, удовлетворённых доброжелательностью, вежливостью работников организации при использовании дистанционных форм взаимодействия, по отношению к числу опрошенных получателей услуг, ответивших на соответствующий вопрос анкеты | AP16: 2 | AQ16: 3 | AR16: Число получателей услуг, которые готовы рекомендовать организацию родственникам и знакомым (могли бы её рекомендовать, если бы была возможность выбора организации), по отношению к числу опрошенных получателей услуг, ответивших на соответствующий вопрос анкеты | AS16: 3 | AT16: 4 | AU16: Число получателей услуг, удовлетворённых организационными условиями предоставления услуг, по отношению к числу опрошенных получателей услуг, ответивших на соответствующий вопрос анкеты | AV16: 5 | AW16: 5 | AX16: Число получателей услуг, удовлетворённых в целом условиями оказания услуг в организации, по отношению к числу опрошенных получателей услуг, ответивших на соответствующиий вопрос анкеты | AY16: 5 | AZ16: 5
A17: 3 | B17: МУНИЦИПАЛЬНОЕ КАЗЕННОЕ УЧРЕЖДЕНИЕ КУЛЬТУРЫ "КУЛЬТУРНО-ДОСУГОВЫЙ ЦЕНТР""СЕЛЬСОВЕТ СМУГУЛЬСКИЙ", 0504007855, культурно-досуговые организации | C17: 12 | D17: 9.0 | E17: Объём информации, размещённой на информационных стендах в помещении организации по отношению к количеству материалов, размещение которых установлено нормативными правовыми актами | F17: 1 | G17: =INDEX('Индикаторы'!G21:G22,MATCH('Сведения о независимой оценке'!E17,'Индикаторы'!E21:E22,0)) -> 10 | H17: Отсутствует информация о деятельности организации на её официальном сайте | J17: =INDEX('Индикаторы'!J21:J22,MATCH('Сведения о независимой оценке'!H17,'Индикаторы'!H21:H22,0)) -> 0 | K17: Количество функционирующих способов взаимодействия (от одного до трёх включительно) | L17: 1 | M17: =INDEX('Индикаторы'!M21:M23,MATCH('Сведения о независимой оценке'!K17,'Индикаторы'!K21:K23,0)) -> 30 | N17: Число получателей услуг, удовлетворённых качеством, полнотой и доступностью информации о деятельности организации, размещённой на информационных стендах в помещении организации по отношению к числу опрошенных получателей услуг, ответивших на соответствующий вопрос анкеты | O17: 9 | P17: 10 | Q17: Число получателей услуг, удовлетворённых качеством, полнотой и доступностью информации о деятельности организации, размещённой на официальном сайте организации по отношению к числу опрошенных получателей услуг, ответивших на соответствующий вопрос анкеты | R17: 9 | S17: 10 | T17: Количество комфортных условий для предоставления услуг (от одного до четырёх включительно) | U17: 1 | V17: =INDEX('Индикаторы'!V21:V23,MATCH('Сведения о независимой оценке'!T17,'Индикаторы'!T21:T23,0)) -> 20 | W17: Число получателей услуг, удовлетворённых комфортностью предоставления услуг организацией, по отношению к числу опрошенных получателей услуг, ответивших на данный вопрос | X17: 8 | Y17: 9 | Z17: Количество условий доступности организации для инвалидов (от одного до четырёх) | AA17: 1 | AB17: =INDEX('Индикаторы'!AB21:AB23,MATCH('Сведения о независимой оценке'!Z17,'Индикаторы'!Z21:Z23,0)) -> 20 | AC17: Количество условий доступности, позволяющих инвалидам получать услуги наравне с другими (от одного до четырёх) | AD17: 1 | AE17: =INDEX('Индикаторы'!AE21:AE23,MATCH('Сведения о независимой оценке'!AC17,'Индикаторы'!AC21:AC23,0)) -> 20 | AF17: Число получателей услуг-инвалидов, удовлетворённых доступностью услуг для инвалидов, по отношению к числу опрошенных получателей услуг-инвалидов, ответивших на соответствующий вопрос анкеты | AG17: 1 | AH17: 1 | AI17: Число получателей услуг, удовлетворённых доброжелательностью, вежливостью работников организации, обеспечивающих первичный контакт и информирование получателя услуги, по отношению к числу опрошенных получателей услуг, ответивших на соответствующий вопрос анкеты | AJ17: 5 | AK17: 8 | AL17: Число получателей услуг, удовлетворённых доброжелательностью, вежливостью работников организации, обеспечивающих непосредственное оказание услуги, по отношению к числу опрошенных получателей услуг, ответивших на соответствующий вопрос анкеты | AM17: 11 | AN17: 11 | AO17: Число получателей услуг, удовлетворённых доброжелательностью, вежливостью работников организации при использовании дистанционных форм взаимодействия, по отношению к числу опрошенных получателей услуг, ответивших на соответствующий вопрос анкеты | AP17: 10 | AQ17: 11 | AR17: Число получателей услуг, которые готовы рекомендовать организацию родственникам и знакомым (могли бы её рекомендовать, если бы была возможность выбора организации), по отношению к числу опрошенных получателей услуг, ответивших на соответствующий вопрос анкеты | AS17: 9 | AT17: 9 | AU17: Число получателей услуг, удовлетворённых организационными условиями предоставления услуг, по отношению к числу опрошенных получателей услуг, ответивших на соответствующий вопрос анкеты | AV17: 9 | AW17: 11 | AX17: Число получателей услуг, удовлетворённых в целом условиями оказания услуг в организации, по отношению к числу опрошенных получателей услуг, ответивших на соответствующиий вопрос анкеты | AY17: 11 | AZ17: 12
A18: 4 | B18: МУНИЦИПАЛЬНОЕ КАЗЕННОЕ УЧРЕЖДЕНИЕ КУЛЬТУРЫ "КУЛЬТУРНО-ДОСУГОВЫЙ ЦЕНТР С. ГДЫМ", 0504007125, культурно-досуговые организации | C18: 9 | D18: 9.0 | E18: Объём информации, размещённой на информационных стендах в помещении организации по отношению к количеству материалов, размещение которых установлено нормативными правовыми актами | F18: 1 | G18: =INDEX('Индикаторы'!G24:G25,MATCH('Сведения о независимой оценке'!E18,'Индикаторы'!E24:E25,0)) -> 10 | H18: Отсутствует информация о деятельности организации на её официальном сайте | J18: =INDEX('Индикаторы'!J24:J25,MATCH('Сведения о независимой оценке'!H18,'Индикаторы'!H24:H25,0)) -> 0 | K18: Количество функционирующих способов взаимодействия (от одного до трёх включительно) | L18: 1 | M18: =INDEX('Индикаторы'!M24:M26,MATCH('Сведения о независимой оценке'!K18,'Индикаторы'!K24:K26,0)) -> 30 | N18: Число получателей услуг, удовлетворённых качеством, полнотой и доступностью информации о деятельности организации, размещённой на информационных стендах в помещении организации по отношению к числу опрошенных получателей услуг, ответивших на соответствующий вопрос анкеты | O18: 7 | P18: 9 | Q18: Число получателей услуг, удовлетворённых качеством, полнотой и доступностью информации о деятельности организации, размещённой на официальном сайте организации по отношению к числу опрошенных получателей услуг, ответивших на соответствующий вопрос анкеты | R18: 8 | S18: 9 | T18: Количество комфортных условий для предоставления услуг (от одного до четырёх включительно) | U18: 1 | V18: =INDEX('Индикаторы'!V24:V26,MATCH('Сведения о независимой оценке'!T18,'Индикаторы'!T24:T26,0)) -> 20 | W18: Число получателей услуг, удовлетворённых комфортностью предоставления услуг организацией, по отношению к числу опрошенных получателей услуг, ответивших на данный вопрос | X18: 5 | Y18: 9 | Z18: Количество условий доступности организации для инвалидов (от одного до четырёх) | AA18: 1 | AB18: =INDEX('Индикаторы'!AB24:AB26,MATCH('Сведения о независимой оценке'!Z18,'Индикаторы'!Z24:Z26,0)) -> 20 | AC18: Количество условий доступности, позволяющих инвалидам получать услуги наравне с другими (от одного до четырёх) | AD18: 1 | AE18: =INDEX('Индикаторы'!AE24:AE26,MATCH('Сведения о независимой оценке'!AC18,'Индикаторы'!AC24:AC26,0)) -> 20 | AF18: Число получателей услуг-инвалидов, удовлетворённых доступностью услуг для инвалидов, по отношению к числу опрошенных получателей услуг-инвалидов, ответивших на соответствующий вопрос анкеты | AG18: 1 | AH18: 2 | AI18: Число получателей услуг, удовлетворённых доброжелательностью, вежливостью работников организации, обеспечивающих первичный контакт и информирование получателя услуги, по отношению к числу опрошенных получателей услуг, ответивших на соответствующий вопрос анкеты | AJ18: 8 | AK18: 9 | AL18: Число получателей услуг, удовлетворённых доброжелательностью, вежливостью работников организации, обеспечивающих непосредственное оказание услуги, по отношению к числу опрошенных получателей услуг, ответивших на соответствующий вопрос анкеты | AM18: 8 | AN18: 9 | AO18: Число получателей услуг, удовлетворённых доброжелательностью, вежливостью работников организации при использовании дистанционных форм взаимодействия, по отношению к числу опрошенных получателей услуг, ответивших на соответствующий вопрос анкеты | AP18: 8 | AQ18: 9 | AR18: Число получателей услуг, которые готовы рекомендовать организацию родственникам и знакомым (могли бы её рекомендовать, если бы была возможность выбора организации), по отношению к числу опрошенных получателей услуг, ответивших на соответствующий вопрос анкеты | AS18: 4 | AT18: 8 | AU18: Число получателей услуг, удовлетворённых организационными условиями предоставления услуг, по отношению к числу опрошенных получателей услуг, ответивших на соответствующий вопрос анкеты | AV18: 6 | AW18: 8 | AX18: Число получателей услуг, удовлетворённых в целом условиями оказания услуг в организации, по отношению к числу опрошенных получателей услуг, ответивших на соответствующиий вопрос анкеты | AY18: 5 | AZ18: 9
A19: 5 | B19: МУНИЦИПАЛЬНОЕ КАЗЕННОЕ УЧРЕЖДЕНИЕ КУЛЬТУРЫ "КУЛЬТУРНО-ДОСУГОВЫЙ ЦЕНТР С. ДЖАБА", 0504007245, культурно-досуговые организации | C19: 8 | D19: 7.0 | E19: Объём информации, размещённой на информационных стендах в помещении организации по отношению к количеству материалов, размещение которых установлено нормативными правовыми актами | F19: 3 | G19: =INDEX('Индикаторы'!G27:G28,MATCH('Сведения о независимой оценке'!E19,'Индикаторы'!E27:E28,0)) -> 10 | H19: Объём информации, размещённой на официальном сайте организации по отношению к количеству материалов, размещение которых установлено нормативными правовыми актами | I19: 2 | J19: =INDEX('Индикаторы'!J27:J28,MATCH('Сведения о независимой оценке'!H19,'Индикаторы'!H27:H28,0)) -> 10 | K19: Количество функционирующих способов взаимодействия (от одного до трёх включительно) | L19: 2 | M19: =INDEX('Индикаторы'!M27:M29,MATCH('Сведения о независимой оценке'!K19,'Индикаторы'!K27:K29,0)) -> 30 | N19: Число получателей услуг, удовлетворённых качеством, полнотой и доступностью информации о деятельности организации, размещённой на информационных стендах в помещении организации по отношению к числу опрошенных получателей услуг, ответивших на соответствующий вопрос анкеты | O19: 4 | P19: 5 | Q19: Число получателей услуг, удовлетворённых качеством, полнотой и доступностью информации о деятельности организации, размещённой на официальном сайте организации по отношению к числу опрошенных получателей услуг, ответивших на соответствующий вопрос анкеты | R19: 4 | S19: 4 | T19: Количество комфортных условий для предоставления услуг (от одного до четырёх включительно) | U19: 2 | V19: =INDEX('Индикаторы'!V27:V29,MATCH('Сведения о независимой оценке'!T19,'Индикаторы'!T27:T29,0)) -> 20 | W19: Число получателей услуг, удовлетворённых комфортностью предоставления услуг организацией, по отношению к числу опрошенных получателей услуг, ответивших на данный вопрос | X19: 4 | Y19: 5 | Z19: Количество условий доступности организации для инвалидов (от одного до четырёх) | AA19: 2 | AB19: =INDEX('Индикаторы'!AB27:AB29,MATCH('Сведения о независимой оценке'!Z19,'Индикаторы'!Z27:Z29,0)) -> 20 | AC19: Количество условий доступности, позволяющих инвалидам получать услуги наравне с другими (от одного до четырёх) | AD19: 3 | AE19: =INDEX('Индикаторы'!AE27:AE29,MATCH('Сведения о независимой оценке'!AC19,'Индикаторы'!AC27:AC29,0)) -> 20 | AF19: Число получателей услуг-инвалидов, удовлетворённых доступностью услуг для инвалидов, по отношению к числу опрошенных получателей услуг-инвалидов, ответивших на соответствующий вопрос анкеты | AG19: 2 | AH19: 2 | AI19: Число получателей услуг, удовлетворённых доброжелательностью, вежливостью работников организации, обеспечивающих первичный контакт и информирование получателя услуги, по отношению к числу опрошенных получателей услуг, ответивших на соответствующий вопрос анкеты | AJ19: 5 | AK19: 6 | AL19: Число получателей услуг, удовлетворённых доброжелательностью, вежливостью работников организации, обеспечивающих непосредственное оказание услуги, по отношению к числу опрошенных получателей услуг, ответивших на соответствующий вопрос анкеты | AM19: 4 | AN19: 4 | AO19: Число получателей услуг, удовлетворённых доброжелательностью, вежливостью работников организации при использовании дистанционных форм взаимодействия, по отношению к числу опрошенных получателей услуг, ответивших на соответствующий вопрос анкеты | AP19: 0 | AQ19: 1 | AR19: Число получателей услуг, которые готовы рекомендовать организацию родственникам и знакомым (могли бы её рекомендовать, если бы была возможность выбора организации), по отношению к числу опрошенных получателей услуг, ответивших на соответствующий вопрос анкеты | AS19: 3 | AT19: 3 | AU19: Число получателей услуг, удовлетворённых организационными условиями предоставления услуг, по отношению к числу опрошенных получателей услуг, ответивших на соответствующий вопрос анкеты | AV19: 4 | AW19: 5 | AX19: Число получателей услуг, удовлетворённых в целом условиями оказания услуг в организации, по отношению к числу опрошенных получателей услуг, ответивших на соответствующиий вопрос анкеты | AY19: 7 | AZ19: 7
A20: 6 | B20: МУНИЦИПАЛЬНОЕ КАЗЕННОЕ УЧРЕЖДЕНИЕ КУЛЬТУРЫ "КУЛЬТУРНО-ДОСУГОВЫЙ ЦЕНТР С. КАКА", 0504007319, культурно-досуговые организации | C20: 27 | D20: 21.0 | E20: Объём информации, размещённой на информационных стендах в помещении организации по отношению к количеству материалов, размещение которых установлено нормативными правовыми актами | F20: 5 | G20: =INDEX('Индикаторы'!G30:G31,MATCH('Сведения о независимой оценке'!E20,'Индикаторы'!E30:E31,0)) -> 10 | H20: Объём информации, размещённой на официальном сайте организации по отношению к количеству материалов, размещение которых установлено нормативными правовыми актами | I20: 3 | J20: =INDEX('Индикаторы'!J30:J31,MATCH('Сведения о независимой оценке'!H20,'Индикаторы'!H30:H31,0)) -> 10 | K20: Количество функционирующих способов взаимодействия (от одного до трёх включительно) | L20: 2 | M20: =INDEX('Индикаторы'!M30:M32,MATCH('Сведения о независимой оценке'!K20,'Индикаторы'!K30:K32,0)) -> 30 | N20: Число получателей услуг, удовлетворённых качеством, полнотой и доступностью информации о деятельности организации, размещённой на информационных стендах в помещении организации по отношению к числу опрошенных получателей услуг, ответивших на соответствующий вопрос анкеты | O20: 8 | P20: 15 | Q20: Число получателей услуг, удовлетворённых качеством, полнотой и доступностью информации о деятельности организации, размещённой на официальном сайте организации по отношению к числу опрошенных получателей услуг, ответивших на соответствующий вопрос анкеты | R20: 5 | S20: 11 | T20: Количество комфортных условий для предоставления услуг (от одного до четырёх включительно) | U20: 3 | V20: =INDEX('Индикаторы'!V30:V32,MATCH('Сведения о независимой оценке'!T20,'Индикаторы'!T30:T32,0)) -> 20 | W20: Число получателей услуг, удовлетворённых комфортностью предоставления услуг организацией, по отношению к числу опрошенных получателей услуг, ответивших на данный вопрос | X20: 7 | Y20: 10 | Z20: Отсутствуют условия доступности для инвалидов | AB20: =INDEX('Индикаторы'!AB30:AB32,MATCH('Сведения о независимой оценке'!Z20,'Индикаторы'!Z30:Z32,0)) -> 0 | AC20: Отсутствуют условия доступности, позволяющие инвалидам получать услуги наравне с другими | AE20: =INDEX('Индикаторы'!AE30:AE32,MATCH('Сведения о независимой оценке'!AC20,'Индикаторы'!AC30:AC32,0)) -> 0 | AF20: Число получателей услуг-инвалидов, удовлетворённых доступностью услуг для инвалидов, по отношению к числу опрошенных получателей услуг-инвалидов, ответивших на соответствующий вопрос анкеты | AG20: 4 | AH20: 6 | AI20: Число получателей услуг, удовлетворённых доброжелательностью, вежливостью работников организации, обеспечивающих первичный контакт и информирование получателя услуги, по отношению к числу опрошенных получателей услуг, ответивших на соответствующий вопрос анкеты | AJ20: 17 | AK20: 21 | AL20: Число получателей услуг, удовлетворённых доброжелательностью, вежливостью работников организации, обеспечивающих непосредственное оказание услуги, по отношению к числу опрошенных получателей услуг, ответивших на соответствующий вопрос анкеты | AM20: 12 | AN20: 15 | AO20: Число получателей услуг, удовлетворённых доброжелательностью, вежливостью работников организации при использовании дистанционных форм взаимодействия, по отношению к числу опрошенных получателей услуг, ответивших на соответствующий вопрос анкеты | AP20: 18 | AQ20: 21 | AR20: Число получателей услуг, которые готовы рекомендовать организацию родственникам и знакомым (могли бы её рекомендовать, если бы была возможность выбора организации), по отношению к числу опрошенных получателей услуг, ответивших на соответствующий вопрос анкеты | AS20: 5 | AT20: 9 | AU20: Число получателей услуг, удовлетворённых организационными условиями предоставления услуг, по отношению к числу опрошенных получателей услуг, ответивших на соответствующий вопрос анкеты | AV20: 3 | AW20: 5 | AX20: Число получателей услуг, удовлетворённых в целом условиями оказания услуг в организации, по отношению к числу опрошенных получателей услуг, ответивших на соответствующиий вопрос анкеты | AY20: 4 | AZ20: 7
A21: 7 | B21: МУНИЦИПАЛЬНОЕ КАЗЕННОЕ УЧРЕЖДЕНИЕ КУЛЬТУРЫ "КУЛЬТУРНО-ДОСУГОВЫЙ ЦЕНТР С. ФИЙ" ИМ.АШУГА МАГАМЕДОВА АДИШИРИНА РАМАЗАНОВИЧА, 0504007076, культурно-досуговые организации | C21: 7 | D21: 7.0 | E21: Объём информации, размещённой на информационных стендах в помещении организации по отношению к количеству материалов, размещение которых установлено нормативными правовыми актами | F21: 1 | G21: =INDEX('Индикаторы'!G33:G34,MATCH('Сведения о независимой оценке'!E21,'Индикаторы'!E33:E34,0)) -> 10 | H21: Отсутствует информация о деятельности организации на её официальном сайте | J21: =INDEX('Индикаторы'!J33:J34,MATCH('Сведения о независимой оценке'!H21,'Индикаторы'!H33:H34,0)) -> 0 | K21: Количество функционирующих способов взаимодействия (от одного до трёх включительно) | L21: 1 | M21: =INDEX('Индикаторы'!M33:M35,MATCH('Сведения о независимой оценке'!K21,'Индикаторы'!K33:K35,0)) -> 30 | N21: Число получателей услуг, удовлетворённых качеством, полнотой и доступностью информации о деятельности организации, размещённой на информационных стендах в помещении организации по отношению к числу опрошенных получателей услуг, ответивших на соответствующий вопрос анкеты | O21: 5 | P21: 7 | Q21: Число получателей услуг, удовлетворённых качеством, полнотой и доступностью информации о деятельности организации, размещённой на официальном сайте организации по отношению к числу опрошенных получателей услуг, ответивших на соответствующий вопрос анкеты | R21: 5 | S21: 7 | T21: Количество комфортных условий для предоставления услуг (от одного до четырёх включительно) | U21: 1 | V21: =INDEX('Индикаторы'!V33:V35,MATCH('Сведения о независимой оценке'!T21,'Индикаторы'!T33:T35,0)) -> 20 | W21: Число получателей услуг, удовлетворённых комфортностью предоставления услуг организацией, по отношению к числу опрошенных получателей услуг, ответивших на данный вопрос | X21: 5 | Y21: 7 | Z21: Количество условий доступности организации для инвалидов (от одного до четырёх) | AA21: 1 | AB21: =INDEX('Индикаторы'!AB33:AB35,MATCH('Сведения о независимой оценке'!Z21,'Индикаторы'!Z33:Z35,0)) -> 20 | AC21: Количество условий доступности, позволяющих инвалидам получать услуги наравне с другими (от одного до четырёх) | AD21: 1 | AE21: =INDEX('Индикаторы'!AE33:AE35,MATCH('Сведения о независимой оценке'!AC21,'Индикаторы'!AC33:AC35,0)) -> 20 | AF21: Число получателей услуг-инвалидов, удовлетворённых доступностью услуг для инвалидов, по отношению к числу опрошенных получателей услуг-инвалидов, ответивших на соответствующий вопрос анкеты | AG21: 1 | AH21: 1 | AI21: Число получателей услуг, удовлетворённых доброжелательностью, вежливостью работников организации, обеспечивающих первичный контакт и информирование получателя услуги, по отношению к числу опрошенных получателей услуг, ответивших на соответствующий вопрос анкеты | AJ21: 5 | AK21: 7 | AL21: Число получателей услуг, удовлетворённых доброжелательностью, вежливостью работников организации, обеспечивающих непосредственное оказание услуги, по отношению к числу опрошенных получателей услуг, ответивших на соответствующий вопрос анкеты | AM21: 5 | AN21: 6 | AO21: Число получателей услуг, удовлетворённых доброжелательностью, вежливостью работников организации при использовании дистанционных форм взаимодействия, по отношению к числу опрошенных получателей услуг, ответивших на соответствующий вопрос анкеты | AP21: 5 | AQ21: 6 | AR21: Число получателей услуг, которые готовы рекомендовать организацию родственникам и знакомым (могли бы её рекомендовать, если бы была возможность выбора организации), по отношению к числу опрошенных получателей услуг, ответивших на соответствующий вопрос анкеты | AS21: 5 | AT21: 5 | AU21: Число получателей услуг, удовлетворённых организационными условиями предоставления услуг, по отношению к числу опрошенных получателей услуг, ответивших на соответствующий вопрос анкеты | AV21: 4 | AW21: 5 | AX21: Число получателей услуг, удовлетворённых в целом условиями оказания услуг в организации, по отношению к числу опрошенных получателей услуг, ответивших на соответствующиий вопрос анкеты | AY21: 7 | AZ21: 7
A22: 8 | B22: МУНИЦИПАЛЬНОЕ КАЗЕННОЕ УЧРЕЖДЕНИЕ КУЛЬТУРЫ "КУЛЬТУРНО-ДОСУГОВЫЙ ЦЕНТР С.ХНОВ", 0504006837, культурно-досуговые организации | C22: 19 | D22: 17.0 | E22: Объём информации, размещённой на информационных стендах в помещении организации по отношению к количеству материалов, размещение которых установлено нормативными правовыми актами | F22: 2 | G22: =INDEX('Индикаторы'!G36:G37,MATCH('Сведения о независимой оценке'!E22,'Индикаторы'!E36:E37,0)) -> 10 | H22: Отсутствует информация о деятельности организации на её официальном сайте | J22: =INDEX('Индикаторы'!J36:J37,MATCH('Сведения о независимой оценке'!H22,'Индикаторы'!H36:H37,0)) -> 0 | K22: Количество функционирующих способов взаимодействия (от одного до трёх включительно) | L22: 1 | M22: =INDEX('Индикаторы'!M36:M38,MATCH('Сведения о независимой оценке'!K22,'Индикаторы'!K36:K38,0)) -> 30 | N22: Число получателей услуг, удовлетворённых качеством, полнотой и доступностью информации о деятельности организации, размещённой на информационных стендах в помещении организации по отношению к числу опрошенных получателей услуг, ответивших на соответствующий вопрос анкеты | O22: 15 | P22: 19 | Q22: Число получателей услуг, удовлетворённых качеством, полнотой и доступностью информации о деятельности организации, размещённой на официальном сайте организации по отношению к числу опрошенных получателей услуг, ответивших на соответствующий вопрос анкеты | R22: 15 | S22: 18 | T22: Количество комфортных условий для предоставления услуг (от одного до четырёх включительно) | U22: 1 | V22: =INDEX('Индикаторы'!V36:V38,MATCH('Сведения о независимой оценке'!T22,'Индикаторы'!T36:T38,0)) -> 20 | W22: Число получателей услуг, удовлетворённых комфортностью предоставления услуг организацией, по отношению к числу опрошенных получателей услуг, ответивших на данный вопрос | X22: 10 | Y22: 19 | Z22: Количество условий доступности организации для инвалидов (от одного до четырёх) | AA22: 1 | AB22: =INDEX('Индикаторы'!AB36:AB38,MATCH('Сведения о независимой оценке'!Z22,'Индикаторы'!Z36:Z38,0)) -> 20 | AC22: Количество условий доступности, позволяющих инвалидам получать услуги наравне с другими (от одного до четырёх) | AD22: 1 | AE22: =INDEX('Индикаторы'!AE36:AE38,MATCH('Сведения о независимой оценке'!AC22,'Индикаторы'!AC36:AC38,0)) -> 20 | AF22: Число получателей услуг-инвалидов, удовлетворённых доступностью услуг для инвалидов, по отношению к числу опрошенных получателей услуг-инвалидов, ответивших на соответствующий вопрос анкеты | AG22: 2 | AH22: 2 | AI22: Число получателей услуг, удовлетворённых доброжелательностью, вежливостью работников организации, обеспечивающих первичный контакт и информирование получателя услуги, по отношению к числу опрошенных получателей услуг, ответивших на соответствующий вопрос анкеты | AJ22: 15 | AK22: 19 | AL22: Число получателей услуг, удовлетворённых доброжелательностью, вежливостью работников организации, обеспечивающих непосредственное оказание услуги, по отношению к числу опрошенных получателей услуг, ответивших на соответствующий вопрос анкеты | AM22: 18 | AN22: 19 | AO22: Число получателей услуг, удовлетворённых доброжелательностью, вежливостью работников организации при использовании дистанционных форм взаимодействия, по отношению к числу опрошенных получателей услуг, ответивших на соответствующий вопрос анкеты | AP22: 17 | AQ22: 19 | AR22: Число получателей услуг, которые готовы рекомендовать организацию родственникам и знакомым (могли бы её рекомендовать, если бы была возможность выбора организации), по отношению к числу опрошенных получателей услуг, ответивших на соответствующий вопрос анкеты | AS22: 15 | AT22: 18 | AU22: Число получателей услуг, удовлетворённых организационными условиями предоставления услуг, по отношению к числу опрошенных получателей услуг, ответивших на соответствующий вопрос анкеты | AV22: 14 | AW22: 15 | AX22: Число получателей услуг, удовлетворённых в целом условиями оказания услуг в организации, по отношению к числу опрошенных получателей услуг, ответивших на соответствующиий вопрос анкеты | AY22: 16 | AZ22: 18
A23: 9 | B23: МУНИЦИПАЛЬНОЕ КАЗЕННОЕ УЧРЕЖДЕНИЕ КУЛЬТУРЫ "МЕЖПОСЕЛЕНЧЕСКИЙ КУЛЬТУРНО-ДОСУГОВЫЙ ЦЕНТР МУНИЦИПАЛЬНОГО РАЙОНА "АХТЫНСКИЙ РАЙОН", 0504007990, культурно-досуговые организации | C23: 8 | D23: 7.0 | E23: Объём информации, размещённой на информационных стендах в помещении организации по отношению к количеству материалов, размещение которых установлено нормативными правовыми актами | F23: 1 | G23: =INDEX('Индикаторы'!G39:G40,MATCH('Сведения о независимой оценке'!E23,'Индикаторы'!E39:E40,0)) -> 10 | H23: Отсутствует информация о деятельности организации на её официальном сайте | J23: =INDEX('Индикаторы'!J39:J40,MATCH('Сведения о независимой оценке'!H23,'Индикаторы'!H39:H40,0)) -> 0 | K23: Количество функционирующих способов взаимодействия (от одного до трёх включительно) | L23: 2 | M23: =INDEX('Индикаторы'!M39:M41,MATCH('Сведения о независимой оценке'!K23,'Индикаторы'!K39:K41,0)) -> 30 | N23: Число получателей услуг, удовлетворённых качеством, полнотой и доступностью информации о деятельности организации, размещённой на информационных стендах в помещении организации по отношению к числу опрошенных получателей услуг, ответивших на соответствующий вопрос анкеты | O23: 5 | P23: 7 | Q23: Число получателей услуг, удовлетворённых качеством, полнотой и доступностью информации о деятельности организации, размещённой на официальном сайте организации по отношению к числу опрошенных получателей услуг, ответивших на соответствующий вопрос анкеты | R23: 5 | S23: 7 | T23: Количество комфортных условий для предоставления услуг (от одного до четырёх включительно) | U23: 2 | V23: =INDEX('Индикаторы'!V39:V41,MATCH('Сведения о независимой оценке'!T23,'Индикаторы'!T39:T41,0)) -> 20 | W23: Число получателей услуг, удовлетворённых комфортностью предоставления услуг организацией, по отношению к числу опрошенных получателей услуг, ответивших на данный вопрос | X23: 7 | Y23: 8 | Z23: Количество условий доступности организации для инвалидов (от одного до четырёх) | AA23: 2 | AB23: =INDEX('Индикаторы'!AB39:AB41,MATCH('Сведения о независимой оценке'!Z23,'Индикаторы'!Z39:Z41,0)) -> 20 | AC23: Количество условий доступности, позволяющих инвалидам получать услуги наравне с другими (от одного до четырёх) | AD23: 2 | AE23: =INDEX('Индикаторы'!AE39:AE41,MATCH('Сведения о независимой оценке'!AC23,'Индикаторы'!AC39:AC41,0)) -> 20 | AF23: Число получателей услуг-инвалидов, удовлетворённых доступностью услуг для инвалидов, по отношению к числу опрошенных получателей услуг-инвалидов, ответивших на соответствующий вопрос анкеты | AG23: 7 | AH23: 8 | AI23: Число получателей услуг, удовлетворённых доброжелательностью, вежливостью работников организации, обеспечивающих первичный контакт и информирование получателя услуги, по отношению к числу опрошенных получателей услуг, ответивших на соответствующий вопрос анкеты | AJ23: 6 | AK23: 7 | AL23: Число получателей услуг, удовлетворённых доброжелательностью, вежливостью работников организации, обеспечивающих непосредственное оказание услуги, по отношению к числу опрошенных получателей услуг, ответивших на соответствующий вопрос анкеты | AM23: 5 | AN23: 5 | AO23: Число получателей услуг, удовлетворённых доброжелательностью, вежливостью работников организации при использовании дистанционных форм взаимодействия, по отношению к числу опрошенных получателей услуг, ответивших на соответствующий вопрос анкеты | AP23: 5 | AQ23: 7 | AR23: Число получателей услуг, которые готовы рекомендовать организацию родственникам и знакомым (могли бы её рекомендовать, если бы была возможность выбора организации), по отношению к числу опрошенных получателей услуг, ответивших на соответствующий вопрос анкеты | AS23: 4 | AT23: 5 | AU23: Число получателей услуг, удовлетворённых организационными условиями предоставления услуг, по отношению к числу опрошенных получателей услуг, ответивших на соответствующий вопрос анкеты | AV23: 5 | AW23: 5 | AX23: Число получателей услуг, удовлетворённых в целом условиями оказания услуг в организации, по отношению к числу опрошенных получателей услуг, ответивших на соответствующиий вопрос анкеты | AY23: 4 | AZ23: 5

Sheet Индикаторы
A9: № п.п. | B9: Организация | C9: Количество респондентов | D9: Доля респондентов | E9: Общие критерии оценки
E10: 1 - критерий открытости и доступности информации об организации | T10: 2 - критерий комфортности условий предоставления услуги, в том числе время ожидания ее предоставления | Z10: 3 - критерий доступности услуг для инвалидов | AI10: 4 - критерий доброжелательности, вежливости работников организации | AR10: 5 - критерий удовлетворенности условиями оказания услуг
E11: Показатели | T11: Показатели | Z11: Показатели | AI11: Показатели | AR11: Показатели
E12: 1.1 Соответствие информации о деятельности организации социальной сферы, размещенной на общедоступных информационных ресурсах, ее содержанию и порядку (форме), установленным законодательными и иными нормативными правовыми актами Российской Федерации | K12: 1.2 Наличие на официальном сайте организации социальной сферы информации о дистанционных способах обратной связи и взаимодействия с получателями услуг и их функционирование | N12: 1.3 Доля получателей услуг, удовлетворенных открытостью, полнотой и доступностью информации о деятельности организации социальной сферы | T12: 2.1 Обеспечение в организации социальной сферы комфортных условий предоставления услуг | W12: 2.3 Доля получателей услуг удовлетворенных комфортностью предоставления услуг организацией социальной сферы | Z12: 3.1 Оборудование помещений организации социальной сферы и прилегающей к ней территории с учетом доступности для инвалидов | AC12: 3.2 Обеспечение в организации социальной сферы условий доступности, позволяющих инвалидам получать услуги наравне с другими | AF12: 3.3 Доля получателей услуг, удовлетворенных доступностью услуг для инвалидов | AI12: 4.1 Доля получателей услуг, удовлетворенных доброжелательностью, вежливостью работников организации социальной сферы, обеспечивающих первичный контакт и информирование получателя услуги при непосредственном обращении в организацию социальной сферы | AL12: 4.2 Доля получателей услуг, удовлетворенных доброжелательностью, вежливостью работников организации социальной сферы, обеспечивающих непосредственное оказание услуги при обращении в организацию социальной сферы | AO12: 4.3 Доля получателей услуг, удовлетворенных доброжелательностью, вежливостью работников организации социальной сферы при использовании дистанционных форм взаимодействия | AR12: 5.1 Доля получателей услуг, которые готовы рекомендовать организацию социальной сферы родственникам и знакомым (могли бы ее рекомендовать, если бы была возможность выбора организации социальной сферы) | AU12: 5.2 Доля получателей услуг, удовлетворенных организационными условиями предоставления услуг | AX12: 5.3 Доля получателей услуг, удовлетворенных в целом условиями оказания услуг в организации социальной сферы
E13: 1.1.1 - Соответствие информации о деятельности организации социальной сферы, размещенной на информационных стендах в помещении организации социальной сферы, ее содержанию и порядку (форме), установленным нормативными правовыми актами. | H13: 1.1.2 - Соответствие информации о деятельности организации социальной сферы, размещенной на официальном сайте организации социальной сферы, ее содержанию и порядку (форме), установленным нормативными правовыми актами. | K13: 1.2.1 - Наличие и функционирование на официальном сайте организации информации о дистанционных способах взаимодействия с получателями услуг: телефона; электронной почты; электронных сервисов (форма для подачи электронного обращения (жалобы, предложения), получение консультации по оказываемым услугам и пр.); раздела «Часто задаваемые вопросы»; технической возможности выражения получателем услуг мнения о качестве условий оказания услуг организацией социальной сферы (наличие анкеты для опроса граждан или гиперссылки на нее); иного дистанционного способа взаимодействия. | N13: 1.3.1 - Удовлетворенность качеством, полнотой и доступностью информации о деятельности организации социальной сферы, размещенной на информационных стендах в помещении организации социальной сферы. | Q13: 1.3.2 - Удовлетворенность качеством, полнотой и доступностью информации о деятельности организации социальной сферы, размещенной на официальном сайте организации социальной сферы в сети «Интернет». | T13: 2.1.1 - Наличие комфортных условий для предоставления услуг, например: наличие комфортной зоны отдыха (ожидания), оборудованной соответствующей мебелью; наличие и понятность навигации внутри организации социальной сферы; наличие и доступность питьевой воды; наличие и доступность санитарно-гигиенических помещений; санитарное состояние помещений организации социальной сферы; транспортная доступность (возможность доехать до организации социальной сферы на общественном транспорте, наличие парковки); доступность записи на получение услуги (по телефону, на официальном сайте организации социальной сферы в сети Интернет, посредством Единого портала государственных и муниципальных услуг, при личном посещении в регистратуре или у специалиста организации социальной сферы и пр.); иные параметры комфортных условий, установленные ведомственным актом уполномоченного федерального органа исполнительной власти. | W13: 2.3.1 - Удовлетворенность комфортностью предоставления услуг организацией социальной сферы. | Z13: 3.1.1 - Наличие в помещениях организации социальной сферы и на прилегающей к ней территории: оборудованных входных групп пандусами (подъемными платформами); выделенных стоянок для автотранспортных средств инвалидов; адаптированных лифтов, поручней, расширенных дверных проемов; сменных кресел-колясок; специально оборудованных санитарно-гигиенических помещений в организации социальной сферы. | AC13: 3.2.1 - Наличие в организации социальной сферы условий доступности, позволяющих инвалидам получать услуги наравне с другими: дублирование для инвалидов по слуху и зрению звуковой и зрительной информации; дублирование надписей, знаков и иной текстовой и графической информации знаками, выполненными рельефно-точечным шрифтом Брайля; возможность предоставления инвалидам по слуху (слуху и зрению) услуг сурдопереводчика (тифлосурдопереводчика); наличие альтернативной версии официального сайта организации социальной сферы в сети Интернет для инвалидов по зрению; помощь, оказываемая работниками организации социальной сферы, прошедшими необходимое обучение (инструктирование) по сопровождению инвалидов в помещениях организации социальной сферы и на прилегающей территории; наличие возможности предоставления услуги в дистанционном режиме или на дому. | AF13: 3.3.1 - Удовлетворенность доступностью услуг для инвалидов. | AI13: 4.1.1 - Удовлетворенность доброжелательностью, вежливостью работников организации социальной сферы, обеспечивающих первичный контакт и информирование получателя услуги (работники справочной, приемного отделения, регистратуры, кассы и прочие работники) при непосредственном обращении в организацию социальной сферы. | AL13: 4.2.1 - Удовлетворенность доброжелательностью, вежливостью работников организации социальной сферы, обеспечивающих непосредственное оказание услуги (врачи, социальные работники, работники, осуществляющие экспертно-реабилитационную диагностику, преподаватели, тренеры, инструкторы, библиотекари, экскурсоводы и прочие работники) при обращении в организацию социальной сферы. | AO13: 4.3.1 - Удовлетворенность доброжелательностью, вежливостью работников организации социальной сферы при использовании дистанционных форм взаимодействия (по телефону, по электронной почте, с помощью электронных сервисов (подачи электронного обращения (жалобы, предложения), получения консультации по оказываемым услугам и пр.). | AR13: 5.1.1 - Готовность получателей услуг рекомендовать организацию социальной сферы родственникам и знакомым. | AU13: 5.2.1 - Удовлетворенность получателей услуг организационными условиями оказания услуг, например: наличием и понятностью навигации внутри организации социальной сферы; графиком работы организации социальной сферы (подразделения, отдельных специалистов, графиком прихода социального работника на дом и пр.). | AX13: 5.3.1 - Удовлетворенность получателей услуг в целом условиями оказания услуг в организации социальной сферы.
E14: Наименование индикатора | F14: Выполнение индикатора | H14: Наименование индикатора | I14: Выполнение индикатора | K14: Наименование индикатора | L14: Выполнение индикатора | N14: Наименование индикатора | O14: Выполнение индикатора | Q14: Наименование индикатора | R14: Выполнение индикатора | T14: Наименование индикатора | U14: Выполнение индикатора | W14: Наименование индикатора | X14: Выполнение индикатора | Z14: Наименование индикатора | AA14: Выполнение индикатора | AC14: Наименование индикатора | AD14: Выполнение индикатора | AF14: Наименование индикатора | AG14: Выполнение индикатора | AI14: Наименование индикатора | AJ14: Выполнение индикатора | AL14: Наименование индикатора | AM14: Выполнение индикатора | AO14: Наименование индикатора | AP14: Выполнение индикатора | AR14: Наименование индикатора | AS14: Выполнение индикатора | AU14: Наименование индикатора | AV14: Выполнение индикатора | AX14: Наименование индикатора | AY14: Выполнение индикатора
A15: 3 | B15: МУНИЦИПАЛЬНОЕ КАЗЕННОЕ УЧРЕЖДЕНИЕ КУЛЬТУРЫ "КУЛЬТУРНО-ДОСУГОВЫЙ ЦЕНТР "АДМИНИСТРАЦИЯ СЕЛЬСКОГО ПОСЕЛЕНИЯ "СЕЛЬСОВЕТ АХТЫНСКИЙ", 0504008305, культурно-досуговые организации | C15: 37 | D15: 35.0 | E15: Отсутствует информация о деятельности организации | G15: 0 | H15: Отсутствует информация о деятельности организации на её официальном сайте | J15: 0 | K15: Отсутствуют или не функционируют дистанционные способы взаимодействия | M15: 0 | N15: Число получателей услуг, удовлетворённых качеством, полнотой и доступностью информации о деятельности организации, размещённой на информационных стендах в помещении организации по отношению к числу опрошенных получателей услуг, ответивших на соответствующий вопрос анкеты | O15: 34 | P15: 37 | Q15: Число получателей услуг, удовлетворённых качеством, полнотой и доступностью информации о деятельности организации, размещённой на официальном сайте организации по отношению к числу опрошенных получателей услуг, ответивших на соответствующий вопрос анкеты | R15: 35 | S15: 37 | T15: Отсутствуют комфортные условия | V15: 0 | W15: Число получателей услуг, удовлетворённых комфортностью предоставления услуг организацией, по отношению к числу опрошенных получателей услуг, ответивших на данный вопрос | X15: 30 | Y15: 34 | Z15: Отсутствуют условия доступности для инвалидов | AB15: 0 | AC15: Отсутствуют условия доступности, позволяющие инвалидам получать услуги наравне с другими | AE15: 0 | AF15: Число получателей услуг-инвалидов, удовлетворённых доступностью услуг для инвалидов, по отношению к числу опрошенных получателей услуг-инвалидов, ответивших на соответствующий вопрос анкеты | AG15: 4 | AH15: 5 | AI15: Число получателей услуг, удовлетворённых доброжелательностью, вежливостью работников организации, обеспечивающих первичный контакт и информирование получателя услуги, по отношению к числу опрошенных получателей услуг, ответивших на соответствующий вопрос анкеты | AJ15: 30 | AK15: 31 | AL15: Число получателей услуг, удовлетворённых доброжелательностью, вежливостью работников организации, обеспечивающих непосредственное оказание услуги, по отношению к числу опрошенных получателей услуг, ответивших на соответствующий вопрос анкеты | AM15: 23 | AN15: 25 | AO15: Число получателей услуг, удовлетворённых доброжелательностью, вежливостью работников организации при использовании дистанционных форм взаимодействия, по отношению к числу опрошенных получателей услуг, ответивших на соответствующий вопрос анкеты | AP15: 31 | AQ15: 35 | AR15: Число получателей услуг, которые готовы рекомендовать организацию родственникам и знакомым (могли бы её рекомендовать, если бы была возможность выбора организации), по отношению к числу опрошенных получателей услуг, ответивших на соответствующий вопрос анкеты | AS15: 27 | AT15: 31 | AU15: Число получателей услуг, удовлетворённых организационными условиями предоставления услуг, по отношению к числу опрошенных получателей услуг, ответивших на соответствующий вопрос анкеты | AV15: 29 | AW15: 31 | AX15: Число получателей услуг, удовлетворённых в целом условиями оказания услуг в организации, по отношению к числу опрошенных получателей услуг, ответивших на соответствующиий вопрос анкеты | AY15: 35 | AZ15: 37
A16: 3 | B16: МУНИЦИПАЛЬНОЕ КАЗЕННОЕ УЧРЕЖДЕНИЕ КУЛЬТУРЫ "КУЛЬТУРНО-ДОСУГОВЫЙ ЦЕНТР "АДМИНИСТРАЦИЯ СЕЛЬСКОГО ПОСЕЛЕНИЯ "СЕЛЬСОВЕТ АХТЫНСКИЙ", 0504008305, культурно-досуговые организации | C16: 37 | D16: 35.0 | E16: Объём информации, размещённой на информационных стендах в помещении организации по отношению к количеству материалов, размещение которых установлено нормативными правовыми актами | F16: 9 | G16: 10 | H16: Объём информации, размещённой на официальном сайте организации по отношению к количеству материалов, размещение которых установлено нормативными правовыми актами | J16: 100 | K16: Количество функционирующих способов взаимодействия (от одного до трёх включительно) | L16: 2 | M16: 30 | T16: Количество комфортных условий для предоставления услуг (от одного до четырёх включительно) | U16: 2 | V16: 20 | Z16: Количество условий доступности организации для инвалидов (от одного до четырёх) | AA16: 2 | AB16: 20 | AC16: Количество условий доступности, позволяющих инвалидам получать услуги наравне с другими (от одного до четырёх) | AD16: 2 | AE16: 20
A17: 3 | B17: МУНИЦИПАЛЬНОЕ КАЗЕННОЕ УЧРЕЖДЕНИЕ КУЛЬТУРЫ "КУЛЬТУРНО-ДОСУГОВЫЙ ЦЕНТР "АДМИНИСТРАЦИЯ СЕЛЬСКОГО ПОСЕЛЕНИЯ "СЕЛЬСОВЕТ АХТЫНСКИЙ", 0504008305, культурно-досуговые организации | C17: 37 | D17: 35.0 | K17: В наличии и функционируют более трёх дистанционных способов взаимодействия | M17: 100 | T17: Наличие пяти и более комфортных условий для предоставления услуг | V17: 100 | Z17: Наличие пяти и более условий доступности для инвалидов | AB17: 100 | AC17: Наличие пяти и более условий доступности | AE17: 100
A18: 4 | B18: МУНИЦИПАЛЬНОЕ КАЗЕННОЕ УЧРЕЖДЕНИЕ КУЛЬТУРЫ "КУЛЬТУРНО-ДОСУГОВЫЙ ЦЕНТР" МО" СЕЛО ЯЛАК", 0504007622, культурно-досуговые организации | C18: 8 | D18: 6.0 | E18: Отсутствует информация о деятельности организации | G18: 0 | H18: Отсутствует информация о деятельности организации на её официальном сайте | J18: 0 | K18: Отсутствуют или не функционируют дистанционные способы взаимодействия | M18: 0 | N18: Число получателей услуг, удовлетворённых качеством, полнотой и доступностью информации о деятельности организации, размещённой на информационных стендах в помещении организации по отношению к числу опрошенных получателей услуг, ответивших на соответствующий вопрос анкеты | O18: 3 | P18: 7 | Q18: Число получателей услуг, удовлетворённых качеством, полнотой и доступностью информации о деятельности организации, размещённой на официальном сайте организации по отношению к числу опрошенных получателей услуг, ответивших на соответствующий вопрос анкеты | R18: 1 | S18: 7 | T18: Отсутствуют комфортные условия | V18: 0 | W18: Число получателей услуг, удовлетворённых комфортностью предоставления услуг организацией, по отношению к числу опрошенных получателей услуг, ответивших на данный вопрос | X18: 2 | Y18: 5 | Z18: Отсутствуют условия доступности для инвалидов | AB18: 0 | AC18: Отсутствуют условия доступности, позволяющие инвалидам получать услуги наравне с другими | AE18: 0 | AF18: Число получателей услуг-инвалидов, удовлетворённых доступностью услуг для инвалидов, по отношению к числу опрошенных получателей услуг-инвалидов, ответивших на соответствующий вопрос анкеты | AG18: 1 | AH18: 1 | AI18: Число получателей услуг, удовлетворённых доброжелательностью, вежливостью работников организации, обеспечивающих первичный контакт и информирование получателя услуги, по отношению к числу опрошенных получателей услуг, ответивших на соответствующий вопрос анкеты | AJ18: 1 | AK18: 3 | AL18: Число получателей услуг, удовлетворённых доброжелательностью, вежливостью работников организации, обеспечивающих непосредственное оказание услуги, по отношению к числу опрошенных получателей услуг, ответивших на соответствующий вопрос анкеты | AM18: 3 | AN18: 3 | AO18: Число получателей услуг, удовлетворённых доброжелательностью, вежливостью работников организации при использовании дистанционных форм взаимодействия, по отношению к числу опрошенных получателей услуг, ответивших на соответствующий вопрос анкеты | AP18: 2 | AQ18: 3 | AR18: Число получателей услуг, которые готовы рекомендовать организацию родственникам и знакомым (могли бы её рекомендовать, если бы была возможность выбора организации), по отношению к числу опрошенных получателей услуг, ответивших на соответствующий вопрос анкеты | AS18: 3 | AT18: 4 | AU18: Число получателей услуг, удовлетворённых организационными условиями предоставления услуг, по отношению к числу опрошенных получателей услуг, ответивших на соответствующий вопрос анкеты | AV18: 5 | AW18: 5 | AX18: Число получателей услуг, удовлетворённых в целом условиями оказания услуг в организации, по отношению к числу опрошенных получателей услуг, ответивших на соответствующиий вопрос анкеты | AY18: 5 | AZ18: 5
A19: 4 | B19: МУНИЦИПАЛЬНОЕ КАЗЕННОЕ УЧРЕЖДЕНИЕ КУЛЬТУРЫ "КУЛЬТУРНО-ДОСУГОВЫЙ ЦЕНТР" МО" СЕЛО ЯЛАК", 0504007622, культурно-досуговые организации | C19: 8 | D19: 6.0 | E19: Объём информации, размещённой на информационных стендах в помещении организации по отношению к количеству материалов, размещение которых установлено нормативными правовыми актами | F19: 1 | G19: 10 | H19: Объём информации, размещённой на официальном сайте организации по отношению к количеству материалов, размещение которых установлено нормативными правовыми актами | I19: 1 | J19: 10 | K19: Количество функционирующих способов взаимодействия (от одного до трёх включительно) | L19: 1 | M19: 30 | T19: Количество комфортных условий для предоставления услуг (от одного до четырёх включительно) | U19: 1 | V19: 20 | Z19: Количество условий доступности организации для инвалидов (от одного до четырёх) | AA19: 1 | AB19: 20 | AC19: Количество условий доступности, позволяющих инвалидам получать услуги наравне с другими (от одного до четырёх) | AE19: 20
A20: 4 | B20: МУНИЦИПАЛЬНОЕ КАЗЕННОЕ УЧРЕЖДЕНИЕ КУЛЬТУРЫ "КУЛЬТУРНО-ДОСУГОВЫЙ ЦЕНТР" МО" СЕЛО ЯЛАК", 0504007622, культурно-досуговые организации | C20: 8 | D20: 6.0 | K20: В наличии и функционируют более трёх дистанционных способов взаимодействия | M20: 100 | T20: Наличие пяти и более комфортных условий для предоставления услуг | V20: 100 | Z20: Наличие пяти и более условий доступности для инвалидов | AB20: 100 | AC20: Наличие пяти и более условий доступности | AE20: 100
A21: 5 | B21: МУНИЦИПАЛЬНОЕ КАЗЕННОЕ УЧРЕЖДЕНИЕ КУЛЬТУРЫ "КУЛЬТУРНО-ДОСУГОВЫЙ ЦЕНТР""СЕЛЬСОВЕТ СМУГУЛЬСКИЙ", 0504007855, культурно-досуговые организации | C21: 12 | D21: 9.0 | E21: Отсутствует информация о деятельности организации | G21: 0 | H21: Отсутствует информация о деятельности организации на её официальном сайте | J21: 0 | K21: Отсутствуют или не функционируют дистанционные способы взаимодействия | M21: 0 | N21: Число получателей услуг, удовлетворённых качеством, полнотой и доступностью информации о деятельности организации, размещённой на информационных стендах в помещении организации по отношению к числу опрошенных получателей услуг, ответивших на соответствующий вопрос анкеты | O21: 9 | P21: 10 | Q21: Число получателей услуг, удовлетворённых качеством, полнотой и доступностью информации о деятельности организации, размещённой на официальном сайте организации по отношению к числу опрошенных получателей услуг, ответивших на соответствующий вопрос анкеты | R21: 9 | S21: 10 | T21: Отсутствуют комфортные условия | V21: 0 | W21: Число получателей услуг, удовлетворённых комфортностью предоставления услуг организацией, по отношению к числу опрошенных получателей услуг, ответивших на данный вопрос | X21: 8 | Y21: 9 | Z21: Отсутствуют условия доступности для инвалидов | AB21: 0 | AC21: Отсутствуют условия доступности, позволяющие инвалидам получать услуги наравне с другими | AE21: 0 | AF21: Число получателей услуг-инвалидов, удовлетворённых доступностью услуг для инвалидов, по отношению к числу опрошенных получателей услуг-инвалидов, ответивших на соответствующий вопрос анкеты | AG21: 1 | AH21: 1 | AI21: Число получателей услуг, удовлетворённых доброжелательностью, вежливостью работников организации, обеспечивающих первичный контакт и информирование получателя услуги, по отношению к числу опрошенных получателей услуг, ответивших на соответствующий вопрос анкеты | AJ21: 5 | AK21: 8 | AL21: Число получателей услуг, удовлетворённых доброжелательностью, вежливостью работников организации, обеспечивающих непосредственное оказание услуги, по отношению к числу опрошенных получателей услуг, ответивших на соответствующий вопрос анкеты | AM21: 11 | AN21: 11 | AO21: Число получателей услуг, удовлетворённых доброжелательностью, вежливостью работников организации при использовании дистанционных форм взаимодействия, по отношению к числу опрошенных получателей услуг, ответивших на соответствующий вопрос анкеты | AP21: 10 | AQ21: 11 | AR21: Число получателей услуг, которые готовы рекомендовать организацию родственникам и знакомым (могли бы её рекомендовать, если бы была возможность выбора организации), по отношению к числу опрошенных получателей услуг, ответивших на соответствующий вопрос анкеты | AS21: 9 | AT21: 9 | AU21: Число получателей услуг, удовлетворённых организационными условиями предоставления услуг, по отношению к числу опрошенных получателей услуг, ответивших на соответствующий вопрос анкеты | AV21: 9 | AW21: 11 | AX21: Число получателей услуг, удовлетворённых в целом условиями оказания услуг в организации, по отношению к числу опрошенных получателей услуг, ответивших на соответствующиий вопрос анкеты | AY21: 11 | AZ21: 12
A22: 5 | B22: МУНИЦИПАЛЬНОЕ КАЗЕННОЕ УЧРЕЖДЕНИЕ КУЛЬТУРЫ "КУЛЬТУРНО-ДОСУГОВЫЙ ЦЕНТР""СЕЛЬСОВЕТ СМУГУЛЬСКИЙ", 0504007855, культурно-досуговые организации | C22: 12 | D22: 9.0 | E22: Объём информации, размещённой на информационных стендах в помещении организации по отношению к количеству материалов, размещение которых установлено нормативными правовыми актами | F22: 1 | G22: 10 | H22: Объём информации, размещённой на официальном сайте организации по отношению к количеству материалов, размещение которых установлено нормативными правовыми актами | J22: 100 | K22: Количество функционирующих способов взаимодействия (от одного до трёх включительно) | L22: 1 | M22: 30 | T22: Количество комфортных условий для предоставления услуг (от одного до четырёх включительно) | U22: 1 | V22: 20 | Z22: Количество условий доступности организации для инвалидов (от одного до четырёх) | AA22: 1 | AB22: 20 | AC22: Количество условий доступности, позволяющих инвалидам получать услуги наравне с другими (от одного до четырёх) | AD22: 1 | AE22: 20
A23: 5 | B23: МУНИЦИПАЛЬНОЕ КАЗЕННОЕ УЧРЕЖДЕНИЕ КУЛЬТУРЫ "КУЛЬТУРНО-ДОСУГОВЫЙ ЦЕНТР""СЕЛЬСОВЕТ СМУГУЛЬСКИЙ", 0504007855, культурно-досуговые организации | C23: 12 | D23: 9.0 | K23: В наличии и функционируют более трёх дистанционных способов взаимодействия | M23: 100 | T23: Наличие пяти и более комфортных условий для предоставления услуг | V23: 100 | Z23: Наличие пяти и более условий доступности для инвалидов | AB23: 100 | AC23: Наличие пяти и более условий доступности | AE23: 100
A24: 6 | B24: МУНИЦИПАЛЬНОЕ КАЗЕННОЕ УЧРЕЖДЕНИЕ КУЛЬТУРЫ "КУЛЬТУРНО-ДОСУГОВЫЙ ЦЕНТР С. ГДЫМ", 0504007125, культурно-досуговые организации | C24: 9 | D24: 9.0 | E24: Отсутствует информация о деятельности организации | G24: 0 | H24: Отсутствует информация о деятельности организации на её официальном сайте | J24: 0 | K24: Отсутствуют или не функционируют дистанционные способы взаимодействия | M24: 0 | N24: Число получателей услуг, удовлетворённых качеством, полнотой и доступностью информации о деятельности организации, размещённой на информационных стендах в помещении организации по отношению к числу опрошенных получателей услуг, ответивших на соответствующий вопрос анкеты | O24: 7 | P24: 9 | Q24: Число получателей услуг, удовлетворённых качеством, полнотой и доступностью информации о деятельности организации, размещённой на официальном сайте организации по отношению к числу опрошенных получателей услуг, ответивших на соответствующий вопрос анкеты | R24: 8 | S24: 9 | T24: Отсутствуют комфортные условия | V24: 0 | W24: Число получателей услуг, удовлетворённых комфортностью предоставления услуг организацией, по отношению к числу опрошенных получателей услуг, ответивших на данный вопрос | X24: 5 | Y24: 9 | Z24: Отсутствуют условия доступности для инвалидов | AB24: 0 | AC24: Отсутствуют условия доступности, позволяющие инвалидам получать услуги наравне с другими | AE24: 0 | AF24: Число получателей услуг-инвалидов, удовлетворённых доступностью услуг для инвалидов, по отношению к числу опрошенных получателей услуг-инвалидов, ответивших на соответствующий вопрос анкеты | AG24: 1 | AH24: 2 | AI24: Число получателей услуг, удовлетворённых доброжелательностью, вежливостью работников организации, обеспечивающих первичный контакт и информирование получателя услуги, по отношению к числу опрошенных получателей услуг, ответивших на соответствующий вопрос анкеты | AJ24: 8 | AK24: 9 | AL24: Число получателей услуг, удовлетворённых доброжелательностью, вежливостью работников организации, обеспечивающих непосредственное оказание услуги, по отношению к числу опрошенных получателей услуг, ответивших на соответствующий вопрос анкеты | AM24: 8 | AN24: 9 | AO24: Число получателей услуг, удовлетворённых доброжелательностью, вежливостью работников организации при использовании дистанционных форм взаимодействия, по отношению к числу опрошенных получателей услуг, ответивших на соответствующий вопрос анкеты | AP24: 8 | AQ24: 9 | AR24: Число получателей услуг, которые готовы рекомендовать организацию родственникам и знакомым (могли бы её рекомендовать, если бы была возможность выбора организации), по отношению к числу опрошенных получателей услуг, ответивших на соответствующий вопрос анкеты | AS24: 4 | AT24: 8 | AU24: Число получателей услуг, удовлетворённых организационными условиями предоставления услуг, по отношению к числу опрошенных получателей услуг, ответивших на соответствующий вопрос анкеты | AV24: 6 | AW24: 8 | AX24: Число получателей услуг, удовлетворённых в целом условиями оказания услуг в организации, по отношению к числу опрошенных получателей услуг, ответивших на соответствующиий вопрос анкеты | AY24: 5 | AZ24: 9
A25: 6 | B25: МУНИЦИПАЛЬНОЕ КАЗЕННОЕ УЧРЕЖДЕНИЕ КУЛЬТУРЫ "КУЛЬТУРНО-ДОСУГОВЫЙ ЦЕНТР С. ГДЫМ", 0504007125, культурно-досуговые организации | C25: 9 | D25: 9.0 | E25: Объём информации, размещённой на информационных стендах в помещении организации по отношению к количеству материалов, размещение которых установлено нормативными правовыми актами | F25: 1 | G25: 10 | H25: Объём информации, размещённой на официальном сайте организации по отношению к количеству материалов, размещение которых установлено нормативными правовыми актами | J25: 100 | K25: Количество функционирующих способов взаимодействия (от одного до трёх включительно) | L25: 1 | M25: 30 | T25: Количество комфортных условий для предоставления услуг (от одного до четырёх включительно) | U25: 1 | V25: 20 | Z25: Количество условий доступности организации для инвалидов (от одного до четырёх) | AA25: 1 | AB25: 20 | AC25: Количество условий доступности, позволяющих инвалидам получать услуги наравне с другими (от одного до четырёх) | AD25: 1 | AE25: 20
A26: 6 | B26: МУНИЦИПАЛЬНОЕ КАЗЕННОЕ УЧРЕЖДЕНИЕ КУЛЬТУРЫ "КУЛЬТУРНО-ДОСУГОВЫЙ ЦЕНТР С. ГДЫМ", 0504007125, культурно-досуговые организации | C26: 9 | D26: 9.0 | K26: В наличии и функционируют более трёх дистанционных способов взаимодействия | M26: 100 | T26: Наличие пяти и более комфортных условий для предоставления услуг | V26: 100 | Z26: Наличие пяти и более условий доступности для инвалидов | AB26: 100 | AC26: Наличие пяти и более условий доступности | AE26: 100
A27: 7 | B27: МУНИЦИПАЛЬНОЕ КАЗЕННОЕ УЧРЕЖДЕНИЕ КУЛЬТУРЫ "КУЛЬТУРНО-ДОСУГОВЫЙ ЦЕНТР С. ДЖАБА", 0504007245, культурно-досуговые организации | C27: 8 | D27: 7.0 | E27: Отсутствует информация о деятельности организации | G27: 0 | H27: Отсутствует информация о деятельности организации на её официальном сайте | J27: 0 | K27: Отсутствуют или не функционируют дистанционные способы взаимодействия | M27: 0 | N27: Число получателей услуг, удовлетворённых качеством, полнотой и доступностью информации о деятельности организации, размещённой на информационных стендах в помещении организации по отношению к числу опрошенных получателей услуг, ответивших на соответствующий вопрос анкеты | O27: 4 | P27: 5 | Q27: Число получателей услуг, удовлетворённых качеством, полнотой и доступностью информации о деятельности организации, размещённой на официальном сайте организации по отношению к числу опрошенных получателей услуг, ответивших на соответствующий вопрос анкеты | R27: 4 | S27: 4 | T27: Отсутствуют комфортные условия | V27: 0 | W27: Число получателей услуг, удовлетворённых комфортностью предоставления услуг организацией, по отношению к числу опрошенных получателей услуг, ответивших на данный вопрос | X27: 4 | Y27: 5 | Z27: Отсутствуют условия доступности для инвалидов | AB27: 0 | AC27: Отсутствуют условия доступности, позволяющие инвалидам получать услуги наравне с другими | AE27: 0 | AF27: Число получателей услуг-инвалидов, удовлетворённых доступностью услуг для инвалидов, по отношению к числу опрошенных получателей услуг-инвалидов, ответивших на соответствующий вопрос анкеты | AG27: 2 | AH27: 2 | AI27: Число получателей услуг, удовлетворённых доброжелательностью, вежливостью работников организации, обеспечивающих первичный контакт и информирование получателя услуги, по отношению к числу опрошенных получателей услуг, ответивших на соответствующий вопрос анкеты | AJ27: 5 | AK27: 6 | AL27: Число получателей услуг, удовлетворённых доброжелательностью, вежливостью работников организации, обеспечивающих непосредственное оказание услуги, по отношению к числу опрошенных получателей услуг, ответивших на соответствующий вопрос анкеты | AM27: 4 | AN27: 4 | AO27: Число получателей услуг, удовлетворённых доброжелательностью, вежливостью работников организации при использовании дистанционных форм взаимодействия, по отношению к числу опрошенных получателей услуг, ответивших на соответствующий вопрос анкеты | AP27: 0 | AQ27: 1 | AR27: Число получателей услуг, которые готовы рекомендовать организацию родственникам и знакомым (могли бы её рекомендовать, если бы была возможность выбора организации), по отношению к числу опрошенных получателей услуг, ответивших на соответствующий вопрос анкеты | AS27: 3 | AT27: 3 | AU27: Число получателей услуг, удовлетворённых организационными условиями предоставления услуг, по отношению к числу опрошенных получателей услуг, ответивших на соответствующий вопрос анкеты | AV27: 4 | AW27: 5 | AX27: Число получателей услуг, удовлетворённых в целом условиями оказания услуг в организации, по отношению к числу опрошенных получателей услуг, ответивших на соответствующиий вопрос анкеты | AY27: 7 | AZ27: 7
A28: 7 | B28: МУНИЦИПАЛЬНОЕ КАЗЕННОЕ УЧРЕЖДЕНИЕ КУЛЬТУРЫ "КУЛЬТУРНО-ДОСУГОВЫЙ ЦЕНТР С. ДЖАБА", 0504007245, культурно-досуговые организации | C28: 8 | D28: 7.0 | E28: Объём информации, размещённой на информационных стендах в помещении организации по отношению к количеству материалов, размещение которых установлено нормативными правовыми актами | F28: 3 | G28: 10 | H28: Объём информации, размещённой на официальном сайте организации по отношению к количеству материалов, размещение которых установлено нормативными правовыми актами | I28: 2 | J28: 10 | K28: Количество функционирующих способов взаимодействия (от одного до трёх включительно) | L28: 2 | M28: 30 | T28: Количество комфортных условий для предоставления услуг (от одного до четырёх включительно) | U28: 2 | V28: 20 | Z28: Количество условий доступности организации для инвалидов (от одного до четырёх) | AA28: 2 | AB28: 20 | AC28: Количество условий доступности, позволяющих инвалидам получать услуги наравне с другими (от одного до четырёх) | AD28: 3 | AE28: 20
A29: 7 | B29: МУНИЦИПАЛЬНОЕ КАЗЕННОЕ УЧРЕЖДЕНИЕ КУЛЬТУРЫ "КУЛЬТУРНО-ДОСУГОВЫЙ ЦЕНТР С. ДЖАБА", 0504007245, культурно-досуговые организации | C29: 8 | D29: 7.0 | K29: В наличии и функционируют более трёх дистанционных способов взаимодействия | M29: 100 | T29: Наличие пяти и более комфортных условий для предоставления услуг | V29: 100 | Z29: Наличие пяти и более условий доступности для инвалидов | AB29: 100 | AC29: Наличие пяти и более условий доступности | AE29: 100
A30: 8 | B30: МУНИЦИПАЛЬНОЕ КАЗЕННОЕ УЧРЕЖДЕНИЕ КУЛЬТУРЫ "КУЛЬТУРНО-ДОСУГОВЫЙ ЦЕНТР С. КАКА", 0504007319, культурно-досуговые организации | C30: 27 | D30: 21.0 | E30: Отсутствует информация о деятельности организации | G30: 0 | H30: Отсутствует информация о деятельности организации на её официальном сайте | J30: 0 | K30: Отсутствуют или не функционируют дистанционные способы взаимодействия | M30: 0 | N30: Число получателей услуг, удовлетворённых качеством, полнотой и доступностью информации о деятельности организации, размещённой на информационных стендах в помещении организации по отношению к числу опрошенных получателей услуг, ответивших на соответствующий вопрос анкеты | O30: 8 | P30: 15 | Q30: Число получателей услуг, удовлетворённых качеством, полнотой и доступностью информации о деятельности организации, размещённой на официальном сайте организации по отношению к числу опрошенных получателей услуг, ответивших на соответствующий вопрос анкеты | R30: 5 | S30: 11 | T30: Отсутствуют комфортные условия | V30: 0 | W30: Число получателей услуг, удовлетворённых комфортностью предоставления услуг организацией, по отношению к числу опрошенных получателей услуг, ответивших на данный вопрос | X30: 7 | Y30: 10 | Z30: Отсутствуют условия доступности для инвалидов | AB30: 0 | AC30: Отсутствуют условия доступности, позволяющие инвалидам получать услуги наравне с другими | AE30: 0 | AF30: Число получателей услуг-инвалидов, удовлетворённых доступностью услуг для инвалидов, по отношению к числу опрошенных получателей услуг-инвалидов, ответивших на соответствующий вопрос анкеты | AG30: 4 | AH30: 6 | AI30: Число получателей услуг, удовлетворённых доброжелательностью, вежливостью работников организации, обеспечивающих первичный контакт и информирование получателя услуги, по отношению к числу опрошенных получателей услуг, ответивших на соответствующий вопрос анкеты | AJ30: 17 | AK30: 21 | AL30: Число получателей услуг, удовлетворённых доброжелательностью, вежливостью работников организации, обеспечивающих непосредственное оказание услуги, по отношению к числу опрошенных получателей услуг, ответивших на соответствующий вопрос анкеты | AM30: 12 | AN30: 15 | AO30: Число получателей услуг, удовлетворённых доброжелательностью, вежливостью работников организации при использовании дистанционных форм взаимодействия, по отношению к числу опрошенных получателей услуг, ответивших на соответствующий вопрос анкеты | AP30: 18 | AQ30: 21 | AR30: Число получателей услуг, которые готовы рекомендовать организацию родственникам и знакомым (могли бы её рекомендовать, если бы была возможность выбора организации), по отношению к числу опрошенных получателей услуг, ответивших на соответствующий вопрос анкеты | AS30: 5 | AT30: 9 | AU30: Число получателей услуг, удовлетворённых организационными условиями предоставления услуг, по отношению к числу опрошенных получателей услуг, ответивших на соответствующий вопрос анкеты | AV30: 3 | AW30: 5 | AX30: Число получателей услуг, удовлетворённых в целом условиями оказания услуг в организации, по отношению к числу опрошенных получателей услуг, ответивших на соответствующиий вопрос анкеты | AY30: 4 | AZ30: 7
A31: 8 | B31: МУНИЦИПАЛЬНОЕ КАЗЕННОЕ УЧРЕЖДЕНИЕ КУЛЬТУРЫ "КУЛЬТУРНО-ДОСУГОВЫЙ ЦЕНТР С. КАКА", 0504007319, культурно-досуговые организации | C31: 27 | D31: 21.0 | E31: Объём информации, размещённой на информационных стендах в помещении организации по отношению к количеству материалов, размещение которых установлено нормативными правовыми актами | F31: 5 | G31: 10 | H31: Объём информации, размещённой на официальном сайте организации по отношению к количеству материалов, размещение которых установлено нормативными правовыми актами | I31: 3 | J31: 10 | K31: Количество функционирующих способов взаимодействия (от одного до трёх включительно) | L31: 2 | M31: 30 | T31: Количество комфортных условий для предоставления услуг (от одного до четырёх включительно) | U31: 3 | V31: 20 | Z31: Количество условий доступности организации для инвалидов (от одного до четырёх) | AB31: 20 | AC31: Количество условий доступности, позволяющих инвалидам получать услуги наравне с другими (от одного до четырёх) | AE31: 20
A32: 8 | B32: МУНИЦИПАЛЬНОЕ КАЗЕННОЕ УЧРЕЖДЕНИЕ КУЛЬТУРЫ "КУЛЬТУРНО-ДОСУГОВЫЙ ЦЕНТР С. КАКА", 0504007319, культурно-досуговые организации | C32: 27 | D32: 21.0 | K32: В наличии и функционируют более трёх дистанционных способов взаимодействия | M32: 100 | T32: Наличие пяти и более комфортных условий для предоставления услуг | V32: 100 | Z32: Наличие пяти и более условий доступности для инвалидов | AB32: 100 | AC32: Наличие пяти и более условий доступности | AE32: 100
A33: 9 | B33: МУНИЦИПАЛЬНОЕ КАЗЕННОЕ УЧРЕЖДЕНИЕ КУЛЬТУРЫ "КУЛЬТУРНО-ДОСУГОВЫЙ ЦЕНТР С. ФИЙ" ИМ.АШУГА МАГАМЕДОВА АДИШИРИНА РАМАЗАНОВИЧА, 0504007076, культурно-досуговые организации | C33: 7 | D33: 7.0 | E33: Отсутствует информация о деятельности организации | G33: 0 | H33: Отсутствует информация о деятельности организации на её официальном сайте | J33: 0 | K33: Отсутствуют или не функционируют дистанционные способы взаимодействия | M33: 0 | N33: Число получателей услуг, удовлетворённых качеством, полнотой и доступностью информации о деятельности организации, размещённой на информационных стендах в помещении организации по отношению к числу опрошенных получателей услуг, ответивших на соответствующий вопрос анкеты | O33: 5 | P33: 7 | Q33: Число получателей услуг, удовлетворённых качеством, полнотой и доступностью информации о деятельности организации, размещённой на официальном сайте организации по отношению к числу опрошенных получателей услуг, ответивших на соответствующий вопрос анкеты | R33: 5 | S33: 7 | T33: Отсутствуют комфортные условия | V33: 0 | W33: Число получателей услуг, удовлетворённых комфортностью предоставления услуг организацией, по отношению к числу опрошенных получателей услуг, ответивших на данный вопрос | X33: 5 | Y33: 7 | Z33: Отсутствуют условия доступности для инвалидов | AB33: 0 | AC33: Отсутствуют условия доступности, позволяющие инвалидам получать услуги наравне с другими | AE33: 0 | AF33: Число получателей услуг-инвалидов, удовлетворённых доступностью услуг для инвалидов, по отношению к числу опрошенных получателей услуг-инвалидов, ответивших на соответствующий вопрос анкеты | AG33: 1 | AH33: 1 | AI33: Число получателей услуг, удовлетворённых доброжелательностью, вежливостью работников организации, обеспечивающих первичный контакт и информирование получателя услуги, по отношению к числу опрошенных получателей услуг, ответивших на соответствующий вопрос анкеты | AJ33: 5 | AK33: 7 | AL33: Число получателей услуг, удовлетворённых доброжелательностью, вежливостью работников организации, обеспечивающих непосредственное оказание услуги, по отношению к числу опрошенных получателей услуг, ответивших на соответствующий вопрос анкеты | AM33: 5 | AN33: 6 | AO33: Число получателей услуг, удовлетворённых доброжелательностью, вежливостью работников организации при использовании дистанционных форм взаимодействия, по отношению к числу опрошенных получателей услуг, ответивших на соответствующий вопрос анкеты | AP33: 5 | AQ33: 6 | AR33: Число получателей услуг, которые готовы рекомендовать организацию родственникам и знакомым (могли бы её рекомендовать, если бы была возможность выбора организации), по отношению к числу опрошенных получателей услуг, ответивших на соответствующий вопрос анкеты | AS33: 5 | AT33: 5 | AU33: Число получателей услуг, удовлетворённых организационными условиями предоставления услуг, по отношению к числу опрошенных получателей услуг, ответивших на соответствующий вопрос анкеты | AV33: 4 | AW33: 5 | AX33: Число получателей услуг, удовлетворённых в целом условиями оказания услуг в организации, по отношению к числу опрошенных получателей услуг, ответивших на соответствующиий вопрос анкеты | AY33: 7 | AZ33: 7
A34: 9 | B34: МУНИЦИПАЛЬНОЕ КАЗЕННОЕ УЧРЕЖДЕНИЕ КУЛЬТУРЫ "КУЛЬТУРНО-ДОСУГОВЫЙ ЦЕНТР С. ФИЙ" ИМ.АШУГА МАГАМЕДОВА АДИШИРИНА РАМАЗАНОВИЧА, 0504007076, культурно-досуговые организации | C34: 7 | D34: 7.0 | E34: Объём информации, размещённой на информационных стендах в помещении организации по отношению к количеству материалов, размещение которых установлено нормативными правовыми актами | F34: 1 | G34: 10 | H34: Объём информации, размещённой на официальном сайте организации по отношению к количеству материалов, размещение которых установлено нормативными правовыми актами | J34: 100 | K34: Количество функционирующих способов взаимодействия (от одного до трёх включительно) | L34: 1 | M34: 30 | T34: Количество комфортных условий для предоставления услуг (от одного до четырёх включительно) | U34: 1 | V34: 20 | Z34: Количество условий доступности организации для инвалидов (от одного до четырёх) | AA34: 1 | AB34: 20 | AC34: Количество условий доступности, позволяющих инвалидам получать услуги наравне с другими (от одного до четырёх) | AD34: 1 | AE34: 20
A35: 9 | B35: МУНИЦИПАЛЬНОЕ КАЗЕННОЕ УЧРЕЖДЕНИЕ КУЛЬТУРЫ "КУЛЬТУРНО-ДОСУГОВЫЙ ЦЕНТР С. ФИЙ" ИМ.АШУГА МАГАМЕДОВА АДИШИРИНА РАМАЗАНОВИЧА, 0504007076, культурно-досуговые организации | C35: 7 | D35: 7.0 | K35: В наличии и функционируют более трёх дистанционных способов взаимодействия | M35: 100 | T35: Наличие пяти и более комфортных условий для предоставления услуг | V35: 100 | Z35: Наличие пяти и более условий доступности для инвалидов | AB35: 100 | AC35: Наличие пяти и более условий доступности | AE35: 100
A36: 10 | B36: МУНИЦИПАЛЬНОЕ КАЗЕННОЕ УЧРЕЖДЕНИЕ КУЛЬТУРЫ "КУЛЬТУРНО-ДОСУГОВЫЙ ЦЕНТР С.ХНОВ", 0504006837, культурно-досуговые организации | C36: 19 | D36: 17.0 | E36: Отсутствует информация о деятельности организации | G36: 0 | H36: Отсутствует информация о деятельности организации на её официальном сайте | J36: 0 | K36: Отсутствуют или не функционируют дистанционные способы взаимодействия | M36: 0 | N36: Число получателей услуг, удовлетворённых качеством, полнотой и доступностью информации о деятельности организации, размещённой на информационных стендах в помещении организации по отношению к числу опрошенных получателей услуг, ответивших на соответствующий вопрос анкеты | O36: 15 | P36: 19 | Q36: Число получателей услуг, удовлетворённых качеством, полнотой и доступностью информации о деятельности организации, размещённой на официальном сайте организации по отношению к числу опрошенных получателей услуг, ответивших на соответствующий вопрос анкеты | R36: 15 | S36: 18 | T36: Отсутствуют комфортные условия | V36: 0 | W36: Число получателей услуг, удовлетворённых комфортностью предоставления услуг организацией, по отношению к числу опрошенных получателей услуг, ответивших на данный вопрос | X36: 10 | Y36: 19 | Z36: Отсутствуют условия доступности для инвалидов | AB36: 0 | AC36: Отсутствуют условия доступности, позволяющие инвалидам получать услуги наравне с другими | AE36: 0 | AF36: Число получателей услуг-инвалидов, удовлетворённых доступностью услуг для инвалидов, по отношению к числу опрошенных получателей услуг-инвалидов, ответивших на соответствующий вопрос анкеты | AG36: 2 | AH36: 2 | AI36: Число получателей услуг, удовлетворённых доброжелательностью, вежливостью работников организации, обеспечивающих первичный контакт и информирование получателя услуги, по отношению к числу опрошенных получателей услуг, ответивших на соответствующий вопрос анкеты | AJ36: 15 | AK36: 19 | AL36: Число получателей услуг, удовлетворённых доброжелательностью, вежливостью работников организации, обеспечивающих непосредственное оказание услуги, по отношению к числу опрошенных получателей услуг, ответивших на соответствующий вопрос анкеты | AM36: 18 | AN36: 19 | AO36: Число получателей услуг, удовлетворённых доброжелательностью, вежливостью работников организации при использовании дистанционных форм взаимодействия, по отношению к числу опрошенных получателей услуг, ответивших на соответствующий вопрос анкеты | AP36: 17 | AQ36: 19 | AR36: Число получателей услуг, которые готовы рекомендовать организацию родственникам и знакомым (могли бы её рекомендовать, если бы была возможность выбора организации), по отношению к числу опрошенных получателей услуг, ответивших на соответствующий вопрос анкеты | AS36: 15 | AT36: 18 | AU36: Число получателей услуг, удовлетворённых организационными условиями предоставления услуг, по отношению к числу опрошенных получателей услуг, ответивших на соответствующий вопрос анкеты | AV36: 14 | AW36: 15 | AX36: Число получателей услуг, удовлетворённых в целом условиями оказания услуг в организации, по отношению к числу опрошенных получателей услуг, ответивших на соответствующиий вопрос анкеты | AY36: 16 | AZ36: 18
A37: 10 | B37: МУНИЦИПАЛЬНОЕ КАЗЕННОЕ УЧРЕЖДЕНИЕ КУЛЬТУРЫ "КУЛЬТУРНО-ДОСУГОВЫЙ ЦЕНТР С.ХНОВ", 0504006837, культурно-досуговые организации | C37: 19 | D37: 17.0 | E37: Объём информации, размещённой на информационных стендах в помещении организации по отношению к количеству материалов, размещение которых установлено нормативными правовыми актами | F37: 2 | G37: 10 | H37: Объём информации, размещённой на официальном сайте организации по отношению к количеству материалов, размещение которых установлено нормативными правовыми актами | J37: 100 | K37: Количество функционирующих способов взаимодействия (от одного до трёх включительно) | L37: 1 | M37: 30 | T37: Количество комфортных условий для предоставления услуг (от одного до четырёх включительно) | U37: 1 | V37: 20 | Z37: Количество условий доступности организации для инвалидов (от одного до четырёх) | AA37: 1 | AB37: 20 | AC37: Количество условий доступности, позволяющих инвалидам получать услуги наравне с другими (от одного до четырёх) | AD37: 1 | AE37: 20
A38: 10 | B38: МУНИЦИПАЛЬНОЕ КАЗЕННОЕ УЧРЕЖДЕНИЕ КУЛЬТУРЫ "КУЛЬТУРНО-ДОСУГОВЫЙ ЦЕНТР С.ХНОВ", 0504006837, культурно-досуговые организации | C38: 19 | D38: 17.0 | K38: В наличии и функционируют более трёх дистанционных способов взаимодействия | M38: 100 | T38: Наличие пяти и более комфортных условий для предоставления услуг | V38: 100 | Z38: Наличие пяти и более условий доступности для инвалидов | AB38: 100 | AC38: Наличие пяти и более условий доступности | AE38: 100
A39: 11 | B39: МУНИЦИПАЛЬНОЕ КАЗЕННОЕ УЧРЕЖДЕНИЕ КУЛЬТУРЫ "МЕЖПОСЕЛЕНЧЕСКИЙ КУЛЬТУРНО-ДОСУГОВЫЙ ЦЕНТР МУНИЦИПАЛЬНОГО РАЙОНА "АХТЫНСКИЙ РАЙОН", 0504007990, культурно-досуговые организации | C39: 8 | D39: 7.0 | E39: Отсутствует информация о деятельности организации | G39: 0 | H39: Отсутствует информация о деятельности организации на её официальном сайте | J39: 0 | K39: Отсутствуют или не функционируют дистанционные способы взаимодействия | M39: 0 | N39: Число получателей услуг, удовлетворённых качеством, полнотой и доступностью информации о деятельности организации, размещённой на информационных стендах в помещении организации по отношению к числу опрошенных получателей услуг, ответивших на соответствующий вопрос анкеты | O39: 5 | P39: 7 | Q39: Число получателей услуг, удовлетворённых качеством, полнотой и доступностью информации о деятельности организации, размещённой на официальном сайте организации по отношению к числу опрошенных получателей услуг, ответивших на соответствующий вопрос анкеты | R39: 5 | S39: 7 | T39: Отсутствуют комфортные условия | V39: 0 | W39: Число получателей услуг, удовлетворённых комфортностью предоставления услуг организацией, по отношению к числу опрошенных получателей услуг, ответивших на данный вопрос | X39: 7 | Y39: 8 | Z39: Отсутствуют условия доступности для инвалидов | AB39: 0 | AC39: Отсутствуют условия доступности, позволяющие инвалидам получать услуги наравне с другими | AE39: 0 | AF39: Число получателей услуг-инвалидов, удовлетворённых доступностью услуг для инвалидов, по отношению к числу опрошенных получателей услуг-инвалидов, ответивших на соответствующий вопрос анкеты | AG39: 7 | AH39: 8 | AI39: Число получателей услуг, удовлетворённых доброжелательностью, вежливостью работников организации, обеспечивающих первичный контакт и информирование получателя услуги, по отношению к числу опрошенных получателей услуг, ответивших на соответствующий вопрос анкеты | AJ39: 6 | AK39: 7 | AL39: Число получателей услуг, удовлетворённых доброжелательностью, вежливостью работников организации, обеспечивающих непосредственное оказание услуги, по отношению к числу опрошенных получателей услуг, ответивших на соответствующий вопрос анкеты | AM39: 5 | AN39: 5 | AO39: Число получателей услуг, удовлетворённых доброжелательностью, вежливостью работников организации при использовании дистанционных форм взаимодействия, по отношению к числу опрошенных получателей услуг, ответивших на соответствующий вопрос анкеты | AP39: 5 | AQ39: 7 | AR39: Число получателей услуг, которые готовы рекомендовать организацию родственникам и знакомым (могли бы её рекомендовать, если бы была возможность выбора организации), по отношению к числу опрошенных получателей услуг, ответивших на соответствующий вопрос анкеты | AS39: 4 | AT39: 5 | AU39: Число получателей услуг, удовлетворённых организационными условиями предоставления услуг, по отношению к числу опрошенных получателей услуг, ответивших на соответствующий вопрос анкеты | AV39: 5 | AW39: 5 | AX39: Число получателей услуг, удовлетворённых в целом условиями оказания услуг в организации, по отношению к числу опрошенных получателей услуг, ответивших на соответствующиий вопрос анкеты | AY39: 4 | AZ39: 5
A40: 11 | B40: МУНИЦИПАЛЬНОЕ КАЗЕННОЕ УЧРЕЖДЕНИЕ КУЛЬТУРЫ "МЕЖПОСЕЛЕНЧЕСКИЙ КУЛЬТУРНО-ДОСУГОВЫЙ ЦЕНТР МУНИЦИПАЛЬНОГО РАЙОНА "АХТЫНСКИЙ РАЙОН", 0504007990, культурно-досуговые организации | C40: 8 | D40: 7.0 | E40: Объём информации, размещённой на информационных стендах в помещении организации по отношению к количеству материалов, размещение которых установлено нормативными правовыми актами | F40: 1 | G40: 10 | H40: Объём информации, размещённой на официальном сайте организации по отношению к количеству материалов, размещение которых установлено нормативными правовыми актами | J40: 100 | K40: Количество функционирующих способов взаимодействия (от одного до трёх включительно) | L40: 2 | M40: 30 | T40: Количество комфортных условий для предоставления услуг (от одного до четырёх включительно) | U40: 2 | V40: 20 | Z40: Количество условий доступности организации для инвалидов (от одного до четырёх) | AA40: 2 | AB40: 20 | AC40: Количество условий доступности, позволяющих инвалидам получать услуги наравне с другими (от одного до четырёх) | AD40: 2 | AE40: 20
A41: 11 | B41: МУНИЦИПАЛЬНОЕ КАЗЕННОЕ УЧРЕЖДЕНИЕ КУЛЬТУРЫ "МЕЖПОСЕЛЕНЧЕСКИЙ КУЛЬТУРНО-ДОСУГОВЫЙ ЦЕНТР МУНИЦИПАЛЬНОГО РАЙОНА "АХТЫНСКИЙ РАЙОН", 0504007990, культурно-досуговые организации | C41: 8 | D41: 7.0 | K41: В наличии и функционируют более трёх дистанционных способов взаимодействия | M41: 100 | T41: Наличие пяти и более комфортных условий для предоставления услуг | V41: 100 | Z41: Наличие пяти и более условий доступности для инвалидов | AB41: 100 | AC41: Наличие пяти и более условий доступности | AE41: 100
